BEGIN:VCALENDAR
PRODID:-//eluceo/ical//2.0/EN
VERSION:2.0
CALSCALE:GREGORIAN
BEGIN:VEVENT
UID:https://hbb.rivio.dev/senioren/2017/wedstrijd/18523
DTSTAMP:20260420T103315Z
SUMMARY:Con Brio 3 - Con Brio 4
DESCRIPTION:Baan 4\, Wedstrijdnummer 16\, Afdeling Hoofdklasse D
DTSTART:20170921T200000
DTEND:20170921T230000
LOCATION:City Resort Helmond
ATTACH;FMTTYPE=text/plain:https://hbb.rivio.dev/senioren/2017/wedstrijd/185
 23
END:VEVENT
BEGIN:VEVENT
UID:https://hbb.rivio.dev/senioren/2017/wedstrijd/18563
DTSTAMP:20260420T103315Z
SUMMARY:Bakel 1 - Con Brio 4
DESCRIPTION:Baan 1\, Wedstrijdnummer 22\, Afdeling Hoofdklasse D
DTSTART:20171005T200000
DTEND:20171005T230000
LOCATION:City Resort Helmond
ATTACH;FMTTYPE=text/plain:https://hbb.rivio.dev/senioren/2017/wedstrijd/185
 63
END:VEVENT
BEGIN:VEVENT
UID:https://hbb.rivio.dev/senioren/2017/wedstrijd/18584
DTSTAMP:20260420T103315Z
SUMMARY:Con Brio 4 - Brabantia 1
DESCRIPTION:Baan 15\, Wedstrijdnummer 29\, Afdeling Hoofdklasse D
DTSTART:20171011T200000
DTEND:20171011T230000
LOCATION:City Resort Helmond
ATTACH;FMTTYPE=text/plain:https://hbb.rivio.dev/senioren/2017/wedstrijd/185
 84
END:VEVENT
BEGIN:VEVENT
UID:https://hbb.rivio.dev/senioren/2017/wedstrijd/18604
DTSTAMP:20260420T103315Z
SUMMARY:Con Brio 4 - Mixed 1
DESCRIPTION:Baan 5\, Wedstrijdnummer 31\, Afdeling Hoofdklasse D
DTSTART:20171108T200000
DTEND:20171108T230000
LOCATION:City Resort Helmond
ATTACH;FMTTYPE=text/plain:https://hbb.rivio.dev/senioren/2017/wedstrijd/186
 04
END:VEVENT
BEGIN:VEVENT
UID:https://hbb.rivio.dev/senioren/2017/wedstrijd/18680
DTSTAMP:20260420T103315Z
SUMMARY:Con Brio 4 - BCV '73 1
DESCRIPTION:Baan 10\, Wedstrijdnummer 38\, Afdeling Hoofdklasse D
DTSTART:20171130T200000
DTEND:20171130T230000
LOCATION:City Resort Helmond
ATTACH;FMTTYPE=text/plain:https://hbb.rivio.dev/senioren/2017/wedstrijd/186
 80
END:VEVENT
BEGIN:VEVENT
UID:https://hbb.rivio.dev/senioren/2017/wedstrijd/18697
DTSTAMP:20260420T103315Z
SUMMARY:Mierlo 2 - Con Brio 4
DESCRIPTION:Baan 1\, Wedstrijdnummer 44\, Afdeling Hoofdklasse K
DTSTART:20171213T200000
DTEND:20171213T230000
LOCATION:City Resort Helmond
ATTACH;FMTTYPE=text/plain:https://hbb.rivio.dev/senioren/2017/wedstrijd/186
 97
END:VEVENT
BEGIN:VEVENT
UID:https://hbb.rivio.dev/senioren/2017/wedstrijd/18756
DTSTAMP:20260420T103315Z
SUMMARY:Fair Play 1 - Con Brio 4
DESCRIPTION:Baan 2\, Wedstrijdnummer 48\, Afdeling Hoofdklasse K
DTSTART:20180124T200000
DTEND:20180124T230000
LOCATION:City Resort Helmond
ATTACH;FMTTYPE=text/plain:https://hbb.rivio.dev/senioren/2017/wedstrijd/187
 56
END:VEVENT
BEGIN:VEVENT
UID:https://hbb.rivio.dev/senioren/2017/wedstrijd/18787
DTSTAMP:20260420T103315Z
SUMMARY:Con Brio 4 - Hanevoet 1
DESCRIPTION:Baan 2\, Wedstrijdnummer 52\, Afdeling Hoofdklasse D
DTSTART:20180201T200000
DTEND:20180201T230000
LOCATION:City Resort Helmond
ATTACH;FMTTYPE=text/plain:https://hbb.rivio.dev/senioren/2017/wedstrijd/187
 87
END:VEVENT
BEGIN:VEVENT
UID:https://hbb.rivio.dev/senioren/2017/wedstrijd/18801
DTSTAMP:20260420T103315Z
SUMMARY:Con Brio 4 - Smashing Bruang 1
DESCRIPTION:Baan 5\, Wedstrijdnummer 60\, Afdeling Hoofdklasse D
DTSTART:20180207T200000
DTEND:20180207T230000
LOCATION:City Resort Helmond
ATTACH;FMTTYPE=text/plain:https://hbb.rivio.dev/senioren/2017/wedstrijd/188
 01
END:VEVENT
BEGIN:VEVENT
UID:https://hbb.rivio.dev/senioren/2017/wedstrijd/20117
DTSTAMP:20260420T103315Z
SUMMARY:Con Brio 4 - Con Brio 3
DESCRIPTION:Baan 11\, Wedstrijdnummer 1313\, Afdeling Hoofdklasse D
DTSTART:20180221T200000
DTEND:20180221T230000
LOCATION:City Resort Helmond
ATTACH;FMTTYPE=text/plain:https://hbb.rivio.dev/senioren/2017/wedstrijd/201
 17
END:VEVENT
BEGIN:VEVENT
UID:https://hbb.rivio.dev/senioren/2017/wedstrijd/20119
DTSTAMP:20260420T103315Z
SUMMARY:Con Brio 4 - Bakel 1
DESCRIPTION:Baan 5\, Wedstrijdnummer 1309\, Afdeling Hoofdklasse D
DTSTART:20180314T200000
DTEND:20180314T230000
LOCATION:City Resort Helmond
ATTACH;FMTTYPE=text/plain:https://hbb.rivio.dev/senioren/2017/wedstrijd/201
 19
END:VEVENT
BEGIN:VEVENT
UID:https://hbb.rivio.dev/senioren/2017/wedstrijd/20123
DTSTAMP:20260420T103315Z
SUMMARY:Brabantia 1 - Con Brio 4
DESCRIPTION:Baan 13\, Wedstrijdnummer 1307\, Afdeling Hoofdklasse D
DTSTART:20180404T200000
DTEND:20180404T230000
LOCATION:City Resort Helmond
ATTACH;FMTTYPE=text/plain:https://hbb.rivio.dev/senioren/2017/wedstrijd/201
 23
END:VEVENT
BEGIN:VEVENT
UID:https://hbb.rivio.dev/senioren/2017/wedstrijd/20125
DTSTAMP:20260420T103315Z
SUMMARY:Smashing Bruang 1 - Con Brio 4
DESCRIPTION:Baan 2\, Wedstrijdnummer 1315\, Afdeling Hoofdklasse D
DTSTART:20180516T200000
DTEND:20180516T230000
LOCATION:City Resort Helmond
ATTACH;FMTTYPE=text/plain:https://hbb.rivio.dev/senioren/2017/wedstrijd/201
 25
END:VEVENT
BEGIN:VTIMEZONE
TZID:Europe/Amsterdam
BEGIN:STANDARD
DTSTART:20170101T000000
TZNAME:CET
TZOFFSETTO:+0100
TZOFFSETFROM:+0100
END:STANDARD
BEGIN:DAYLIGHT
DTSTART:20170326T030000
TZNAME:CEST
TZOFFSETTO:+0200
TZOFFSETFROM:+0100
END:DAYLIGHT
BEGIN:STANDARD
DTSTART:20171029T020000
TZNAME:CET
TZOFFSETTO:+0100
TZOFFSETFROM:+0200
END:STANDARD
BEGIN:DAYLIGHT
DTSTART:20180325T030000
TZNAME:CEST
TZOFFSETTO:+0200
TZOFFSETFROM:+0100
END:DAYLIGHT
BEGIN:STANDARD
DTSTART:20181028T020000
TZNAME:CET
TZOFFSETTO:+0100
TZOFFSETFROM:+0200
END:STANDARD
END:VTIMEZONE
END:VCALENDAR
