BEGIN:VCALENDAR
PRODID:-//eluceo/ical//2.0/EN
VERSION:2.0
CALSCALE:GREGORIAN
BEGIN:VEVENT
UID:https://hbb.rivio.dev/senioren/2017/wedstrijd/18510
DTSTAMP:20260420T090046Z
SUMMARY:Con Brio 1 - Con Brio 2
DESCRIPTION:Baan 2\, Wedstrijdnummer 1\, Afdeling Topklasse K
DTSTART:20170920T200000
DTEND:20170920T230000
LOCATION:City Resort Helmond
ATTACH;FMTTYPE=text/plain:https://hbb.rivio.dev/senioren/2017/wedstrijd/185
 10
END:VEVENT
BEGIN:VEVENT
UID:https://hbb.rivio.dev/senioren/2017/wedstrijd/18537
DTSTAMP:20260420T090046Z
SUMMARY:Phoenix 1 - Con Brio 2
DESCRIPTION:Baan 12\, Wedstrijdnummer 5\, Afdeling Topklasse D
DTSTART:20170927T200000
DTEND:20170927T230000
LOCATION:City Resort Helmond
ATTACH;FMTTYPE=text/plain:https://hbb.rivio.dev/senioren/2017/wedstrijd/185
 37
END:VEVENT
BEGIN:VEVENT
UID:https://hbb.rivio.dev/senioren/2017/wedstrijd/18597
DTSTAMP:20260420T090046Z
SUMMARY:Con Brio 2 - BCAB 1
DESCRIPTION:Baan 2\, Wedstrijdnummer 8\, Afdeling Topklasse D
DTSTART:20171102T200000
DTEND:20171102T230000
LOCATION:City Resort Helmond
ATTACH;FMTTYPE=text/plain:https://hbb.rivio.dev/senioren/2017/wedstrijd/185
 97
END:VEVENT
BEGIN:VEVENT
UID:https://hbb.rivio.dev/senioren/2017/wedstrijd/18631
DTSTAMP:20260420T090046Z
SUMMARY:Con Brio 2 - Ganzeveer 1
DESCRIPTION:Baan 14\, Wedstrijdnummer 11\, Afdeling Topklasse D
DTSTART:20171115T200000
DTEND:20171115T230000
LOCATION:City Resort Helmond
ATTACH;FMTTYPE=text/plain:https://hbb.rivio.dev/senioren/2017/wedstrijd/186
 31
END:VEVENT
BEGIN:VEVENT
UID:https://hbb.rivio.dev/senioren/2017/wedstrijd/18647
DTSTAMP:20260420T090046Z
SUMMARY:Con Brio 2 - Mierlo 1
DESCRIPTION:Baan 4\, Wedstrijdnummer 14\, Afdeling Topklasse D
DTSTART:20171122T200000
DTEND:20171122T230000
LOCATION:City Resort Helmond
ATTACH;FMTTYPE=text/plain:https://hbb.rivio.dev/senioren/2017/wedstrijd/186
 47
END:VEVENT
BEGIN:VEVENT
UID:https://hbb.rivio.dev/senioren/2017/wedstrijd/18699
DTSTAMP:20260420T090046Z
SUMMARY:Con Brio 2 - Con Brio 1
DESCRIPTION:Baan 3\, Wedstrijdnummer 1001\, Afdeling Topklasse D
DTSTART:20171213T200000
DTEND:20171213T230000
LOCATION:City Resort Helmond
ATTACH;FMTTYPE=text/plain:https://hbb.rivio.dev/senioren/2017/wedstrijd/186
 99
END:VEVENT
BEGIN:VEVENT
UID:https://hbb.rivio.dev/senioren/2017/wedstrijd/18733
DTSTAMP:20260420T090046Z
SUMMARY:Con Brio 2 - Phoenix 1
DESCRIPTION:Baan 5\, Wedstrijdnummer 1005\, Afdeling Topklasse D
DTSTART:20180111T200000
DTEND:20180111T230000
LOCATION:City Resort Helmond
ATTACH;FMTTYPE=text/plain:https://hbb.rivio.dev/senioren/2017/wedstrijd/187
 33
END:VEVENT
BEGIN:VEVENT
UID:https://hbb.rivio.dev/senioren/2017/wedstrijd/18792
DTSTAMP:20260420T090046Z
SUMMARY:BCAB 1 - Con Brio 2
DESCRIPTION:Baan 11\, Wedstrijdnummer 1008\, Afdeling Topklasse K
DTSTART:20180201T200000
DTEND:20180201T230000
LOCATION:City Resort Helmond
ATTACH;FMTTYPE=text/plain:https://hbb.rivio.dev/senioren/2017/wedstrijd/187
 92
END:VEVENT
BEGIN:VEVENT
UID:https://hbb.rivio.dev/senioren/2017/wedstrijd/18819
DTSTAMP:20260420T090046Z
SUMMARY:Ganzeveer 1 - Con Brio 2
DESCRIPTION:Baan 2\, Wedstrijdnummer 1011\, Afdeling Topklasse D
DTSTART:20180221T200000
DTEND:20180221T230000
LOCATION:City Resort Helmond
ATTACH;FMTTYPE=text/plain:https://hbb.rivio.dev/senioren/2017/wedstrijd/188
 19
END:VEVENT
BEGIN:VEVENT
UID:https://hbb.rivio.dev/senioren/2017/wedstrijd/18840
DTSTAMP:20260420T090046Z
SUMMARY:Mierlo 1 - Con Brio 2
DESCRIPTION:Baan 5\, Wedstrijdnummer 1014\, Afdeling Topklasse K
DTSTART:20180228T200000
DTEND:20180228T230000
LOCATION:City Resort Helmond
ATTACH;FMTTYPE=text/plain:https://hbb.rivio.dev/senioren/2017/wedstrijd/188
 40
END:VEVENT
BEGIN:VEVENT
UID:https://hbb.rivio.dev/senioren/2017/wedstrijd/20143
DTSTAMP:20260420T090046Z
SUMMARY:Con Brio 2 - Phoenix 1
DESCRIPTION:Baan 2\, Wedstrijdnummer 1303\, Afdeling Topklasse D
DTSTART:20180404T200000
DTEND:20180404T230000
LOCATION:City Resort Helmond
ATTACH;FMTTYPE=text/plain:https://hbb.rivio.dev/senioren/2017/wedstrijd/201
 43
END:VEVENT
BEGIN:VEVENT
UID:https://hbb.rivio.dev/senioren/2017/wedstrijd/20144
DTSTAMP:20260420T090046Z
SUMMARY:Ganzeveer 1 - Con Brio 2
DESCRIPTION:Baan 10\, Wedstrijdnummer 1305\, Afdeling Topklasse D
DTSTART:20180418T200000
DTEND:20180418T230000
LOCATION:City Resort Helmond
ATTACH;FMTTYPE=text/plain:https://hbb.rivio.dev/senioren/2017/wedstrijd/201
 44
END:VEVENT
BEGIN:VTIMEZONE
TZID:Europe/Amsterdam
BEGIN:STANDARD
DTSTART:20170101T000000
TZNAME:CET
TZOFFSETTO:+0100
TZOFFSETFROM:+0100
END:STANDARD
BEGIN:DAYLIGHT
DTSTART:20170326T030000
TZNAME:CEST
TZOFFSETTO:+0200
TZOFFSETFROM:+0100
END:DAYLIGHT
BEGIN:STANDARD
DTSTART:20171029T020000
TZNAME:CET
TZOFFSETTO:+0100
TZOFFSETFROM:+0200
END:STANDARD
BEGIN:DAYLIGHT
DTSTART:20180325T030000
TZNAME:CEST
TZOFFSETTO:+0200
TZOFFSETFROM:+0100
END:DAYLIGHT
BEGIN:STANDARD
DTSTART:20181028T020000
TZNAME:CET
TZOFFSETTO:+0100
TZOFFSETFROM:+0200
END:STANDARD
END:VTIMEZONE
END:VCALENDAR
