BEGIN:VCALENDAR
PRODID:-//eluceo/ical//2.0/EN
VERSION:2.0
CALSCALE:GREGORIAN
BEGIN:VEVENT
UID:https://hbb.rivio.dev/senioren/2017/wedstrijd/18510
DTSTAMP:20260420T181117Z
SUMMARY:Con Brio 1 - Con Brio 2
DESCRIPTION:Baan 2\, Wedstrijdnummer 1\, Afdeling Topklasse K
DTSTART:20170920T200000
DTEND:20170920T230000
LOCATION:City Resort Helmond
ATTACH;FMTTYPE=text/plain:https://hbb.rivio.dev/senioren/2017/wedstrijd/185
 10
END:VEVENT
BEGIN:VEVENT
UID:https://hbb.rivio.dev/senioren/2017/wedstrijd/18573
DTSTAMP:20260420T181117Z
SUMMARY:BCAB 1 - Con Brio 1
DESCRIPTION:Baan 15\, Wedstrijdnummer 4\, Afdeling Topklasse K
DTSTART:20171005T200000
DTEND:20171005T230000
LOCATION:City Resort Helmond
ATTACH;FMTTYPE=text/plain:https://hbb.rivio.dev/senioren/2017/wedstrijd/185
 73
END:VEVENT
BEGIN:VEVENT
UID:https://hbb.rivio.dev/senioren/2017/wedstrijd/18577
DTSTAMP:20260420T181117Z
SUMMARY:Ganzeveer 1 - Con Brio 1
DESCRIPTION:Baan 4\, Wedstrijdnummer 7\, Afdeling Topklasse D
DTSTART:20171011T200000
DTEND:20171011T230000
LOCATION:City Resort Helmond
ATTACH;FMTTYPE=text/plain:https://hbb.rivio.dev/senioren/2017/wedstrijd/185
 77
END:VEVENT
BEGIN:VEVENT
UID:https://hbb.rivio.dev/senioren/2017/wedstrijd/18607
DTSTAMP:20260420T181117Z
SUMMARY:Mierlo 1 - Con Brio 1
DESCRIPTION:Baan 12\, Wedstrijdnummer 10\, Afdeling Topklasse K
DTSTART:20171108T200000
DTEND:20171108T230000
LOCATION:City Resort Helmond
ATTACH;FMTTYPE=text/plain:https://hbb.rivio.dev/senioren/2017/wedstrijd/186
 07
END:VEVENT
BEGIN:VEVENT
UID:https://hbb.rivio.dev/senioren/2017/wedstrijd/18665
DTSTAMP:20260420T181117Z
SUMMARY:Con Brio 1 - Phoenix 1
DESCRIPTION:Baan 1\, Wedstrijdnummer 13\, Afdeling Topklasse K
DTSTART:20171129T200000
DTEND:20171129T230000
LOCATION:City Resort Helmond
ATTACH;FMTTYPE=text/plain:https://hbb.rivio.dev/senioren/2017/wedstrijd/186
 65
END:VEVENT
BEGIN:VEVENT
UID:https://hbb.rivio.dev/senioren/2017/wedstrijd/18699
DTSTAMP:20260420T181117Z
SUMMARY:Con Brio 2 - Con Brio 1
DESCRIPTION:Baan 3\, Wedstrijdnummer 1001\, Afdeling Topklasse D
DTSTART:20171213T200000
DTEND:20171213T230000
LOCATION:City Resort Helmond
ATTACH;FMTTYPE=text/plain:https://hbb.rivio.dev/senioren/2017/wedstrijd/186
 99
END:VEVENT
BEGIN:VEVENT
UID:https://hbb.rivio.dev/senioren/2017/wedstrijd/18741
DTSTAMP:20260420T181117Z
SUMMARY:Con Brio 1 - BCAB 1
DESCRIPTION:Baan 13\, Wedstrijdnummer 1004\, Afdeling Topklasse K
DTSTART:20180117T200000
DTEND:20180117T230000
LOCATION:City Resort Helmond
ATTACH;FMTTYPE=text/plain:https://hbb.rivio.dev/senioren/2017/wedstrijd/187
 41
END:VEVENT
BEGIN:VEVENT
UID:https://hbb.rivio.dev/senioren/2017/wedstrijd/18780
DTSTAMP:20260420T181117Z
SUMMARY:Con Brio 1 - Ganzeveer 1
DESCRIPTION:Baan 5\, Wedstrijdnummer 1007\, Afdeling Topklasse K
DTSTART:20180131T200000
DTEND:20180131T230000
LOCATION:City Resort Helmond
ATTACH;FMTTYPE=text/plain:https://hbb.rivio.dev/senioren/2017/wedstrijd/187
 80
END:VEVENT
BEGIN:VEVENT
UID:https://hbb.rivio.dev/senioren/2017/wedstrijd/18818
DTSTAMP:20260420T181117Z
SUMMARY:Con Brio 1 - Mierlo 1
DESCRIPTION:Baan 1\, Wedstrijdnummer 1010\, Afdeling Topklasse K
DTSTART:20180221T200000
DTEND:20180221T230000
LOCATION:City Resort Helmond
ATTACH;FMTTYPE=text/plain:https://hbb.rivio.dev/senioren/2017/wedstrijd/188
 18
END:VEVENT
BEGIN:VEVENT
UID:https://hbb.rivio.dev/senioren/2017/wedstrijd/18839
DTSTAMP:20260420T181117Z
SUMMARY:Phoenix 1 - Con Brio 1
DESCRIPTION:Baan 4\, Wedstrijdnummer 1013\, Afdeling Topklasse D
DTSTART:20180228T200000
DTEND:20180228T230000
LOCATION:City Resort Helmond
ATTACH;FMTTYPE=text/plain:https://hbb.rivio.dev/senioren/2017/wedstrijd/188
 39
END:VEVENT
BEGIN:VEVENT
UID:https://hbb.rivio.dev/senioren/2017/wedstrijd/20145
DTSTAMP:20260420T181117Z
SUMMARY:Mierlo 1 - Con Brio 1
DESCRIPTION:Baan 1\, Wedstrijdnummer 1300\, Afdeling Topklasse K
DTSTART:20180321T200000
DTEND:20180321T230000
LOCATION:City Resort Helmond
ATTACH;FMTTYPE=text/plain:https://hbb.rivio.dev/senioren/2017/wedstrijd/201
 45
END:VEVENT
BEGIN:VEVENT
UID:https://hbb.rivio.dev/senioren/2017/wedstrijd/20147
DTSTAMP:20260420T181117Z
SUMMARY:Con Brio 1 - BCAB 1
DESCRIPTION:Baan 11\, Wedstrijdnummer 1304\, Afdeling Topklasse K
DTSTART:20180516T200000
DTEND:20180516T230000
LOCATION:City Resort Helmond
ATTACH;FMTTYPE=text/plain:https://hbb.rivio.dev/senioren/2017/wedstrijd/201
 47
END:VEVENT
BEGIN:VTIMEZONE
TZID:Europe/Amsterdam
BEGIN:STANDARD
DTSTART:20170101T000000
TZNAME:CET
TZOFFSETTO:+0100
TZOFFSETFROM:+0100
END:STANDARD
BEGIN:DAYLIGHT
DTSTART:20170326T030000
TZNAME:CEST
TZOFFSETTO:+0200
TZOFFSETFROM:+0100
END:DAYLIGHT
BEGIN:STANDARD
DTSTART:20171029T020000
TZNAME:CET
TZOFFSETTO:+0100
TZOFFSETFROM:+0200
END:STANDARD
BEGIN:DAYLIGHT
DTSTART:20180325T030000
TZNAME:CEST
TZOFFSETTO:+0200
TZOFFSETFROM:+0100
END:DAYLIGHT
BEGIN:STANDARD
DTSTART:20181028T020000
TZNAME:CET
TZOFFSETTO:+0100
TZOFFSETFROM:+0200
END:STANDARD
END:VTIMEZONE
END:VCALENDAR
