BEGIN:VCALENDAR
PRODID:-//eluceo/ical//2.0/EN
VERSION:2.0
CALSCALE:GREGORIAN
BEGIN:VEVENT
UID:https://hbb.rivio.dev/senioren/2017/wedstrijd/18516
DTSTAMP:20260420T133921Z
SUMMARY:BC '85 3 - Gemert 3
DESCRIPTION:Baan 12\, Wedstrijdnummer 226\, Afdeling 4e klasse II D
DTSTART:20170920T200000
DTEND:20170920T230000
LOCATION:City Resort Helmond
ATTACH;FMTTYPE=text/plain:https://hbb.rivio.dev/senioren/2017/wedstrijd/185
 16
END:VEVENT
BEGIN:VEVENT
UID:https://hbb.rivio.dev/senioren/2017/wedstrijd/18557
DTSTAMP:20260420T133921Z
SUMMARY:Smashing Bruang 3 - Gemert 3
DESCRIPTION:Baan 10\, Wedstrijdnummer 230\, Afdeling 4e klasse II K
DTSTART:20171004T200000
DTEND:20171004T230000
LOCATION:City Resort Helmond
ATTACH;FMTTYPE=text/plain:https://hbb.rivio.dev/senioren/2017/wedstrijd/185
 57
END:VEVENT
BEGIN:VEVENT
UID:https://hbb.rivio.dev/senioren/2017/wedstrijd/18582
DTSTAMP:20260420T133921Z
SUMMARY:Gemert 3 - Mierlo 10
DESCRIPTION:Baan 13\, Wedstrijdnummer 233\, Afdeling 4e klasse II D
DTSTART:20171011T200000
DTEND:20171011T230000
LOCATION:City Resort Helmond
ATTACH;FMTTYPE=text/plain:https://hbb.rivio.dev/senioren/2017/wedstrijd/185
 82
END:VEVENT
BEGIN:VEVENT
UID:https://hbb.rivio.dev/senioren/2017/wedstrijd/18628
DTSTAMP:20260420T133921Z
SUMMARY:Gemert 3 - Mixed 8
DESCRIPTION:Baan 11\, Wedstrijdnummer 236\, Afdeling 4e klasse II D
DTSTART:20171115T200000
DTEND:20171115T230000
LOCATION:City Resort Helmond
ATTACH;FMTTYPE=text/plain:https://hbb.rivio.dev/senioren/2017/wedstrijd/186
 28
END:VEVENT
BEGIN:VEVENT
UID:https://hbb.rivio.dev/senioren/2017/wedstrijd/18692
DTSTAMP:20260420T133921Z
SUMMARY:Gemert 3 - Someren 4
DESCRIPTION:Baan 11\, Wedstrijdnummer 239\, Afdeling 4e klasse II D
DTSTART:20171207T200000
DTEND:20171207T230000
LOCATION:City Resort Helmond
ATTACH;FMTTYPE=text/plain:https://hbb.rivio.dev/senioren/2017/wedstrijd/186
 92
END:VEVENT
BEGIN:VEVENT
UID:https://hbb.rivio.dev/senioren/2017/wedstrijd/18705
DTSTAMP:20260420T133921Z
SUMMARY:Gemert 3 - BC '85 3
DESCRIPTION:Baan 14\, Wedstrijdnummer 1226\, Afdeling 4e klasse II D
DTSTART:20171213T200000
DTEND:20171213T230000
LOCATION:City Resort Helmond
ATTACH;FMTTYPE=text/plain:https://hbb.rivio.dev/senioren/2017/wedstrijd/187
 05
END:VEVENT
BEGIN:VEVENT
UID:https://hbb.rivio.dev/senioren/2017/wedstrijd/18743
DTSTAMP:20260420T133921Z
SUMMARY:Gemert 3 - Smashing Bruang 3
DESCRIPTION:Baan 15\, Wedstrijdnummer 1230\, Afdeling 4e klasse II D
DTSTART:20180117T200000
DTEND:20180117T230000
LOCATION:City Resort Helmond
ATTACH;FMTTYPE=text/plain:https://hbb.rivio.dev/senioren/2017/wedstrijd/187
 43
END:VEVENT
BEGIN:VEVENT
UID:https://hbb.rivio.dev/senioren/2017/wedstrijd/18764
DTSTAMP:20260420T133921Z
SUMMARY:Mierlo 10 - Gemert 3
DESCRIPTION:Baan 15\, Wedstrijdnummer 1233\, Afdeling 4e klasse II D
DTSTART:20180124T200000
DTEND:20180124T230000
LOCATION:City Resort Helmond
ATTACH;FMTTYPE=text/plain:https://hbb.rivio.dev/senioren/2017/wedstrijd/187
 64
END:VEVENT
BEGIN:VEVENT
UID:https://hbb.rivio.dev/senioren/2017/wedstrijd/18806
DTSTAMP:20260420T133921Z
SUMMARY:Mixed 8 - Gemert 3
DESCRIPTION:Baan 15\, Wedstrijdnummer 1236\, Afdeling 4e klasse II K
DTSTART:20180207T200000
DTEND:20180207T230000
LOCATION:City Resort Helmond
ATTACH;FMTTYPE=text/plain:https://hbb.rivio.dev/senioren/2017/wedstrijd/188
 06
END:VEVENT
BEGIN:VEVENT
UID:https://hbb.rivio.dev/senioren/2017/wedstrijd/18864
DTSTAMP:20260420T133921Z
SUMMARY:Someren 4 - Gemert 3
DESCRIPTION:Baan 11\, Wedstrijdnummer 1239\, Afdeling 4e klasse II K
DTSTART:20180308T200000
DTEND:20180308T230000
LOCATION:City Resort Helmond
ATTACH;FMTTYPE=text/plain:https://hbb.rivio.dev/senioren/2017/wedstrijd/188
 64
END:VEVENT
BEGIN:VEVENT
UID:https://hbb.rivio.dev/senioren/2017/wedstrijd/20160
DTSTAMP:20260420T133921Z
SUMMARY:Gemert 3 - Mierlo 10
DESCRIPTION:Baan 13\, Wedstrijdnummer 1353\, Afdeling 4e klasse II D
DTSTART:20180328T200000
DTEND:20180328T230000
LOCATION:City Resort Helmond
ATTACH;FMTTYPE=text/plain:https://hbb.rivio.dev/senioren/2017/wedstrijd/201
 60
END:VEVENT
BEGIN:VEVENT
UID:https://hbb.rivio.dev/senioren/2017/wedstrijd/20161
DTSTAMP:20260420T133921Z
SUMMARY:BC '85 3 - Gemert 3
DESCRIPTION:Baan 4\, Wedstrijdnummer 1355\, Afdeling 4e klasse II D
DTSTART:20180418T200000
DTEND:20180418T230000
LOCATION:City Resort Helmond
ATTACH;FMTTYPE=text/plain:https://hbb.rivio.dev/senioren/2017/wedstrijd/201
 61
END:VEVENT
BEGIN:VTIMEZONE
TZID:Europe/Amsterdam
BEGIN:STANDARD
DTSTART:20170101T000000
TZNAME:CET
TZOFFSETTO:+0100
TZOFFSETFROM:+0100
END:STANDARD
BEGIN:DAYLIGHT
DTSTART:20170326T030000
TZNAME:CEST
TZOFFSETTO:+0200
TZOFFSETFROM:+0100
END:DAYLIGHT
BEGIN:STANDARD
DTSTART:20171029T020000
TZNAME:CET
TZOFFSETTO:+0100
TZOFFSETFROM:+0200
END:STANDARD
BEGIN:DAYLIGHT
DTSTART:20180325T030000
TZNAME:CEST
TZOFFSETTO:+0200
TZOFFSETFROM:+0100
END:DAYLIGHT
BEGIN:STANDARD
DTSTART:20181028T020000
TZNAME:CET
TZOFFSETTO:+0100
TZOFFSETFROM:+0200
END:STANDARD
END:VTIMEZONE
END:VCALENDAR
