BEGIN:VCALENDAR
PRODID:-//eluceo/ical//2.0/EN
VERSION:2.0
CALSCALE:GREGORIAN
BEGIN:VEVENT
UID:https://hbb.rivio.dev/senioren/2017/wedstrijd/18522
DTSTAMP:20260420T170014Z
SUMMARY:Hanevoet 2 - Mierlo 7
DESCRIPTION:Baan 3\, Wedstrijdnummer 121\, Afdeling 2e klasse I
DTSTART:20170921T200000
DTEND:20170921T230000
LOCATION:City Resort Helmond
ATTACH;FMTTYPE=text/plain:https://hbb.rivio.dev/senioren/2017/wedstrijd/185
 22
END:VEVENT
BEGIN:VEVENT
UID:https://hbb.rivio.dev/senioren/2017/wedstrijd/18539
DTSTAMP:20260420T170014Z
SUMMARY:Mierlo 7 - Mixed 5
DESCRIPTION:Baan 14\, Wedstrijdnummer 125\, Afdeling 2e klasse I
DTSTART:20170927T200000
DTEND:20170927T230000
LOCATION:City Resort Helmond
ATTACH;FMTTYPE=text/plain:https://hbb.rivio.dev/senioren/2017/wedstrijd/185
 39
END:VEVENT
BEGIN:VEVENT
UID:https://hbb.rivio.dev/senioren/2017/wedstrijd/18606
DTSTAMP:20260420T170014Z
SUMMARY:Gemert 1 - Mierlo 7
DESCRIPTION:Baan 11\, Wedstrijdnummer 133\, Afdeling 2e klasse I
DTSTART:20171108T200000
DTEND:20171108T230000
LOCATION:City Resort Helmond
ATTACH;FMTTYPE=text/plain:https://hbb.rivio.dev/senioren/2017/wedstrijd/186
 06
END:VEVENT
BEGIN:VEVENT
UID:https://hbb.rivio.dev/senioren/2017/wedstrijd/18644
DTSTAMP:20260420T170014Z
SUMMARY:Mierlo 7 - Phoenix 3
DESCRIPTION:Baan 1\, Wedstrijdnummer 137\, Afdeling 2e klasse I
DTSTART:20171122T200000
DTEND:20171122T230000
LOCATION:City Resort Helmond
ATTACH;FMTTYPE=text/plain:https://hbb.rivio.dev/senioren/2017/wedstrijd/186
 44
END:VEVENT
BEGIN:VEVENT
UID:https://hbb.rivio.dev/senioren/2017/wedstrijd/18696
DTSTAMP:20260420T170014Z
SUMMARY:BCAB 4 - Mierlo 7
DESCRIPTION:Baan 15\, Wedstrijdnummer 140\, Afdeling 2e klasse I
DTSTART:20171207T200000
DTEND:20171207T230000
LOCATION:City Resort Helmond
ATTACH;FMTTYPE=text/plain:https://hbb.rivio.dev/senioren/2017/wedstrijd/186
 96
END:VEVENT
BEGIN:VEVENT
UID:https://hbb.rivio.dev/senioren/2017/wedstrijd/18755
DTSTAMP:20260420T170014Z
SUMMARY:Mierlo 7 - Dommelen 1
DESCRIPTION:Baan 1\, Wedstrijdnummer 144\, Afdeling 2e klasse I
DTSTART:20180124T200000
DTEND:20180124T230000
LOCATION:City Resort Helmond
ATTACH;FMTTYPE=text/plain:https://hbb.rivio.dev/senioren/2017/wedstrijd/187
 55
END:VEVENT
BEGIN:VEVENT
UID:https://hbb.rivio.dev/senioren/2017/wedstrijd/18786
DTSTAMP:20260420T170014Z
SUMMARY:Mierlo 7 - Hanevoet 2
DESCRIPTION:Baan 1\, Wedstrijdnummer 1121\, Afdeling 2e klasse I
DTSTART:20180201T200000
DTEND:20180201T230000
LOCATION:City Resort Helmond
ATTACH;FMTTYPE=text/plain:https://hbb.rivio.dev/senioren/2017/wedstrijd/187
 86
END:VEVENT
BEGIN:VEVENT
UID:https://hbb.rivio.dev/senioren/2017/wedstrijd/18785
DTSTAMP:20260420T170014Z
SUMMARY:Mixed 5 - Mierlo 7
DESCRIPTION:Baan 14\, Wedstrijdnummer 1125\, Afdeling 2e klasse I
DTSTART:20180207T200000
DTEND:20180207T230000
LOCATION:City Resort Helmond
ATTACH;FMTTYPE=text/plain:https://hbb.rivio.dev/senioren/2017/wedstrijd/187
 85
END:VEVENT
BEGIN:VEVENT
UID:https://hbb.rivio.dev/senioren/2017/wedstrijd/18871
DTSTAMP:20260420T170014Z
SUMMARY:Mierlo 7 - Gemert 1
DESCRIPTION:Baan 3\, Wedstrijdnummer 1133\, Afdeling 2e klasse I
DTSTART:20180314T200000
DTEND:20180314T230000
LOCATION:City Resort Helmond
ATTACH;FMTTYPE=text/plain:https://hbb.rivio.dev/senioren/2017/wedstrijd/188
 71
END:VEVENT
BEGIN:VEVENT
UID:https://hbb.rivio.dev/senioren/2017/wedstrijd/18884
DTSTAMP:20260420T170014Z
SUMMARY:Phoenix 3 - Mierlo 7
DESCRIPTION:Baan 14\, Wedstrijdnummer 1137\, Afdeling 2e klasse I
DTSTART:20180321T200000
DTEND:20180321T230000
LOCATION:City Resort Helmond
ATTACH;FMTTYPE=text/plain:https://hbb.rivio.dev/senioren/2017/wedstrijd/188
 84
END:VEVENT
BEGIN:VEVENT
UID:https://hbb.rivio.dev/senioren/2017/wedstrijd/18903
DTSTAMP:20260420T170014Z
SUMMARY:Mierlo 7 - BCAB 4
DESCRIPTION:Baan 12\, Wedstrijdnummer 1140\, Afdeling 2e klasse I
DTSTART:20180329T200000
DTEND:20180329T230000
LOCATION:City Resort Helmond
ATTACH;FMTTYPE=text/plain:https://hbb.rivio.dev/senioren/2017/wedstrijd/189
 03
END:VEVENT
BEGIN:VEVENT
UID:https://hbb.rivio.dev/senioren/2017/wedstrijd/18924
DTSTAMP:20260420T170014Z
SUMMARY:Dommelen 1 - Mierlo 7
DESCRIPTION:Baan 4\, Wedstrijdnummer 1144\, Afdeling 2e klasse I
DTSTART:20180516T200000
DTEND:20180516T230000
LOCATION:City Resort Helmond
ATTACH;FMTTYPE=text/plain:https://hbb.rivio.dev/senioren/2017/wedstrijd/189
 24
END:VEVENT
BEGIN:VTIMEZONE
TZID:Europe/Amsterdam
BEGIN:STANDARD
DTSTART:20170101T000000
TZNAME:CET
TZOFFSETTO:+0100
TZOFFSETFROM:+0100
END:STANDARD
BEGIN:DAYLIGHT
DTSTART:20170326T030000
TZNAME:CEST
TZOFFSETTO:+0200
TZOFFSETFROM:+0100
END:DAYLIGHT
BEGIN:STANDARD
DTSTART:20171029T020000
TZNAME:CET
TZOFFSETTO:+0100
TZOFFSETFROM:+0200
END:STANDARD
BEGIN:DAYLIGHT
DTSTART:20180325T030000
TZNAME:CEST
TZOFFSETTO:+0200
TZOFFSETFROM:+0100
END:DAYLIGHT
BEGIN:STANDARD
DTSTART:20181028T020000
TZNAME:CET
TZOFFSETTO:+0100
TZOFFSETFROM:+0200
END:STANDARD
END:VTIMEZONE
END:VCALENDAR
