BEGIN:VCALENDAR
PRODID:-//eluceo/ical//2.0/EN
VERSION:2.0
CALSCALE:GREGORIAN
BEGIN:VEVENT
UID:https://hbb.rivio.dev/senioren/2017/wedstrijd/18534
DTSTAMP:20260420T202331Z
SUMMARY:Heeze 1 - Mierlo 5
DESCRIPTION:Baan 4\, Wedstrijdnummer 93\, Afdeling 1e klasse 
DTSTART:20170927T200000
DTEND:20170927T230000
LOCATION:City Resort Helmond
ATTACH;FMTTYPE=text/plain:https://hbb.rivio.dev/senioren/2017/wedstrijd/185
 34
END:VEVENT
BEGIN:VEVENT
UID:https://hbb.rivio.dev/senioren/2017/wedstrijd/18561
DTSTAMP:20260420T202331Z
SUMMARY:Mierlo 5 - Mixed 4
DESCRIPTION:Baan 14\, Wedstrijdnummer 97\, Afdeling 1e klasse 
DTSTART:20171004T200000
DTEND:20171004T230000
LOCATION:City Resort Helmond
ATTACH;FMTTYPE=text/plain:https://hbb.rivio.dev/senioren/2017/wedstrijd/185
 61
END:VEVENT
BEGIN:VEVENT
UID:https://hbb.rivio.dev/senioren/2017/wedstrijd/18861
DTSTAMP:20260420T202331Z
SUMMARY:Mierlo 5 - Smashing Bruang 2
DESCRIPTION:Baan 2\, Wedstrijdnummer 1102\, Afdeling 1e klasse 
DTSTART:20171108T200000
DTEND:20171108T230000
LOCATION:City Resort Helmond
ATTACH;FMTTYPE=text/plain:https://hbb.rivio.dev/senioren/2017/wedstrijd/188
 61
END:VEVENT
BEGIN:VEVENT
UID:https://hbb.rivio.dev/senioren/2017/wedstrijd/18662
DTSTAMP:20260420T202331Z
SUMMARY:Eindhoven 1 - Mierlo 5
DESCRIPTION:Baan 13\, Wedstrijdnummer 105\, Afdeling 1e klasse 
DTSTART:20171123T200000
DTEND:20171123T230000
LOCATION:City Resort Helmond
ATTACH;FMTTYPE=text/plain:https://hbb.rivio.dev/senioren/2017/wedstrijd/186
 62
END:VEVENT
BEGIN:VEVENT
UID:https://hbb.rivio.dev/senioren/2017/wedstrijd/18666
DTSTAMP:20260420T202331Z
SUMMARY:Mierlo 5 - Con Brio 6
DESCRIPTION:Baan 2\, Wedstrijdnummer 109\, Afdeling 1e klasse 
DTSTART:20171129T200000
DTEND:20171129T230000
LOCATION:City Resort Helmond
ATTACH;FMTTYPE=text/plain:https://hbb.rivio.dev/senioren/2017/wedstrijd/186
 66
END:VEVENT
BEGIN:VEVENT
UID:https://hbb.rivio.dev/senioren/2017/wedstrijd/18701
DTSTAMP:20260420T202331Z
SUMMARY:Con Brio 5 - Mierlo 5
DESCRIPTION:Baan 5\, Wedstrijdnummer 112\, Afdeling 1e klasse 
DTSTART:20171213T200000
DTEND:20171213T230000
LOCATION:City Resort Helmond
ATTACH;FMTTYPE=text/plain:https://hbb.rivio.dev/senioren/2017/wedstrijd/187
 01
END:VEVENT
BEGIN:VEVENT
UID:https://hbb.rivio.dev/senioren/2017/wedstrijd/18752
DTSTAMP:20260420T202331Z
SUMMARY:Mierlo 5 - Bakel 2
DESCRIPTION:Baan 13\, Wedstrijdnummer 116\, Afdeling 1e klasse 
DTSTART:20180118T200000
DTEND:20180118T230000
LOCATION:City Resort Helmond
ATTACH;FMTTYPE=text/plain:https://hbb.rivio.dev/senioren/2017/wedstrijd/187
 52
END:VEVENT
BEGIN:VEVENT
UID:https://hbb.rivio.dev/senioren/2017/wedstrijd/18782
DTSTAMP:20260420T202331Z
SUMMARY:Mierlo 5 - Heeze 1
DESCRIPTION:Baan 12\, Wedstrijdnummer 1093\, Afdeling 1e klasse 
DTSTART:20180131T200000
DTEND:20180131T230000
LOCATION:City Resort Helmond
ATTACH;FMTTYPE=text/plain:https://hbb.rivio.dev/senioren/2017/wedstrijd/187
 82
END:VEVENT
BEGIN:VEVENT
UID:https://hbb.rivio.dev/senioren/2017/wedstrijd/18846
DTSTAMP:20260420T202331Z
SUMMARY:Mixed 4 - Mierlo 5
DESCRIPTION:Baan 15\, Wedstrijdnummer 1097\, Afdeling 1e klasse 
DTSTART:20180228T200000
DTEND:20180228T230000
LOCATION:City Resort Helmond
ATTACH;FMTTYPE=text/plain:https://hbb.rivio.dev/senioren/2017/wedstrijd/188
 46
END:VEVENT
BEGIN:VEVENT
UID:https://hbb.rivio.dev/senioren/2017/wedstrijd/18601
DTSTAMP:20260420T202331Z
SUMMARY:Smashing Bruang 2 - Mierlo 5
DESCRIPTION:Baan 4\, Wedstrijdnummer 102\, Afdeling 1e klasse 
DTSTART:20180308T200000
DTEND:20180308T230000
LOCATION:City Resort Helmond
ATTACH;FMTTYPE=text/plain:https://hbb.rivio.dev/senioren/2017/wedstrijd/186
 01
END:VEVENT
BEGIN:VEVENT
UID:https://hbb.rivio.dev/senioren/2017/wedstrijd/18883
DTSTAMP:20260420T202331Z
SUMMARY:Mierlo 5 - Eindhoven 1
DESCRIPTION:Baan 15\, Wedstrijdnummer 1105\, Afdeling 1e klasse 
DTSTART:20180315T200000
DTEND:20180315T230000
LOCATION:City Resort Helmond
ATTACH;FMTTYPE=text/plain:https://hbb.rivio.dev/senioren/2017/wedstrijd/188
 83
END:VEVENT
BEGIN:VEVENT
UID:https://hbb.rivio.dev/senioren/2017/wedstrijd/18901
DTSTAMP:20260420T202331Z
SUMMARY:Con Brio 6 - Mierlo 5
DESCRIPTION:Baan 10\, Wedstrijdnummer 1109\, Afdeling 1e klasse 
DTSTART:20180329T200000
DTEND:20180329T230000
LOCATION:City Resort Helmond
ATTACH;FMTTYPE=text/plain:https://hbb.rivio.dev/senioren/2017/wedstrijd/189
 01
END:VEVENT
BEGIN:VEVENT
UID:https://hbb.rivio.dev/senioren/2017/wedstrijd/18913
DTSTAMP:20260420T202331Z
SUMMARY:Mierlo 5 - Con Brio 5
DESCRIPTION:Baan 1\, Wedstrijdnummer 1112\, Afdeling 1e klasse 
DTSTART:20180419T200000
DTEND:20180419T230000
LOCATION:City Resort Helmond
ATTACH;FMTTYPE=text/plain:https://hbb.rivio.dev/senioren/2017/wedstrijd/189
 13
END:VEVENT
BEGIN:VEVENT
UID:https://hbb.rivio.dev/senioren/2017/wedstrijd/18926
DTSTAMP:20260420T202331Z
SUMMARY:Bakel 2 - Mierlo 5
DESCRIPTION:Baan 13\, Wedstrijdnummer 1116\, Afdeling 1e klasse 
DTSTART:20180516T200000
DTEND:20180516T230000
LOCATION:City Resort Helmond
ATTACH;FMTTYPE=text/plain:https://hbb.rivio.dev/senioren/2017/wedstrijd/189
 26
END:VEVENT
BEGIN:VTIMEZONE
TZID:Europe/Amsterdam
BEGIN:STANDARD
DTSTART:20170101T000000
TZNAME:CET
TZOFFSETTO:+0100
TZOFFSETFROM:+0100
END:STANDARD
BEGIN:DAYLIGHT
DTSTART:20170326T030000
TZNAME:CEST
TZOFFSETTO:+0200
TZOFFSETFROM:+0100
END:DAYLIGHT
BEGIN:STANDARD
DTSTART:20171029T020000
TZNAME:CET
TZOFFSETTO:+0100
TZOFFSETFROM:+0200
END:STANDARD
BEGIN:DAYLIGHT
DTSTART:20180325T030000
TZNAME:CEST
TZOFFSETTO:+0200
TZOFFSETFROM:+0100
END:DAYLIGHT
BEGIN:STANDARD
DTSTART:20181028T020000
TZNAME:CET
TZOFFSETTO:+0100
TZOFFSETFROM:+0200
END:STANDARD
END:VTIMEZONE
END:VCALENDAR
