BEGIN:VCALENDAR
PRODID:-//eluceo/ical//2.0/EN
VERSION:2.0
CALSCALE:GREGORIAN
BEGIN:VEVENT
UID:https://hbb.rivio.dev/senioren/2017/wedstrijd/18515
DTSTAMP:20260420T202817Z
SUMMARY:BC '85 1 - Mierlo 4
DESCRIPTION:Baan 11\, Wedstrijdnummer 61\, Afdeling Overgangsklasse I D
DTSTART:20170920T200000
DTEND:20170920T230000
LOCATION:City Resort Helmond
ATTACH;FMTTYPE=text/plain:https://hbb.rivio.dev/senioren/2017/wedstrijd/185
 15
END:VEVENT
BEGIN:VEVENT
UID:https://hbb.rivio.dev/senioren/2017/wedstrijd/18591
DTSTAMP:20260420T202817Z
SUMMARY:Someren 1 - Mierlo 4
DESCRIPTION:Baan 11\, Wedstrijdnummer 65\, Afdeling Overgangsklasse I D
DTSTART:20171012T200000
DTEND:20171012T230000
LOCATION:City Resort Helmond
ATTACH;FMTTYPE=text/plain:https://hbb.rivio.dev/senioren/2017/wedstrijd/185
 91
END:VEVENT
BEGIN:VEVENT
UID:https://hbb.rivio.dev/senioren/2017/wedstrijd/18625
DTSTAMP:20260420T202817Z
SUMMARY:Mierlo 4 - Mixed 2
DESCRIPTION:Baan 4\, Wedstrijdnummer 71\, Afdeling Overgangsklasse I K
DTSTART:20171115T200000
DTEND:20171115T230000
LOCATION:City Resort Helmond
ATTACH;FMTTYPE=text/plain:https://hbb.rivio.dev/senioren/2017/wedstrijd/186
 25
END:VEVENT
BEGIN:VEVENT
UID:https://hbb.rivio.dev/senioren/2017/wedstrijd/18656
DTSTAMP:20260420T202817Z
SUMMARY:Mierlo 4 - BCAB 2
DESCRIPTION:Baan 3\, Wedstrijdnummer 68\, Afdeling Overgangsklasse I K
DTSTART:20171123T200000
DTEND:20171123T230000
LOCATION:City Resort Helmond
ATTACH;FMTTYPE=text/plain:https://hbb.rivio.dev/senioren/2017/wedstrijd/186
 56
END:VEVENT
BEGIN:VEVENT
UID:https://hbb.rivio.dev/senioren/2017/wedstrijd/18669
DTSTAMP:20260420T202817Z
SUMMARY:Mierlo 4 - Phoenix 2
DESCRIPTION:Baan 5\, Wedstrijdnummer 74\, Afdeling Overgangsklasse I K
DTSTART:20171129T200000
DTEND:20171129T230000
LOCATION:City Resort Helmond
ATTACH;FMTTYPE=text/plain:https://hbb.rivio.dev/senioren/2017/wedstrijd/186
 69
END:VEVENT
BEGIN:VEVENT
UID:https://hbb.rivio.dev/senioren/2017/wedstrijd/18703
DTSTAMP:20260420T202817Z
SUMMARY:Mierlo 4 - BC '85 1
DESCRIPTION:Baan 12\, Wedstrijdnummer 1061\, Afdeling Overgangsklasse I K
DTSTART:20171213T200000
DTEND:20171213T230000
LOCATION:City Resort Helmond
ATTACH;FMTTYPE=text/plain:https://hbb.rivio.dev/senioren/2017/wedstrijd/187
 03
END:VEVENT
BEGIN:VEVENT
UID:https://hbb.rivio.dev/senioren/2017/wedstrijd/18766
DTSTAMP:20260420T202817Z
SUMMARY:Mierlo 4 - Someren 1
DESCRIPTION:Baan 2\, Wedstrijdnummer 1065\, Afdeling Overgangsklasse I K
DTSTART:20180125T200000
DTEND:20180125T230000
LOCATION:City Resort Helmond
ATTACH;FMTTYPE=text/plain:https://hbb.rivio.dev/senioren/2017/wedstrijd/187
 66
END:VEVENT
BEGIN:VEVENT
UID:https://hbb.rivio.dev/senioren/2017/wedstrijd/18796
DTSTAMP:20260420T202817Z
SUMMARY:BCAB 2 - Mierlo 4
DESCRIPTION:Baan 15\, Wedstrijdnummer 1068\, Afdeling Overgangsklasse I K
DTSTART:20180201T200000
DTEND:20180201T230000
LOCATION:City Resort Helmond
ATTACH;FMTTYPE=text/plain:https://hbb.rivio.dev/senioren/2017/wedstrijd/187
 96
END:VEVENT
BEGIN:VEVENT
UID:https://hbb.rivio.dev/senioren/2017/wedstrijd/18822
DTSTAMP:20260420T202817Z
SUMMARY:Mixed 2 - Mierlo 4
DESCRIPTION:Baan 10\, Wedstrijdnummer 1071\, Afdeling Overgangsklasse I K
DTSTART:20180221T200000
DTEND:20180221T230000
LOCATION:City Resort Helmond
ATTACH;FMTTYPE=text/plain:https://hbb.rivio.dev/senioren/2017/wedstrijd/188
 22
END:VEVENT
BEGIN:VEVENT
UID:https://hbb.rivio.dev/senioren/2017/wedstrijd/18841
DTSTAMP:20260420T202817Z
SUMMARY:Phoenix 2 - Mierlo 4
DESCRIPTION:Baan 10\, Wedstrijdnummer 1074\, Afdeling Overgangsklasse I D
DTSTART:20180228T200000
DTEND:20180228T230000
LOCATION:City Resort Helmond
ATTACH;FMTTYPE=text/plain:https://hbb.rivio.dev/senioren/2017/wedstrijd/188
 41
END:VEVENT
BEGIN:VEVENT
UID:https://hbb.rivio.dev/senioren/2017/wedstrijd/20136
DTSTAMP:20260420T202817Z
SUMMARY:Mierlo 4 - BCAB 2
DESCRIPTION:Baan 3\, Wedstrijdnummer 1326\, Afdeling Overgangsklasse I K
DTSTART:20180321T200000
DTEND:20180321T230000
LOCATION:City Resort Helmond
ATTACH;FMTTYPE=text/plain:https://hbb.rivio.dev/senioren/2017/wedstrijd/201
 36
END:VEVENT
BEGIN:VEVENT
UID:https://hbb.rivio.dev/senioren/2017/wedstrijd/20138
DTSTAMP:20260420T202817Z
SUMMARY:Mierlo 4 - Mixed 2
DESCRIPTION:Baan 1\, Wedstrijdnummer 1330\, Afdeling Overgangsklasse I K
DTSTART:20180418T200000
DTEND:20180418T230000
LOCATION:City Resort Helmond
ATTACH;FMTTYPE=text/plain:https://hbb.rivio.dev/senioren/2017/wedstrijd/201
 38
END:VEVENT
BEGIN:VTIMEZONE
TZID:Europe/Amsterdam
BEGIN:STANDARD
DTSTART:20170101T000000
TZNAME:CET
TZOFFSETTO:+0100
TZOFFSETFROM:+0100
END:STANDARD
BEGIN:DAYLIGHT
DTSTART:20170326T030000
TZNAME:CEST
TZOFFSETTO:+0200
TZOFFSETFROM:+0100
END:DAYLIGHT
BEGIN:STANDARD
DTSTART:20171029T020000
TZNAME:CET
TZOFFSETTO:+0100
TZOFFSETFROM:+0200
END:STANDARD
BEGIN:DAYLIGHT
DTSTART:20180325T030000
TZNAME:CEST
TZOFFSETTO:+0200
TZOFFSETFROM:+0100
END:DAYLIGHT
BEGIN:STANDARD
DTSTART:20181028T020000
TZNAME:CET
TZOFFSETTO:+0100
TZOFFSETFROM:+0200
END:STANDARD
END:VTIMEZONE
END:VCALENDAR
