BEGIN:VCALENDAR
PRODID:-//eluceo/ical//2.0/EN
VERSION:2.0
CALSCALE:GREGORIAN
BEGIN:VEVENT
UID:https://hbb.rivio.dev/senioren/2017/wedstrijd/18533
DTSTAMP:20260420T165914Z
SUMMARY:RBC 1 - Mierlo 3
DESCRIPTION:Baan 3\, Wedstrijdnummer 76\, Afdeling Overgangsklasse II D
DTSTART:20170927T200000
DTEND:20170927T230000
LOCATION:City Resort Helmond
ATTACH;FMTTYPE=text/plain:https://hbb.rivio.dev/senioren/2017/wedstrijd/185
 33
END:VEVENT
BEGIN:VEVENT
UID:https://hbb.rivio.dev/senioren/2017/wedstrijd/18594
DTSTAMP:20260420T165914Z
SUMMARY:Veldhoven 1 - Mierlo 3
DESCRIPTION:Baan 14\, Wedstrijdnummer 80\, Afdeling Overgangsklasse II D
DTSTART:20171012T200000
DTEND:20171012T230000
LOCATION:City Resort Helmond
ATTACH;FMTTYPE=text/plain:https://hbb.rivio.dev/senioren/2017/wedstrijd/185
 94
END:VEVENT
BEGIN:VEVENT
UID:https://hbb.rivio.dev/senioren/2017/wedstrijd/18602
DTSTAMP:20260420T165914Z
SUMMARY:Mierlo 3 - Brabantia 2
DESCRIPTION:Baan 3\, Wedstrijdnummer 83\, Afdeling Overgangsklasse II K
DTSTART:20171108T200000
DTEND:20171108T230000
LOCATION:City Resort Helmond
ATTACH;FMTTYPE=text/plain:https://hbb.rivio.dev/senioren/2017/wedstrijd/186
 02
END:VEVENT
BEGIN:VEVENT
UID:https://hbb.rivio.dev/senioren/2017/wedstrijd/18636
DTSTAMP:20260420T165914Z
SUMMARY:Mierlo 3 - BCAB 3
DESCRIPTION:Baan 4\, Wedstrijdnummer 86\, Afdeling Overgangsklasse II K
DTSTART:20171116T200000
DTEND:20171116T230000
LOCATION:City Resort Helmond
ATTACH;FMTTYPE=text/plain:https://hbb.rivio.dev/senioren/2017/wedstrijd/186
 36
END:VEVENT
BEGIN:VEVENT
UID:https://hbb.rivio.dev/senioren/2017/wedstrijd/18651
DTSTAMP:20260420T165914Z
SUMMARY:Mierlo 3 - Mixed 3
DESCRIPTION:Baan 13\, Wedstrijdnummer 89\, Afdeling Overgangsklasse II K
DTSTART:20171122T200000
DTEND:20171122T230000
LOCATION:City Resort Helmond
ATTACH;FMTTYPE=text/plain:https://hbb.rivio.dev/senioren/2017/wedstrijd/186
 51
END:VEVENT
BEGIN:VEVENT
UID:https://hbb.rivio.dev/senioren/2017/wedstrijd/18673
DTSTAMP:20260420T165914Z
SUMMARY:Mierlo 3 - RBC 1
DESCRIPTION:Baan 14\, Wedstrijdnummer 1076\, Afdeling Overgangsklasse II K
DTSTART:20171129T200000
DTEND:20171129T230000
LOCATION:City Resort Helmond
ATTACH;FMTTYPE=text/plain:https://hbb.rivio.dev/senioren/2017/wedstrijd/186
 73
END:VEVENT
BEGIN:VEVENT
UID:https://hbb.rivio.dev/senioren/2017/wedstrijd/18769
DTSTAMP:20260420T165914Z
SUMMARY:Mierlo 3 - Veldhoven 1
DESCRIPTION:Baan 5\, Wedstrijdnummer 1080\, Afdeling Overgangsklasse II K
DTSTART:20180125T200000
DTEND:20180125T230000
LOCATION:City Resort Helmond
ATTACH;FMTTYPE=text/plain:https://hbb.rivio.dev/senioren/2017/wedstrijd/187
 69
END:VEVENT
BEGIN:VEVENT
UID:https://hbb.rivio.dev/senioren/2017/wedstrijd/18802
DTSTAMP:20260420T165914Z
SUMMARY:Brabantia 2 - Mierlo 3
DESCRIPTION:Baan 11\, Wedstrijdnummer 1083\, Afdeling Overgangsklasse II K
DTSTART:20180207T200000
DTEND:20180207T230000
LOCATION:City Resort Helmond
ATTACH;FMTTYPE=text/plain:https://hbb.rivio.dev/senioren/2017/wedstrijd/188
 02
END:VEVENT
BEGIN:VEVENT
UID:https://hbb.rivio.dev/senioren/2017/wedstrijd/18835
DTSTAMP:20260420T165914Z
SUMMARY:BCAB 3 - Mierlo 3
DESCRIPTION:Baan 13\, Wedstrijdnummer 1086\, Afdeling Overgangsklasse II D
DTSTART:20180222T200000
DTEND:20180222T230000
LOCATION:City Resort Helmond
ATTACH;FMTTYPE=text/plain:https://hbb.rivio.dev/senioren/2017/wedstrijd/188
 35
END:VEVENT
BEGIN:VEVENT
UID:https://hbb.rivio.dev/senioren/2017/wedstrijd/18865
DTSTAMP:20260420T165914Z
SUMMARY:Mixed 3 - Mierlo 3
DESCRIPTION:Baan 12\, Wedstrijdnummer 1089\, Afdeling Overgangsklasse II K
DTSTART:20180308T200000
DTEND:20180308T230000
LOCATION:City Resort Helmond
ATTACH;FMTTYPE=text/plain:https://hbb.rivio.dev/senioren/2017/wedstrijd/188
 65
END:VEVENT
BEGIN:VEVENT
UID:https://hbb.rivio.dev/senioren/2017/wedstrijd/20162
DTSTAMP:20260420T165914Z
SUMMARY:Brabantia 2 - Mierlo 3
DESCRIPTION:Baan 4\, Wedstrijdnummer 1332\, Afdeling Overgangsklasse II K
DTSTART:20180322T200000
DTEND:20180322T230000
LOCATION:City Resort Helmond
ATTACH;FMTTYPE=text/plain:https://hbb.rivio.dev/senioren/2017/wedstrijd/201
 62
END:VEVENT
BEGIN:VEVENT
UID:https://hbb.rivio.dev/senioren/2017/wedstrijd/20164
DTSTAMP:20260420T165914Z
SUMMARY:Mierlo 3 - Mixed 3
DESCRIPTION:Baan 5\, Wedstrijdnummer 1336\, Afdeling Overgangsklasse II K
DTSTART:20180418T200000
DTEND:20180418T230000
LOCATION:City Resort Helmond
ATTACH;FMTTYPE=text/plain:https://hbb.rivio.dev/senioren/2017/wedstrijd/201
 64
END:VEVENT
BEGIN:VTIMEZONE
TZID:Europe/Amsterdam
BEGIN:STANDARD
DTSTART:20170101T000000
TZNAME:CET
TZOFFSETTO:+0100
TZOFFSETFROM:+0100
END:STANDARD
BEGIN:DAYLIGHT
DTSTART:20170326T030000
TZNAME:CEST
TZOFFSETTO:+0200
TZOFFSETFROM:+0100
END:DAYLIGHT
BEGIN:STANDARD
DTSTART:20171029T020000
TZNAME:CET
TZOFFSETTO:+0100
TZOFFSETFROM:+0200
END:STANDARD
BEGIN:DAYLIGHT
DTSTART:20180325T030000
TZNAME:CEST
TZOFFSETTO:+0200
TZOFFSETFROM:+0100
END:DAYLIGHT
BEGIN:STANDARD
DTSTART:20181028T020000
TZNAME:CET
TZOFFSETTO:+0100
TZOFFSETFROM:+0200
END:STANDARD
END:VTIMEZONE
END:VCALENDAR
