BEGIN:VCALENDAR
PRODID:-//eluceo/ical//2.0/EN
VERSION:2.0
CALSCALE:GREGORIAN
BEGIN:VEVENT
UID:https://hbb.rivio.dev/senioren/2017/wedstrijd/18526
DTSTAMP:20260420T165919Z
SUMMARY:BCV '73 1 - Mierlo 2
DESCRIPTION:Baan 11\, Wedstrijdnummer 18\, Afdeling Hoofdklasse K
DTSTART:20170921T200000
DTEND:20170921T230000
LOCATION:City Resort Helmond
ATTACH;FMTTYPE=text/plain:https://hbb.rivio.dev/senioren/2017/wedstrijd/185
 26
END:VEVENT
BEGIN:VEVENT
UID:https://hbb.rivio.dev/senioren/2017/wedstrijd/18564
DTSTAMP:20260420T165919Z
SUMMARY:Hanevoet 1 - Mierlo 2
DESCRIPTION:Baan 2\, Wedstrijdnummer 24\, Afdeling Hoofdklasse K
DTSTART:20171005T200000
DTEND:20171005T230000
LOCATION:City Resort Helmond
ATTACH;FMTTYPE=text/plain:https://hbb.rivio.dev/senioren/2017/wedstrijd/185
 64
END:VEVENT
BEGIN:VEVENT
UID:https://hbb.rivio.dev/senioren/2017/wedstrijd/18575
DTSTAMP:20260420T165919Z
SUMMARY:Mierlo 2 - Fair Play 1
DESCRIPTION:Baan 2\, Wedstrijdnummer 27\, Afdeling Hoofdklasse K
DTSTART:20171011T200000
DTEND:20171011T230000
LOCATION:City Resort Helmond
ATTACH;FMTTYPE=text/plain:https://hbb.rivio.dev/senioren/2017/wedstrijd/185
 75
END:VEVENT
BEGIN:VEVENT
UID:https://hbb.rivio.dev/senioren/2017/wedstrijd/18627
DTSTAMP:20260420T165919Z
SUMMARY:Brabantia 1 - Mierlo 2
DESCRIPTION:Baan 10\, Wedstrijdnummer 32\, Afdeling Hoofdklasse D
DTSTART:20171115T200000
DTEND:20171115T230000
LOCATION:City Resort Helmond
ATTACH;FMTTYPE=text/plain:https://hbb.rivio.dev/senioren/2017/wedstrijd/186
 27
END:VEVENT
BEGIN:VEVENT
UID:https://hbb.rivio.dev/senioren/2017/wedstrijd/18645
DTSTAMP:20260420T165919Z
SUMMARY:Con Brio 3 - Mierlo 2
DESCRIPTION:Baan 2\, Wedstrijdnummer 36\, Afdeling Hoofdklasse D
DTSTART:20171122T200000
DTEND:20171122T230000
LOCATION:City Resort Helmond
ATTACH;FMTTYPE=text/plain:https://hbb.rivio.dev/senioren/2017/wedstrijd/186
 45
END:VEVENT
BEGIN:VEVENT
UID:https://hbb.rivio.dev/senioren/2017/wedstrijd/18697
DTSTAMP:20260420T165919Z
SUMMARY:Mierlo 2 - Con Brio 4
DESCRIPTION:Baan 1\, Wedstrijdnummer 44\, Afdeling Hoofdklasse K
DTSTART:20171213T200000
DTEND:20171213T230000
LOCATION:City Resort Helmond
ATTACH;FMTTYPE=text/plain:https://hbb.rivio.dev/senioren/2017/wedstrijd/186
 97
END:VEVENT
BEGIN:VEVENT
UID:https://hbb.rivio.dev/senioren/2017/wedstrijd/18757
DTSTAMP:20260420T165919Z
SUMMARY:Mierlo 2 - Mixed 1
DESCRIPTION:Baan 3\, Wedstrijdnummer 49\, Afdeling Hoofdklasse K
DTSTART:20180124T200000
DTEND:20180124T230000
LOCATION:City Resort Helmond
ATTACH;FMTTYPE=text/plain:https://hbb.rivio.dev/senioren/2017/wedstrijd/187
 57
END:VEVENT
BEGIN:VEVENT
UID:https://hbb.rivio.dev/senioren/2017/wedstrijd/18778
DTSTAMP:20260420T165919Z
SUMMARY:Smashing Bruang 1 - Mierlo 2
DESCRIPTION:Baan 3\, Wedstrijdnummer 55\, Afdeling Hoofdklasse D
DTSTART:20180131T200000
DTEND:20180131T230000
LOCATION:City Resort Helmond
ATTACH;FMTTYPE=text/plain:https://hbb.rivio.dev/senioren/2017/wedstrijd/187
 78
END:VEVENT
BEGIN:VEVENT
UID:https://hbb.rivio.dev/senioren/2017/wedstrijd/18814
DTSTAMP:20260420T165919Z
SUMMARY:Mierlo 2 - Bakel 1
DESCRIPTION:Baan 12\, Wedstrijdnummer 58\, Afdeling Hoofdklasse K
DTSTART:20180208T200000
DTEND:20180208T230000
LOCATION:City Resort Helmond
ATTACH;FMTTYPE=text/plain:https://hbb.rivio.dev/senioren/2017/wedstrijd/188
 14
END:VEVENT
BEGIN:VEVENT
UID:https://hbb.rivio.dev/senioren/2017/wedstrijd/20127
DTSTAMP:20260420T165919Z
SUMMARY:Mierlo 2 - BCV '73 1
DESCRIPTION:Baan 2\, Wedstrijdnummer 1317\, Afdeling Hoofdklasse K
DTSTART:20180228T200000
DTEND:20180228T230000
LOCATION:City Resort Helmond
ATTACH;FMTTYPE=text/plain:https://hbb.rivio.dev/senioren/2017/wedstrijd/201
 27
END:VEVENT
BEGIN:VEVENT
UID:https://hbb.rivio.dev/senioren/2017/wedstrijd/20129
DTSTAMP:20260420T165919Z
SUMMARY:Fair Play 1 - Mierlo 2
DESCRIPTION:Baan 12\, Wedstrijdnummer 1319\, Afdeling Hoofdklasse K
DTSTART:20180314T200000
DTEND:20180314T230000
LOCATION:City Resort Helmond
ATTACH;FMTTYPE=text/plain:https://hbb.rivio.dev/senioren/2017/wedstrijd/201
 29
END:VEVENT
BEGIN:VEVENT
UID:https://hbb.rivio.dev/senioren/2017/wedstrijd/20133
DTSTAMP:20260420T165919Z
SUMMARY:Mixed 1 - Mierlo 2
DESCRIPTION:Baan 15\, Wedstrijdnummer 1323\, Afdeling Hoofdklasse K
DTSTART:20180405T200000
DTEND:20180405T230000
LOCATION:City Resort Helmond
ATTACH;FMTTYPE=text/plain:https://hbb.rivio.dev/senioren/2017/wedstrijd/201
 33
END:VEVENT
BEGIN:VEVENT
UID:https://hbb.rivio.dev/senioren/2017/wedstrijd/20134
DTSTAMP:20260420T165919Z
SUMMARY:Mierlo 2 - Hanevoet 1
DESCRIPTION:Baan 15\, Wedstrijdnummer 1325\, Afdeling Hoofdklasse K
DTSTART:20180418T200000
DTEND:20180418T230000
LOCATION:City Resort Helmond
ATTACH;FMTTYPE=text/plain:https://hbb.rivio.dev/senioren/2017/wedstrijd/201
 34
END:VEVENT
BEGIN:VTIMEZONE
TZID:Europe/Amsterdam
BEGIN:STANDARD
DTSTART:20170101T000000
TZNAME:CET
TZOFFSETTO:+0100
TZOFFSETFROM:+0100
END:STANDARD
BEGIN:DAYLIGHT
DTSTART:20170326T030000
TZNAME:CEST
TZOFFSETTO:+0200
TZOFFSETFROM:+0100
END:DAYLIGHT
BEGIN:STANDARD
DTSTART:20171029T020000
TZNAME:CET
TZOFFSETTO:+0100
TZOFFSETFROM:+0200
END:STANDARD
BEGIN:DAYLIGHT
DTSTART:20180325T030000
TZNAME:CEST
TZOFFSETTO:+0200
TZOFFSETFROM:+0100
END:DAYLIGHT
BEGIN:STANDARD
DTSTART:20181028T020000
TZNAME:CET
TZOFFSETTO:+0100
TZOFFSETFROM:+0200
END:STANDARD
END:VTIMEZONE
END:VCALENDAR
