BEGIN:VCALENDAR
PRODID:-//eluceo/ical//2.0/EN
VERSION:2.0
CALSCALE:GREGORIAN
BEGIN:VEVENT
UID:https://hbb.rivio.dev/senioren/2017/wedstrijd/18528
DTSTAMP:20260420T090203Z
SUMMARY:Brabantia 1 - Smashing Bruang 1
DESCRIPTION:Baan 13\, Wedstrijdnummer 20\, Afdeling Hoofdklasse D
DTSTART:20170921T200000
DTEND:20170921T230000
LOCATION:City Resort Helmond
ATTACH;FMTTYPE=text/plain:https://hbb.rivio.dev/senioren/2017/wedstrijd/185
 28
END:VEVENT
BEGIN:VEVENT
UID:https://hbb.rivio.dev/senioren/2017/wedstrijd/18565
DTSTAMP:20260420T090203Z
SUMMARY:Smashing Bruang 1 - BCV '73 1
DESCRIPTION:Baan 3\, Wedstrijdnummer 25\, Afdeling Hoofdklasse D
DTSTART:20171005T200000
DTEND:20171005T230000
LOCATION:City Resort Helmond
ATTACH;FMTTYPE=text/plain:https://hbb.rivio.dev/senioren/2017/wedstrijd/185
 65
END:VEVENT
BEGIN:VEVENT
UID:https://hbb.rivio.dev/senioren/2017/wedstrijd/18598
DTSTAMP:20260420T090203Z
SUMMARY:Bakel 1 - Smashing Bruang 1
DESCRIPTION:Baan 3\, Wedstrijdnummer 30\, Afdeling Hoofdklasse D
DTSTART:20171102T200000
DTEND:20171102T230000
LOCATION:City Resort Helmond
ATTACH;FMTTYPE=text/plain:https://hbb.rivio.dev/senioren/2017/wedstrijd/185
 98
END:VEVENT
BEGIN:VEVENT
UID:https://hbb.rivio.dev/senioren/2017/wedstrijd/18626
DTSTAMP:20260420T090203Z
SUMMARY:Smashing Bruang 1 - Con Brio 3
DESCRIPTION:Baan 5\, Wedstrijdnummer 35\, Afdeling Hoofdklasse D
DTSTART:20171115T200000
DTEND:20171115T230000
LOCATION:City Resort Helmond
ATTACH;FMTTYPE=text/plain:https://hbb.rivio.dev/senioren/2017/wedstrijd/186
 26
END:VEVENT
BEGIN:VEVENT
UID:https://hbb.rivio.dev/senioren/2017/wedstrijd/18646
DTSTAMP:20260420T090203Z
SUMMARY:Fair Play 1 - Smashing Bruang 1
DESCRIPTION:Baan 3\, Wedstrijdnummer 40\, Afdeling Hoofdklasse K
DTSTART:20171122T200000
DTEND:20171122T230000
LOCATION:City Resort Helmond
ATTACH;FMTTYPE=text/plain:https://hbb.rivio.dev/senioren/2017/wedstrijd/186
 46
END:VEVENT
BEGIN:VEVENT
UID:https://hbb.rivio.dev/senioren/2017/wedstrijd/18698
DTSTAMP:20260420T090203Z
SUMMARY:Smashing Bruang 1 - Mixed 1
DESCRIPTION:Baan 2\, Wedstrijdnummer 45\, Afdeling Hoofdklasse D
DTSTART:20171213T200000
DTEND:20171213T230000
LOCATION:City Resort Helmond
ATTACH;FMTTYPE=text/plain:https://hbb.rivio.dev/senioren/2017/wedstrijd/186
 98
END:VEVENT
BEGIN:VEVENT
UID:https://hbb.rivio.dev/senioren/2017/wedstrijd/18746
DTSTAMP:20260420T090203Z
SUMMARY:Hanevoet 1 - Smashing Bruang 1
DESCRIPTION:Baan 3\, Wedstrijdnummer 50\, Afdeling Hoofdklasse K
DTSTART:20180118T200000
DTEND:20180118T230000
LOCATION:City Resort Helmond
ATTACH;FMTTYPE=text/plain:https://hbb.rivio.dev/senioren/2017/wedstrijd/187
 46
END:VEVENT
BEGIN:VEVENT
UID:https://hbb.rivio.dev/senioren/2017/wedstrijd/18778
DTSTAMP:20260420T090203Z
SUMMARY:Smashing Bruang 1 - Mierlo 2
DESCRIPTION:Baan 3\, Wedstrijdnummer 55\, Afdeling Hoofdklasse D
DTSTART:20180131T200000
DTEND:20180131T230000
LOCATION:City Resort Helmond
ATTACH;FMTTYPE=text/plain:https://hbb.rivio.dev/senioren/2017/wedstrijd/187
 78
END:VEVENT
BEGIN:VEVENT
UID:https://hbb.rivio.dev/senioren/2017/wedstrijd/18801
DTSTAMP:20260420T090203Z
SUMMARY:Con Brio 4 - Smashing Bruang 1
DESCRIPTION:Baan 5\, Wedstrijdnummer 60\, Afdeling Hoofdklasse D
DTSTART:20180207T200000
DTEND:20180207T230000
LOCATION:City Resort Helmond
ATTACH;FMTTYPE=text/plain:https://hbb.rivio.dev/senioren/2017/wedstrijd/188
 01
END:VEVENT
BEGIN:VEVENT
UID:https://hbb.rivio.dev/senioren/2017/wedstrijd/20118
DTSTAMP:20260420T090203Z
SUMMARY:Con Brio 3 - Smashing Bruang 1
DESCRIPTION:Baan 4\, Wedstrijdnummer 1308\, Afdeling Hoofdklasse D
DTSTART:20180314T200000
DTEND:20180314T230000
LOCATION:City Resort Helmond
ATTACH;FMTTYPE=text/plain:https://hbb.rivio.dev/senioren/2017/wedstrijd/201
 18
END:VEVENT
BEGIN:VEVENT
UID:https://hbb.rivio.dev/senioren/2017/wedstrijd/20120
DTSTAMP:20260420T090203Z
SUMMARY:Smashing Bruang 1 - Brabantia 1
DESCRIPTION:Baan 2\, Wedstrijdnummer 1310\, Afdeling Hoofdklasse D
DTSTART:20180328T200000
DTEND:20180328T230000
LOCATION:City Resort Helmond
ATTACH;FMTTYPE=text/plain:https://hbb.rivio.dev/senioren/2017/wedstrijd/201
 20
END:VEVENT
BEGIN:VEVENT
UID:https://hbb.rivio.dev/senioren/2017/wedstrijd/20122
DTSTAMP:20260420T090203Z
SUMMARY:Smashing Bruang 1 - Bakel 1
DESCRIPTION:Baan 12\, Wedstrijdnummer 1306\, Afdeling Hoofdklasse D
DTSTART:20180404T200000
DTEND:20180404T230000
LOCATION:City Resort Helmond
ATTACH;FMTTYPE=text/plain:https://hbb.rivio.dev/senioren/2017/wedstrijd/201
 22
END:VEVENT
BEGIN:VEVENT
UID:https://hbb.rivio.dev/senioren/2017/wedstrijd/20125
DTSTAMP:20260420T090203Z
SUMMARY:Smashing Bruang 1 - Con Brio 4
DESCRIPTION:Baan 2\, Wedstrijdnummer 1315\, Afdeling Hoofdklasse D
DTSTART:20180516T200000
DTEND:20180516T230000
LOCATION:City Resort Helmond
ATTACH;FMTTYPE=text/plain:https://hbb.rivio.dev/senioren/2017/wedstrijd/201
 25
END:VEVENT
BEGIN:VTIMEZONE
TZID:Europe/Amsterdam
BEGIN:STANDARD
DTSTART:20170101T000000
TZNAME:CET
TZOFFSETTO:+0100
TZOFFSETFROM:+0100
END:STANDARD
BEGIN:DAYLIGHT
DTSTART:20170326T030000
TZNAME:CEST
TZOFFSETTO:+0200
TZOFFSETFROM:+0100
END:DAYLIGHT
BEGIN:STANDARD
DTSTART:20171029T020000
TZNAME:CET
TZOFFSETTO:+0100
TZOFFSETFROM:+0200
END:STANDARD
BEGIN:DAYLIGHT
DTSTART:20180325T030000
TZNAME:CEST
TZOFFSETTO:+0200
TZOFFSETFROM:+0100
END:DAYLIGHT
BEGIN:STANDARD
DTSTART:20181028T020000
TZNAME:CET
TZOFFSETTO:+0100
TZOFFSETFROM:+0200
END:STANDARD
END:VTIMEZONE
END:VCALENDAR
