BEGIN:VCALENDAR
PRODID:-//eluceo/ical//2.0/EN
VERSION:2.0
CALSCALE:GREGORIAN
BEGIN:VEVENT
UID:https://hbb.rivio.dev/senioren/2017/wedstrijd/18546
DTSTAMP:20260420T133344Z
SUMMARY:Bakel 2 - Eindhoven 1
DESCRIPTION:Baan 10\, Wedstrijdnummer 92\, Afdeling 1e klasse 
DTSTART:20170928T200000
DTEND:20170928T230000
LOCATION:City Resort Helmond
ATTACH;FMTTYPE=text/plain:https://hbb.rivio.dev/senioren/2017/wedstrijd/185
 46
END:VEVENT
BEGIN:VEVENT
UID:https://hbb.rivio.dev/senioren/2017/wedstrijd/18566
DTSTAMP:20260420T133344Z
SUMMARY:Con Brio 6 - Bakel 2
DESCRIPTION:Baan 4\, Wedstrijdnummer 95\, Afdeling 1e klasse 
DTSTART:20171005T200000
DTEND:20171005T230000
LOCATION:City Resort Helmond
ATTACH;FMTTYPE=text/plain:https://hbb.rivio.dev/senioren/2017/wedstrijd/185
 66
END:VEVENT
BEGIN:VEVENT
UID:https://hbb.rivio.dev/senioren/2017/wedstrijd/18618
DTSTAMP:20260420T133344Z
SUMMARY:Bakel 2 - Con Brio 5
DESCRIPTION:Baan 12\, Wedstrijdnummer 99\, Afdeling 1e klasse 
DTSTART:20171012T200000
DTEND:20171012T230000
LOCATION:City Resort Helmond
ATTACH;FMTTYPE=text/plain:https://hbb.rivio.dev/senioren/2017/wedstrijd/186
 18
END:VEVENT
BEGIN:VEVENT
UID:https://hbb.rivio.dev/senioren/2017/wedstrijd/18630
DTSTAMP:20260420T133344Z
SUMMARY:Smashing Bruang 2 - Bakel 2
DESCRIPTION:Baan 13\, Wedstrijdnummer 106\, Afdeling 1e klasse 
DTSTART:20171115T200000
DTEND:20171115T230000
LOCATION:City Resort Helmond
ATTACH;FMTTYPE=text/plain:https://hbb.rivio.dev/senioren/2017/wedstrijd/186
 30
END:VEVENT
BEGIN:VEVENT
UID:https://hbb.rivio.dev/senioren/2017/wedstrijd/18661
DTSTAMP:20260420T133344Z
SUMMARY:Heeze 1 - Bakel 2
DESCRIPTION:Baan 12\, Wedstrijdnummer 107\, Afdeling 1e klasse 
DTSTART:20171123T200000
DTEND:20171123T230000
LOCATION:City Resort Helmond
ATTACH;FMTTYPE=text/plain:https://hbb.rivio.dev/senioren/2017/wedstrijd/186
 61
END:VEVENT
BEGIN:VEVENT
UID:https://hbb.rivio.dev/senioren/2017/wedstrijd/18730
DTSTAMP:20260420T133344Z
SUMMARY:Bakel 2 - Mixed 4
DESCRIPTION:Baan 2\, Wedstrijdnummer 111\, Afdeling 1e klasse 
DTSTART:20180111T200000
DTEND:20180111T230000
LOCATION:City Resort Helmond
ATTACH;FMTTYPE=text/plain:https://hbb.rivio.dev/senioren/2017/wedstrijd/187
 30
END:VEVENT
BEGIN:VEVENT
UID:https://hbb.rivio.dev/senioren/2017/wedstrijd/18752
DTSTAMP:20260420T133345Z
SUMMARY:Mierlo 5 - Bakel 2
DESCRIPTION:Baan 13\, Wedstrijdnummer 116\, Afdeling 1e klasse 
DTSTART:20180118T200000
DTEND:20180118T230000
LOCATION:City Resort Helmond
ATTACH;FMTTYPE=text/plain:https://hbb.rivio.dev/senioren/2017/wedstrijd/187
 52
END:VEVENT
BEGIN:VEVENT
UID:https://hbb.rivio.dev/senioren/2017/wedstrijd/18793
DTSTAMP:20260420T133345Z
SUMMARY:Eindhoven 1 - Bakel 2
DESCRIPTION:Baan 12\, Wedstrijdnummer 1092\, Afdeling 1e klasse 
DTSTART:20180201T200000
DTEND:20180201T230000
LOCATION:City Resort Helmond
ATTACH;FMTTYPE=text/plain:https://hbb.rivio.dev/senioren/2017/wedstrijd/187
 93
END:VEVENT
BEGIN:VEVENT
UID:https://hbb.rivio.dev/senioren/2017/wedstrijd/18833
DTSTAMP:20260420T133345Z
SUMMARY:Bakel 2 - Con Brio 6
DESCRIPTION:Baan 11\, Wedstrijdnummer 1095\, Afdeling 1e klasse 
DTSTART:20180222T200000
DTEND:20180222T230000
LOCATION:City Resort Helmond
ATTACH;FMTTYPE=text/plain:https://hbb.rivio.dev/senioren/2017/wedstrijd/188
 33
END:VEVENT
BEGIN:VEVENT
UID:https://hbb.rivio.dev/senioren/2017/wedstrijd/18858
DTSTAMP:20260420T133345Z
SUMMARY:Con Brio 5 - Bakel 2
DESCRIPTION:Baan 1\, Wedstrijdnummer 1099\, Afdeling 1e klasse 
DTSTART:20180308T200000
DTEND:20180308T230000
LOCATION:City Resort Helmond
ATTACH;FMTTYPE=text/plain:https://hbb.rivio.dev/senioren/2017/wedstrijd/188
 58
END:VEVENT
BEGIN:VEVENT
UID:https://hbb.rivio.dev/senioren/2017/wedstrijd/18887
DTSTAMP:20260420T133345Z
SUMMARY:Bakel 2 - Smashing Bruang 2
DESCRIPTION:Baan 3\, Wedstrijdnummer 1106\, Afdeling 1e klasse 
DTSTART:20180322T200000
DTEND:20180322T230000
LOCATION:City Resort Helmond
ATTACH;FMTTYPE=text/plain:https://hbb.rivio.dev/senioren/2017/wedstrijd/188
 87
END:VEVENT
BEGIN:VEVENT
UID:https://hbb.rivio.dev/senioren/2017/wedstrijd/18900
DTSTAMP:20260420T133345Z
SUMMARY:Bakel 2 - Heeze 1
DESCRIPTION:Baan 5\, Wedstrijdnummer 1107\, Afdeling 1e klasse 
DTSTART:20180329T200000
DTEND:20180329T230000
LOCATION:City Resort Helmond
ATTACH;FMTTYPE=text/plain:https://hbb.rivio.dev/senioren/2017/wedstrijd/189
 00
END:VEVENT
BEGIN:VEVENT
UID:https://hbb.rivio.dev/senioren/2017/wedstrijd/18919
DTSTAMP:20260420T133345Z
SUMMARY:Mixed 4 - Bakel 2
DESCRIPTION:Baan 11\, Wedstrijdnummer 1111\, Afdeling 1e klasse 
DTSTART:20180419T200000
DTEND:20180419T230000
LOCATION:City Resort Helmond
ATTACH;FMTTYPE=text/plain:https://hbb.rivio.dev/senioren/2017/wedstrijd/189
 19
END:VEVENT
BEGIN:VEVENT
UID:https://hbb.rivio.dev/senioren/2017/wedstrijd/18926
DTSTAMP:20260420T133345Z
SUMMARY:Bakel 2 - Mierlo 5
DESCRIPTION:Baan 13\, Wedstrijdnummer 1116\, Afdeling 1e klasse 
DTSTART:20180516T200000
DTEND:20180516T230000
LOCATION:City Resort Helmond
ATTACH;FMTTYPE=text/plain:https://hbb.rivio.dev/senioren/2017/wedstrijd/189
 26
END:VEVENT
BEGIN:VTIMEZONE
TZID:Europe/Amsterdam
BEGIN:STANDARD
DTSTART:20170101T000000
TZNAME:CET
TZOFFSETTO:+0100
TZOFFSETFROM:+0100
END:STANDARD
BEGIN:DAYLIGHT
DTSTART:20170326T030000
TZNAME:CEST
TZOFFSETTO:+0200
TZOFFSETFROM:+0100
END:DAYLIGHT
BEGIN:STANDARD
DTSTART:20171029T020000
TZNAME:CET
TZOFFSETTO:+0100
TZOFFSETFROM:+0200
END:STANDARD
BEGIN:DAYLIGHT
DTSTART:20180325T030000
TZNAME:CEST
TZOFFSETTO:+0200
TZOFFSETFROM:+0100
END:DAYLIGHT
BEGIN:STANDARD
DTSTART:20181028T020000
TZNAME:CET
TZOFFSETTO:+0100
TZOFFSETFROM:+0200
END:STANDARD
END:VTIMEZONE
END:VCALENDAR
