BEGIN:VCALENDAR
PRODID:-//eluceo/ical//2.0/EN
VERSION:2.0
CALSCALE:GREGORIAN
BEGIN:VEVENT
UID:https://hbb.rivio.dev/senioren/2017/wedstrijd/18522
DTSTAMP:20260420T220954Z
SUMMARY:Hanevoet 2 - Mierlo 7
DESCRIPTION:Baan 3\, Wedstrijdnummer 121\, Afdeling 2e klasse I
DTSTART:20170921T200000
DTEND:20170921T230000
LOCATION:City Resort Helmond
ATTACH;FMTTYPE=text/plain:https://hbb.rivio.dev/senioren/2017/wedstrijd/185
 22
END:VEVENT
BEGIN:VEVENT
UID:https://hbb.rivio.dev/senioren/2017/wedstrijd/18543
DTSTAMP:20260420T220954Z
SUMMARY:Gemert 1 - Hanevoet 2
DESCRIPTION:Baan 3\, Wedstrijdnummer 124\, Afdeling 2e klasse I
DTSTART:20170928T200000
DTEND:20170928T230000
LOCATION:City Resort Helmond
ATTACH;FMTTYPE=text/plain:https://hbb.rivio.dev/senioren/2017/wedstrijd/185
 43
END:VEVENT
BEGIN:VEVENT
UID:https://hbb.rivio.dev/senioren/2017/wedstrijd/18586
DTSTAMP:20260420T220954Z
SUMMARY:Hanevoet 2 - Phoenix 3
DESCRIPTION:Baan 2\, Wedstrijdnummer 128\, Afdeling 2e klasse I
DTSTART:20171012T200000
DTEND:20171012T230000
LOCATION:City Resort Helmond
ATTACH;FMTTYPE=text/plain:https://hbb.rivio.dev/senioren/2017/wedstrijd/185
 86
END:VEVENT
BEGIN:VEVENT
UID:https://hbb.rivio.dev/senioren/2017/wedstrijd/18641
DTSTAMP:20260420T220954Z
SUMMARY:BCAB 4 - Hanevoet 2
DESCRIPTION:Baan 13\, Wedstrijdnummer 131\, Afdeling 2e klasse I
DTSTART:20171116T200000
DTEND:20171116T230000
LOCATION:City Resort Helmond
ATTACH;FMTTYPE=text/plain:https://hbb.rivio.dev/senioren/2017/wedstrijd/186
 41
END:VEVENT
BEGIN:VEVENT
UID:https://hbb.rivio.dev/senioren/2017/wedstrijd/18677
DTSTAMP:20260420T220954Z
SUMMARY:Hanevoet 2 - Dommelen 1
DESCRIPTION:Baan 3\, Wedstrijdnummer 135\, Afdeling 2e klasse I
DTSTART:20171130T200000
DTEND:20171130T230000
LOCATION:City Resort Helmond
ATTACH;FMTTYPE=text/plain:https://hbb.rivio.dev/senioren/2017/wedstrijd/186
 77
END:VEVENT
BEGIN:VEVENT
UID:https://hbb.rivio.dev/senioren/2017/wedstrijd/18719
DTSTAMP:20260420T220954Z
SUMMARY:Mixed 5 - Hanevoet 2
DESCRIPTION:Baan 2\, Wedstrijdnummer 143\, Afdeling 2e klasse I
DTSTART:20171221T200000
DTEND:20171221T230000
LOCATION:City Resort Helmond
ATTACH;FMTTYPE=text/plain:https://hbb.rivio.dev/senioren/2017/wedstrijd/187
 19
END:VEVENT
BEGIN:VEVENT
UID:https://hbb.rivio.dev/senioren/2017/wedstrijd/18786
DTSTAMP:20260420T220954Z
SUMMARY:Mierlo 7 - Hanevoet 2
DESCRIPTION:Baan 1\, Wedstrijdnummer 1121\, Afdeling 2e klasse I
DTSTART:20180201T200000
DTEND:20180201T230000
LOCATION:City Resort Helmond
ATTACH;FMTTYPE=text/plain:https://hbb.rivio.dev/senioren/2017/wedstrijd/187
 86
END:VEVENT
BEGIN:VEVENT
UID:https://hbb.rivio.dev/senioren/2017/wedstrijd/18810
DTSTAMP:20260420T220954Z
SUMMARY:Hanevoet 2 - Gemert 1
DESCRIPTION:Baan 4\, Wedstrijdnummer 1124\, Afdeling 2e klasse I
DTSTART:20180208T200000
DTEND:20180208T230000
LOCATION:City Resort Helmond
ATTACH;FMTTYPE=text/plain:https://hbb.rivio.dev/senioren/2017/wedstrijd/188
 10
END:VEVENT
BEGIN:VEVENT
UID:https://hbb.rivio.dev/senioren/2017/wedstrijd/18825
DTSTAMP:20260420T220954Z
SUMMARY:Phoenix 3 - Hanevoet 2
DESCRIPTION:Baan 14\, Wedstrijdnummer 1128\, Afdeling 2e klasse I
DTSTART:20180221T200000
DTEND:20180221T230000
LOCATION:City Resort Helmond
ATTACH;FMTTYPE=text/plain:https://hbb.rivio.dev/senioren/2017/wedstrijd/188
 25
END:VEVENT
BEGIN:VEVENT
UID:https://hbb.rivio.dev/senioren/2017/wedstrijd/18875
DTSTAMP:20260420T220954Z
SUMMARY:Hanevoet 2 - BCAB 4
DESCRIPTION:Baan 3\, Wedstrijdnummer 1131\, Afdeling 2e klasse I
DTSTART:20180315T200000
DTEND:20180315T230000
LOCATION:City Resort Helmond
ATTACH;FMTTYPE=text/plain:https://hbb.rivio.dev/senioren/2017/wedstrijd/188
 75
END:VEVENT
BEGIN:VEVENT
UID:https://hbb.rivio.dev/senioren/2017/wedstrijd/18888
DTSTAMP:20260420T220954Z
SUMMARY:Dommelen 1 - Hanevoet 2
DESCRIPTION:Baan 10\, Wedstrijdnummer 1135\, Afdeling 2e klasse I
DTSTART:20180322T200000
DTEND:20180322T230000
LOCATION:City Resort Helmond
ATTACH;FMTTYPE=text/plain:https://hbb.rivio.dev/senioren/2017/wedstrijd/188
 88
END:VEVENT
BEGIN:VEVENT
UID:https://hbb.rivio.dev/senioren/2017/wedstrijd/18916
DTSTAMP:20260420T220954Z
SUMMARY:Hanevoet 2 - Mixed 5
DESCRIPTION:Baan 4\, Wedstrijdnummer 1143\, Afdeling 2e klasse I
DTSTART:20180419T200000
DTEND:20180419T230000
LOCATION:City Resort Helmond
ATTACH;FMTTYPE=text/plain:https://hbb.rivio.dev/senioren/2017/wedstrijd/189
 16
END:VEVENT
BEGIN:VTIMEZONE
TZID:Europe/Amsterdam
BEGIN:STANDARD
DTSTART:20170101T000000
TZNAME:CET
TZOFFSETTO:+0100
TZOFFSETFROM:+0100
END:STANDARD
BEGIN:DAYLIGHT
DTSTART:20170326T030000
TZNAME:CEST
TZOFFSETTO:+0200
TZOFFSETFROM:+0100
END:DAYLIGHT
BEGIN:STANDARD
DTSTART:20171029T020000
TZNAME:CET
TZOFFSETTO:+0100
TZOFFSETFROM:+0200
END:STANDARD
BEGIN:DAYLIGHT
DTSTART:20180325T030000
TZNAME:CEST
TZOFFSETTO:+0200
TZOFFSETFROM:+0100
END:DAYLIGHT
BEGIN:STANDARD
DTSTART:20181028T020000
TZNAME:CET
TZOFFSETTO:+0100
TZOFFSETFROM:+0200
END:STANDARD
END:VTIMEZONE
END:VCALENDAR
