BEGIN:VCALENDAR
PRODID:-//eluceo/ical//2.0/EN
VERSION:2.0
CALSCALE:GREGORIAN
BEGIN:VEVENT
UID:https://hbb.rivio.dev/senioren/2017/wedstrijd/18527
DTSTAMP:20260420T220449Z
SUMMARY:Fair Play 1 - Hanevoet 1
DESCRIPTION:Baan 12\, Wedstrijdnummer 19\, Afdeling Hoofdklasse K
DTSTART:20170921T200000
DTEND:20170921T230000
LOCATION:City Resort Helmond
ATTACH;FMTTYPE=text/plain:https://hbb.rivio.dev/senioren/2017/wedstrijd/185
 27
END:VEVENT
BEGIN:VEVENT
UID:https://hbb.rivio.dev/senioren/2017/wedstrijd/18564
DTSTAMP:20260420T220449Z
SUMMARY:Hanevoet 1 - Mierlo 2
DESCRIPTION:Baan 2\, Wedstrijdnummer 24\, Afdeling Hoofdklasse K
DTSTART:20171005T200000
DTEND:20171005T230000
LOCATION:City Resort Helmond
ATTACH;FMTTYPE=text/plain:https://hbb.rivio.dev/senioren/2017/wedstrijd/185
 64
END:VEVENT
BEGIN:VEVENT
UID:https://hbb.rivio.dev/senioren/2017/wedstrijd/18596
DTSTAMP:20260420T220449Z
SUMMARY:Hanevoet 1 - Con Brio 3
DESCRIPTION:Baan 1\, Wedstrijdnummer 26\, Afdeling Hoofdklasse K
DTSTART:20171102T200000
DTEND:20171102T230000
LOCATION:City Resort Helmond
ATTACH;FMTTYPE=text/plain:https://hbb.rivio.dev/senioren/2017/wedstrijd/185
 96
END:VEVENT
BEGIN:VEVENT
UID:https://hbb.rivio.dev/senioren/2017/wedstrijd/18639
DTSTAMP:20260420T220449Z
SUMMARY:Bakel 1 - Hanevoet 1
DESCRIPTION:Baan 11\, Wedstrijdnummer 33\, Afdeling Hoofdklasse D
DTSTART:20171116T200000
DTEND:20171116T230000
LOCATION:City Resort Helmond
ATTACH;FMTTYPE=text/plain:https://hbb.rivio.dev/senioren/2017/wedstrijd/186
 39
END:VEVENT
BEGIN:VEVENT
UID:https://hbb.rivio.dev/senioren/2017/wedstrijd/18679
DTSTAMP:20260420T220449Z
SUMMARY:Mixed 1 - Hanevoet 1
DESCRIPTION:Baan 5\, Wedstrijdnummer 37\, Afdeling Hoofdklasse K
DTSTART:20171130T200000
DTEND:20171130T230000
LOCATION:City Resort Helmond
ATTACH;FMTTYPE=text/plain:https://hbb.rivio.dev/senioren/2017/wedstrijd/186
 79
END:VEVENT
BEGIN:VEVENT
UID:https://hbb.rivio.dev/senioren/2017/wedstrijd/18710
DTSTAMP:20260420T220449Z
SUMMARY:Hanevoet 1 - Brabantia 1
DESCRIPTION:Baan 4\, Wedstrijdnummer 43\, Afdeling Hoofdklasse K
DTSTART:20171214T200000
DTEND:20171214T230000
LOCATION:City Resort Helmond
ATTACH;FMTTYPE=text/plain:https://hbb.rivio.dev/senioren/2017/wedstrijd/187
 10
END:VEVENT
BEGIN:VEVENT
UID:https://hbb.rivio.dev/senioren/2017/wedstrijd/18746
DTSTAMP:20260420T220449Z
SUMMARY:Hanevoet 1 - Smashing Bruang 1
DESCRIPTION:Baan 3\, Wedstrijdnummer 50\, Afdeling Hoofdklasse K
DTSTART:20180118T200000
DTEND:20180118T230000
LOCATION:City Resort Helmond
ATTACH;FMTTYPE=text/plain:https://hbb.rivio.dev/senioren/2017/wedstrijd/187
 46
END:VEVENT
BEGIN:VEVENT
UID:https://hbb.rivio.dev/senioren/2017/wedstrijd/18787
DTSTAMP:20260420T220449Z
SUMMARY:Con Brio 4 - Hanevoet 1
DESCRIPTION:Baan 2\, Wedstrijdnummer 52\, Afdeling Hoofdklasse D
DTSTART:20180201T200000
DTEND:20180201T230000
LOCATION:City Resort Helmond
ATTACH;FMTTYPE=text/plain:https://hbb.rivio.dev/senioren/2017/wedstrijd/187
 87
END:VEVENT
BEGIN:VEVENT
UID:https://hbb.rivio.dev/senioren/2017/wedstrijd/18813
DTSTAMP:20260420T220450Z
SUMMARY:Hanevoet 1 - BCV '73 1
DESCRIPTION:Baan 11\, Wedstrijdnummer 57\, Afdeling Hoofdklasse K
DTSTART:20180208T200000
DTEND:20180208T230000
LOCATION:City Resort Helmond
ATTACH;FMTTYPE=text/plain:https://hbb.rivio.dev/senioren/2017/wedstrijd/188
 13
END:VEVENT
BEGIN:VEVENT
UID:https://hbb.rivio.dev/senioren/2017/wedstrijd/20126
DTSTAMP:20260420T220450Z
SUMMARY:Hanevoet 1 - Fair Play 1
DESCRIPTION:Baan 1\, Wedstrijdnummer 1316\, Afdeling Hoofdklasse K
DTSTART:20180228T200000
DTEND:20180228T230000
LOCATION:City Resort Helmond
ATTACH;FMTTYPE=text/plain:https://hbb.rivio.dev/senioren/2017/wedstrijd/201
 26
END:VEVENT
BEGIN:VEVENT
UID:https://hbb.rivio.dev/senioren/2017/wedstrijd/20128
DTSTAMP:20260420T220450Z
SUMMARY:Hanevoet 1 - Mixed 1
DESCRIPTION:Baan 11\, Wedstrijdnummer 1318\, Afdeling Hoofdklasse K
DTSTART:20180314T200000
DTEND:20180314T230000
LOCATION:City Resort Helmond
ATTACH;FMTTYPE=text/plain:https://hbb.rivio.dev/senioren/2017/wedstrijd/201
 28
END:VEVENT
BEGIN:VEVENT
UID:https://hbb.rivio.dev/senioren/2017/wedstrijd/20130
DTSTAMP:20260420T220450Z
SUMMARY:BCV '73 1 - Hanevoet 1
DESCRIPTION:Baan 15\, Wedstrijdnummer 1320\, Afdeling Hoofdklasse K
DTSTART:20180321T200000
DTEND:20180321T230000
LOCATION:City Resort Helmond
ATTACH;FMTTYPE=text/plain:https://hbb.rivio.dev/senioren/2017/wedstrijd/201
 30
END:VEVENT
BEGIN:VEVENT
UID:https://hbb.rivio.dev/senioren/2017/wedstrijd/20134
DTSTAMP:20260420T220450Z
SUMMARY:Mierlo 2 - Hanevoet 1
DESCRIPTION:Baan 15\, Wedstrijdnummer 1325\, Afdeling Hoofdklasse K
DTSTART:20180418T200000
DTEND:20180418T230000
LOCATION:City Resort Helmond
ATTACH;FMTTYPE=text/plain:https://hbb.rivio.dev/senioren/2017/wedstrijd/201
 34
END:VEVENT
BEGIN:VTIMEZONE
TZID:Europe/Amsterdam
BEGIN:STANDARD
DTSTART:20170101T000000
TZNAME:CET
TZOFFSETTO:+0100
TZOFFSETFROM:+0100
END:STANDARD
BEGIN:DAYLIGHT
DTSTART:20170326T030000
TZNAME:CEST
TZOFFSETTO:+0200
TZOFFSETFROM:+0100
END:DAYLIGHT
BEGIN:STANDARD
DTSTART:20171029T020000
TZNAME:CET
TZOFFSETTO:+0100
TZOFFSETFROM:+0200
END:STANDARD
BEGIN:DAYLIGHT
DTSTART:20180325T030000
TZNAME:CEST
TZOFFSETTO:+0200
TZOFFSETFROM:+0100
END:DAYLIGHT
BEGIN:STANDARD
DTSTART:20181028T020000
TZNAME:CET
TZOFFSETTO:+0100
TZOFFSETFROM:+0200
END:STANDARD
END:VTIMEZONE
END:VCALENDAR
