BEGIN:VCALENDAR
PRODID:-//eluceo/ical//2.0/EN
VERSION:2.0
CALSCALE:GREGORIAN
BEGIN:VEVENT
UID:https://hbb.rivio.dev/senioren/2017/wedstrijd/18521
DTSTAMP:20260420T151554Z
SUMMARY:Heeze 2 - Hanevoet 4
DESCRIPTION:Baan 2\, Wedstrijdnummer 191\, Afdeling 3e klasse II D
DTSTART:20170921T200000
DTEND:20170921T230000
LOCATION:City Resort Helmond
ATTACH;FMTTYPE=text/plain:https://hbb.rivio.dev/senioren/2017/wedstrijd/185
 21
END:VEVENT
BEGIN:VEVENT
UID:https://hbb.rivio.dev/senioren/2017/wedstrijd/18643
DTSTAMP:20260420T151554Z
SUMMARY:Hanevoet 4 - Mierlo 8
DESCRIPTION:Baan 10\, Wedstrijdnummer 198\, Afdeling 3e klasse II K
DTSTART:20171005T200000
DTEND:20171005T230000
LOCATION:City Resort Helmond
ATTACH;FMTTYPE=text/plain:https://hbb.rivio.dev/senioren/2017/wedstrijd/186
 43
END:VEVENT
BEGIN:VEVENT
UID:https://hbb.rivio.dev/senioren/2017/wedstrijd/18588
DTSTAMP:20260420T151554Z
SUMMARY:Hanevoet 4 - Someren 2
DESCRIPTION:Baan 4\, Wedstrijdnummer 194\, Afdeling 3e klasse II K
DTSTART:20171012T200000
DTEND:20171012T230000
LOCATION:City Resort Helmond
ATTACH;FMTTYPE=text/plain:https://hbb.rivio.dev/senioren/2017/wedstrijd/185
 88
END:VEVENT
BEGIN:VEVENT
UID:https://hbb.rivio.dev/senioren/2017/wedstrijd/18652
DTSTAMP:20260420T151554Z
SUMMARY:Ganzeveer 3 - Hanevoet 4
DESCRIPTION:Baan 14\, Wedstrijdnummer 202\, Afdeling 3e klasse II D
DTSTART:20171122T200000
DTEND:20171122T230000
LOCATION:City Resort Helmond
ATTACH;FMTTYPE=text/plain:https://hbb.rivio.dev/senioren/2017/wedstrijd/186
 52
END:VEVENT
BEGIN:VEVENT
UID:https://hbb.rivio.dev/senioren/2017/wedstrijd/18676
DTSTAMP:20260420T151554Z
SUMMARY:Dommelen 3 - Hanevoet 4
DESCRIPTION:Baan 2\, Wedstrijdnummer 201\, Afdeling 3e klasse II K
DTSTART:20171130T200000
DTEND:20171130T230000
LOCATION:City Resort Helmond
ATTACH;FMTTYPE=text/plain:https://hbb.rivio.dev/senioren/2017/wedstrijd/186
 76
END:VEVENT
BEGIN:VEVENT
UID:https://hbb.rivio.dev/senioren/2017/wedstrijd/18727
DTSTAMP:20260420T151554Z
SUMMARY:Hanevoet 4 - Heeze 2
DESCRIPTION:Baan 14\, Wedstrijdnummer 1191\, Afdeling 3e klasse II K
DTSTART:20171221T200000
DTEND:20171221T230000
LOCATION:City Resort Helmond
ATTACH;FMTTYPE=text/plain:https://hbb.rivio.dev/senioren/2017/wedstrijd/187
 27
END:VEVENT
BEGIN:VEVENT
UID:https://hbb.rivio.dev/senioren/2017/wedstrijd/18771
DTSTAMP:20260420T151554Z
SUMMARY:Someren 2 - Hanevoet 4
DESCRIPTION:Baan 11\, Wedstrijdnummer 1194\, Afdeling 3e klasse II K
DTSTART:20180125T200000
DTEND:20180125T230000
LOCATION:City Resort Helmond
ATTACH;FMTTYPE=text/plain:https://hbb.rivio.dev/senioren/2017/wedstrijd/187
 71
END:VEVENT
BEGIN:VEVENT
UID:https://hbb.rivio.dev/senioren/2017/wedstrijd/18812
DTSTAMP:20260420T151554Z
SUMMARY:Mierlo 8 - Hanevoet 4
DESCRIPTION:Baan 10\, Wedstrijdnummer 1198\, Afdeling 3e klasse II D
DTSTART:20180208T200000
DTEND:20180208T230000
LOCATION:City Resort Helmond
ATTACH;FMTTYPE=text/plain:https://hbb.rivio.dev/senioren/2017/wedstrijd/188
 12
END:VEVENT
BEGIN:VEVENT
UID:https://hbb.rivio.dev/senioren/2017/wedstrijd/18854
DTSTAMP:20260420T151554Z
SUMMARY:Hanevoet 4 - Dommelen 3
DESCRIPTION:Baan 12\, Wedstrijdnummer 1201\, Afdeling 3e klasse II K
DTSTART:20180301T200000
DTEND:20180301T230000
LOCATION:City Resort Helmond
ATTACH;FMTTYPE=text/plain:https://hbb.rivio.dev/senioren/2017/wedstrijd/188
 54
END:VEVENT
BEGIN:VEVENT
UID:https://hbb.rivio.dev/senioren/2017/wedstrijd/18866
DTSTAMP:20260420T151554Z
SUMMARY:Hanevoet 4 - Ganzeveer 3
DESCRIPTION:Baan 13\, Wedstrijdnummer 1202\, Afdeling 3e klasse II K
DTSTART:20180308T200000
DTEND:20180308T230000
LOCATION:City Resort Helmond
ATTACH;FMTTYPE=text/plain:https://hbb.rivio.dev/senioren/2017/wedstrijd/188
 66
END:VEVENT
BEGIN:VEVENT
UID:https://hbb.rivio.dev/senioren/2017/wedstrijd/20171
DTSTAMP:20260420T151554Z
SUMMARY:Hanevoet 4 - Someren 2
DESCRIPTION:Baan 12\, Wedstrijdnummer 1344\, Afdeling 3e klasse II K
DTSTART:20180321T200000
DTEND:20180321T230000
LOCATION:City Resort Helmond
ATTACH;FMTTYPE=text/plain:https://hbb.rivio.dev/senioren/2017/wedstrijd/201
 71
END:VEVENT
BEGIN:VEVENT
UID:https://hbb.rivio.dev/senioren/2017/wedstrijd/20172
DTSTAMP:20260420T151554Z
SUMMARY:Dommelen 3 - Hanevoet 4
DESCRIPTION:Baan 14\, Wedstrijdnummer 1346\, Afdeling 3e klasse II K
DTSTART:20180328T200000
DTEND:20180328T230000
LOCATION:City Resort Helmond
ATTACH;FMTTYPE=text/plain:https://hbb.rivio.dev/senioren/2017/wedstrijd/201
 72
END:VEVENT
BEGIN:VTIMEZONE
TZID:Europe/Amsterdam
BEGIN:STANDARD
DTSTART:20170101T000000
TZNAME:CET
TZOFFSETTO:+0100
TZOFFSETFROM:+0100
END:STANDARD
BEGIN:DAYLIGHT
DTSTART:20170326T030000
TZNAME:CEST
TZOFFSETTO:+0200
TZOFFSETFROM:+0100
END:DAYLIGHT
BEGIN:STANDARD
DTSTART:20171029T020000
TZNAME:CET
TZOFFSETTO:+0100
TZOFFSETFROM:+0200
END:STANDARD
BEGIN:DAYLIGHT
DTSTART:20180325T030000
TZNAME:CEST
TZOFFSETTO:+0200
TZOFFSETFROM:+0100
END:DAYLIGHT
BEGIN:STANDARD
DTSTART:20181028T020000
TZNAME:CET
TZOFFSETTO:+0100
TZOFFSETFROM:+0200
END:STANDARD
END:VTIMEZONE
END:VCALENDAR
