BEGIN:VCALENDAR
PRODID:-//eluceo/ical//2.0/EN
VERSION:2.0
CALSCALE:GREGORIAN
BEGIN:VEVENT
UID:https://hbb.rivio.dev/senioren/2017/wedstrijd/18548
DTSTAMP:20260420T090323Z
SUMMARY:Hanevoet 3 - Con Brio 7
DESCRIPTION:Baan 12\, Wedstrijdnummer 176\, Afdeling 3e klasse I K
DTSTART:20170928T200000
DTEND:20170928T230000
LOCATION:City Resort Helmond
ATTACH;FMTTYPE=text/plain:https://hbb.rivio.dev/senioren/2017/wedstrijd/185
 48
END:VEVENT
BEGIN:VEVENT
UID:https://hbb.rivio.dev/senioren/2017/wedstrijd/18589
DTSTAMP:20260420T090323Z
SUMMARY:Heiakker 1 - Hanevoet 3
DESCRIPTION:Baan 5\, Wedstrijdnummer 180\, Afdeling 3e klasse I D
DTSTART:20171012T200000
DTEND:20171012T230000
LOCATION:City Resort Helmond
ATTACH;FMTTYPE=text/plain:https://hbb.rivio.dev/senioren/2017/wedstrijd/185
 89
END:VEVENT
BEGIN:VEVENT
UID:https://hbb.rivio.dev/senioren/2017/wedstrijd/18609
DTSTAMP:20260420T090323Z
SUMMARY:Ganzeveer 2 - Hanevoet 3
DESCRIPTION:Baan 14\, Wedstrijdnummer 185\, Afdeling 3e klasse I D
DTSTART:20171108T200000
DTEND:20171108T230000
LOCATION:City Resort Helmond
ATTACH;FMTTYPE=text/plain:https://hbb.rivio.dev/senioren/2017/wedstrijd/186
 09
END:VEVENT
BEGIN:VEVENT
UID:https://hbb.rivio.dev/senioren/2017/wedstrijd/18633
DTSTAMP:20260420T090323Z
SUMMARY:Hanevoet 3 - BC '85 2
DESCRIPTION:Baan 1\, Wedstrijdnummer 181\, Afdeling 3e klasse I K
DTSTART:20171116T200000
DTEND:20171116T230000
LOCATION:City Resort Helmond
ATTACH;FMTTYPE=text/plain:https://hbb.rivio.dev/senioren/2017/wedstrijd/186
 33
END:VEVENT
BEGIN:VEVENT
UID:https://hbb.rivio.dev/senioren/2017/wedstrijd/18690
DTSTAMP:20260420T090323Z
SUMMARY:Hanevoet 3 - Gemert 2
DESCRIPTION:Baan 5\, Wedstrijdnummer 189\, Afdeling 3e klasse I K
DTSTART:20171207T200000
DTEND:20171207T230000
LOCATION:City Resort Helmond
ATTACH;FMTTYPE=text/plain:https://hbb.rivio.dev/senioren/2017/wedstrijd/186
 90
END:VEVENT
BEGIN:VEVENT
UID:https://hbb.rivio.dev/senioren/2017/wedstrijd/18722
DTSTAMP:20260420T090323Z
SUMMARY:Con Brio 7 - Hanevoet 3
DESCRIPTION:Baan 5\, Wedstrijdnummer 1176\, Afdeling 3e klasse I K
DTSTART:20171221T200000
DTEND:20171221T230000
LOCATION:City Resort Helmond
ATTACH;FMTTYPE=text/plain:https://hbb.rivio.dev/senioren/2017/wedstrijd/187
 22
END:VEVENT
BEGIN:VEVENT
UID:https://hbb.rivio.dev/senioren/2017/wedstrijd/18754
DTSTAMP:20260420T090323Z
SUMMARY:Hanevoet 3 - Heiakker 1
DESCRIPTION:Baan 15\, Wedstrijdnummer 1180\, Afdeling 3e klasse I K
DTSTART:20180118T200000
DTEND:20180118T230000
LOCATION:City Resort Helmond
ATTACH;FMTTYPE=text/plain:https://hbb.rivio.dev/senioren/2017/wedstrijd/187
 54
END:VEVENT
BEGIN:VEVENT
UID:https://hbb.rivio.dev/senioren/2017/wedstrijd/18794
DTSTAMP:20260420T090323Z
SUMMARY:BC '85 2 - Hanevoet 3
DESCRIPTION:Baan 13\, Wedstrijdnummer 1181\, Afdeling 3e klasse I D
DTSTART:20180201T200000
DTEND:20180201T230000
LOCATION:City Resort Helmond
ATTACH;FMTTYPE=text/plain:https://hbb.rivio.dev/senioren/2017/wedstrijd/187
 94
END:VEVENT
BEGIN:VEVENT
UID:https://hbb.rivio.dev/senioren/2017/wedstrijd/18830
DTSTAMP:20260420T090323Z
SUMMARY:Hanevoet 3 - Ganzeveer 2
DESCRIPTION:Baan 4\, Wedstrijdnummer 1185\, Afdeling 3e klasse I K
DTSTART:20180222T200000
DTEND:20180222T230000
LOCATION:City Resort Helmond
ATTACH;FMTTYPE=text/plain:https://hbb.rivio.dev/senioren/2017/wedstrijd/188
 30
END:VEVENT
BEGIN:VEVENT
UID:https://hbb.rivio.dev/senioren/2017/wedstrijd/18868
DTSTAMP:20260420T090323Z
SUMMARY:Gemert 2 - Hanevoet 3
DESCRIPTION:Baan 15\, Wedstrijdnummer 1189\, Afdeling 3e klasse I K
DTSTART:20180308T200000
DTEND:20180308T230000
LOCATION:City Resort Helmond
ATTACH;FMTTYPE=text/plain:https://hbb.rivio.dev/senioren/2017/wedstrijd/188
 68
END:VEVENT
BEGIN:VEVENT
UID:https://hbb.rivio.dev/senioren/2017/wedstrijd/20150
DTSTAMP:20260420T090323Z
SUMMARY:Gemert 2 - Hanevoet 3
DESCRIPTION:Baan 13\, Wedstrijdnummer 1338\, Afdeling 3e klasse I K
DTSTART:20180314T200000
DTEND:20180314T230000
LOCATION:City Resort Helmond
ATTACH;FMTTYPE=text/plain:https://hbb.rivio.dev/senioren/2017/wedstrijd/201
 50
END:VEVENT
BEGIN:VEVENT
UID:https://hbb.rivio.dev/senioren/2017/wedstrijd/20152
DTSTAMP:20260420T090323Z
SUMMARY:Hanevoet 3 - Con Brio 7
DESCRIPTION:Baan 12\, Wedstrijdnummer 1342\, Afdeling 3e klasse I K
DTSTART:20180412T200000
DTEND:20180412T230000
LOCATION:City Resort Helmond
ATTACH;FMTTYPE=text/plain:https://hbb.rivio.dev/senioren/2017/wedstrijd/201
 52
END:VEVENT
BEGIN:VTIMEZONE
TZID:Europe/Amsterdam
BEGIN:STANDARD
DTSTART:20170101T000000
TZNAME:CET
TZOFFSETTO:+0100
TZOFFSETFROM:+0100
END:STANDARD
BEGIN:DAYLIGHT
DTSTART:20170326T030000
TZNAME:CEST
TZOFFSETTO:+0200
TZOFFSETFROM:+0100
END:DAYLIGHT
BEGIN:STANDARD
DTSTART:20171029T020000
TZNAME:CET
TZOFFSETTO:+0100
TZOFFSETFROM:+0200
END:STANDARD
BEGIN:DAYLIGHT
DTSTART:20180325T030000
TZNAME:CEST
TZOFFSETTO:+0200
TZOFFSETFROM:+0100
END:DAYLIGHT
BEGIN:STANDARD
DTSTART:20181028T020000
TZNAME:CET
TZOFFSETTO:+0100
TZOFFSETFROM:+0200
END:STANDARD
END:VTIMEZONE
END:VCALENDAR
