BEGIN:VCALENDAR
PRODID:-//eluceo/ical//2.0/EN
VERSION:2.0
CALSCALE:GREGORIAN
BEGIN:VEVENT
UID:https://hbb.rivio.dev/senioren/2017/wedstrijd/18519
DTSTAMP:20260420T090630Z
SUMMARY:Con Brio 8 - Dommelen 4
DESCRIPTION:Baan 15\, Wedstrijdnummer 205\, Afdeling 4e klasse I
DTSTART:20170920T200000
DTEND:20170920T230000
LOCATION:City Resort Helmond
ATTACH;FMTTYPE=text/plain:https://hbb.rivio.dev/senioren/2017/wedstrijd/185
 19
END:VEVENT
BEGIN:VEVENT
UID:https://hbb.rivio.dev/senioren/2017/wedstrijd/18559
DTSTAMP:20260420T090630Z
SUMMARY:Dommelen 4 - Mierlo 9
DESCRIPTION:Baan 12\, Wedstrijdnummer 208\, Afdeling 4e klasse I
DTSTART:20171004T200000
DTEND:20171004T230000
LOCATION:City Resort Helmond
ATTACH;FMTTYPE=text/plain:https://hbb.rivio.dev/senioren/2017/wedstrijd/185
 59
END:VEVENT
BEGIN:VEVENT
UID:https://hbb.rivio.dev/senioren/2017/wedstrijd/18611
DTSTAMP:20260420T090630Z
SUMMARY:Never Down 2 - Dommelen 4
DESCRIPTION:Baan 1\, Wedstrijdnummer 212\, Afdeling 4e klasse I
DTSTART:20171109T200000
DTEND:20171109T230000
LOCATION:City Resort Helmond
ATTACH;FMTTYPE=text/plain:https://hbb.rivio.dev/senioren/2017/wedstrijd/186
 11
END:VEVENT
BEGIN:VEVENT
UID:https://hbb.rivio.dev/senioren/2017/wedstrijd/18659
DTSTAMP:20260420T090630Z
SUMMARY:Dommelen 4 - Someren 3
DESCRIPTION:Baan 10\, Wedstrijdnummer 215\, Afdeling 4e klasse I
DTSTART:20171123T200000
DTEND:20171123T230000
LOCATION:City Resort Helmond
ATTACH;FMTTYPE=text/plain:https://hbb.rivio.dev/senioren/2017/wedstrijd/186
 59
END:VEVENT
BEGIN:VEVENT
UID:https://hbb.rivio.dev/senioren/2017/wedstrijd/18684
DTSTAMP:20260420T090630Z
SUMMARY:RBC 3 - Dommelen 4
DESCRIPTION:Baan 14\, Wedstrijdnummer 219\, Afdeling 4e klasse I
DTSTART:20171130T200000
DTEND:20171130T230000
LOCATION:City Resort Helmond
ATTACH;FMTTYPE=text/plain:https://hbb.rivio.dev/senioren/2017/wedstrijd/186
 84
END:VEVENT
BEGIN:VEVENT
UID:https://hbb.rivio.dev/senioren/2017/wedstrijd/18713
DTSTAMP:20260420T090630Z
SUMMARY:Dommelen 4 - Mixed 7
DESCRIPTION:Baan 11\, Wedstrijdnummer 222\, Afdeling 4e klasse I
DTSTART:20171214T200000
DTEND:20171214T230000
LOCATION:City Resort Helmond
ATTACH;FMTTYPE=text/plain:https://hbb.rivio.dev/senioren/2017/wedstrijd/187
 13
END:VEVENT
BEGIN:VEVENT
UID:https://hbb.rivio.dev/senioren/2017/wedstrijd/18774
DTSTAMP:20260420T090630Z
SUMMARY:Dommelen 4 - Con Brio 8
DESCRIPTION:Baan 14\, Wedstrijdnummer 1205\, Afdeling 4e klasse I
DTSTART:20180125T200000
DTEND:20180125T230000
LOCATION:City Resort Helmond
ATTACH;FMTTYPE=text/plain:https://hbb.rivio.dev/senioren/2017/wedstrijd/187
 74
END:VEVENT
BEGIN:VEVENT
UID:https://hbb.rivio.dev/senioren/2017/wedstrijd/18804
DTSTAMP:20260420T090630Z
SUMMARY:Mierlo 9 - Dommelen 4
DESCRIPTION:Baan 13\, Wedstrijdnummer 1208\, Afdeling 4e klasse I
DTSTART:20180207T200000
DTEND:20180207T230000
LOCATION:City Resort Helmond
ATTACH;FMTTYPE=text/plain:https://hbb.rivio.dev/senioren/2017/wedstrijd/188
 04
END:VEVENT
BEGIN:VEVENT
UID:https://hbb.rivio.dev/senioren/2017/wedstrijd/18848
DTSTAMP:20260420T090630Z
SUMMARY:Dommelen 4 - Never Down 2
DESCRIPTION:Baan 2\, Wedstrijdnummer 1212\, Afdeling 4e klasse I
DTSTART:20180301T200000
DTEND:20180301T230000
LOCATION:City Resort Helmond
ATTACH;FMTTYPE=text/plain:https://hbb.rivio.dev/senioren/2017/wedstrijd/188
 48
END:VEVENT
BEGIN:VEVENT
UID:https://hbb.rivio.dev/senioren/2017/wedstrijd/18880
DTSTAMP:20260420T090630Z
SUMMARY:Someren 3 - Dommelen 4
DESCRIPTION:Baan 12\, Wedstrijdnummer 1215\, Afdeling 4e klasse I
DTSTART:20180315T200000
DTEND:20180315T230000
LOCATION:City Resort Helmond
ATTACH;FMTTYPE=text/plain:https://hbb.rivio.dev/senioren/2017/wedstrijd/188
 80
END:VEVENT
BEGIN:VEVENT
UID:https://hbb.rivio.dev/senioren/2017/wedstrijd/18892
DTSTAMP:20260420T090630Z
SUMMARY:Dommelen 4 - RBC 3
DESCRIPTION:Baan 14\, Wedstrijdnummer 1219\, Afdeling 4e klasse I
DTSTART:20180322T200000
DTEND:20180322T230000
LOCATION:City Resort Helmond
ATTACH;FMTTYPE=text/plain:https://hbb.rivio.dev/senioren/2017/wedstrijd/188
 92
END:VEVENT
BEGIN:VEVENT
UID:https://hbb.rivio.dev/senioren/2017/wedstrijd/18906
DTSTAMP:20260420T090630Z
SUMMARY:Mixed 7 - Dommelen 4
DESCRIPTION:Baan 15\, Wedstrijdnummer 1222\, Afdeling 4e klasse I
DTSTART:20180329T200000
DTEND:20180329T230000
LOCATION:City Resort Helmond
ATTACH;FMTTYPE=text/plain:https://hbb.rivio.dev/senioren/2017/wedstrijd/189
 06
END:VEVENT
BEGIN:VTIMEZONE
TZID:Europe/Amsterdam
BEGIN:STANDARD
DTSTART:20170101T000000
TZNAME:CET
TZOFFSETTO:+0100
TZOFFSETFROM:+0100
END:STANDARD
BEGIN:DAYLIGHT
DTSTART:20170326T030000
TZNAME:CEST
TZOFFSETTO:+0200
TZOFFSETFROM:+0100
END:DAYLIGHT
BEGIN:STANDARD
DTSTART:20171029T020000
TZNAME:CET
TZOFFSETTO:+0100
TZOFFSETFROM:+0200
END:STANDARD
BEGIN:DAYLIGHT
DTSTART:20180325T030000
TZNAME:CEST
TZOFFSETTO:+0200
TZOFFSETFROM:+0100
END:DAYLIGHT
BEGIN:STANDARD
DTSTART:20181028T020000
TZNAME:CET
TZOFFSETTO:+0100
TZOFFSETFROM:+0200
END:STANDARD
END:VTIMEZONE
END:VCALENDAR
