BEGIN:VCALENDAR
PRODID:-//eluceo/ical//2.0/EN
VERSION:2.0
CALSCALE:GREGORIAN
BEGIN:VEVENT
UID:https://hbb.rivio.dev/senioren/2017/wedstrijd/18518
DTSTAMP:20260420T203317Z
SUMMARY:Dommelen 1 - Gemert 1
DESCRIPTION:Baan 14\, Wedstrijdnummer 120\, Afdeling 2e klasse I
DTSTART:20170920T200000
DTEND:20170920T230000
LOCATION:City Resort Helmond
ATTACH;FMTTYPE=text/plain:https://hbb.rivio.dev/senioren/2017/wedstrijd/185
 18
END:VEVENT
BEGIN:VEVENT
UID:https://hbb.rivio.dev/senioren/2017/wedstrijd/18538
DTSTAMP:20260420T203317Z
SUMMARY:Phoenix 3 - Dommelen 1
DESCRIPTION:Baan 13\, Wedstrijdnummer 123\, Afdeling 2e klasse I
DTSTART:20170927T200000
DTEND:20170927T230000
LOCATION:City Resort Helmond
ATTACH;FMTTYPE=text/plain:https://hbb.rivio.dev/senioren/2017/wedstrijd/185
 38
END:VEVENT
BEGIN:VEVENT
UID:https://hbb.rivio.dev/senioren/2017/wedstrijd/18585
DTSTAMP:20260420T203317Z
SUMMARY:Dommelen 1 - BCAB 4
DESCRIPTION:Baan 1\, Wedstrijdnummer 127\, Afdeling 2e klasse I
DTSTART:20171012T200000
DTEND:20171012T230000
LOCATION:City Resort Helmond
ATTACH;FMTTYPE=text/plain:https://hbb.rivio.dev/senioren/2017/wedstrijd/185
 85
END:VEVENT
BEGIN:VEVENT
UID:https://hbb.rivio.dev/senioren/2017/wedstrijd/18677
DTSTAMP:20260420T203317Z
SUMMARY:Hanevoet 2 - Dommelen 1
DESCRIPTION:Baan 3\, Wedstrijdnummer 135\, Afdeling 2e klasse I
DTSTART:20171130T200000
DTEND:20171130T230000
LOCATION:City Resort Helmond
ATTACH;FMTTYPE=text/plain:https://hbb.rivio.dev/senioren/2017/wedstrijd/186
 77
END:VEVENT
BEGIN:VEVENT
UID:https://hbb.rivio.dev/senioren/2017/wedstrijd/18707
DTSTAMP:20260420T203317Z
SUMMARY:Dommelen 1 - Mixed 5
DESCRIPTION:Baan 1\, Wedstrijdnummer 139\, Afdeling 2e klasse I
DTSTART:20171214T200000
DTEND:20171214T230000
LOCATION:City Resort Helmond
ATTACH;FMTTYPE=text/plain:https://hbb.rivio.dev/senioren/2017/wedstrijd/187
 07
END:VEVENT
BEGIN:VEVENT
UID:https://hbb.rivio.dev/senioren/2017/wedstrijd/18755
DTSTAMP:20260420T203317Z
SUMMARY:Mierlo 7 - Dommelen 1
DESCRIPTION:Baan 1\, Wedstrijdnummer 144\, Afdeling 2e klasse I
DTSTART:20180124T200000
DTEND:20180124T230000
LOCATION:City Resort Helmond
ATTACH;FMTTYPE=text/plain:https://hbb.rivio.dev/senioren/2017/wedstrijd/187
 55
END:VEVENT
BEGIN:VEVENT
UID:https://hbb.rivio.dev/senioren/2017/wedstrijd/18776
DTSTAMP:20260420T203317Z
SUMMARY:Gemert 1 - Dommelen 1
DESCRIPTION:Baan 1\, Wedstrijdnummer 1120\, Afdeling 2e klasse I
DTSTART:20180131T200000
DTEND:20180131T230000
LOCATION:City Resort Helmond
ATTACH;FMTTYPE=text/plain:https://hbb.rivio.dev/senioren/2017/wedstrijd/187
 76
END:VEVENT
BEGIN:VEVENT
UID:https://hbb.rivio.dev/senioren/2017/wedstrijd/18799
DTSTAMP:20260420T203317Z
SUMMARY:Dommelen 1 - Phoenix 3
DESCRIPTION:Baan 3\, Wedstrijdnummer 1123\, Afdeling 2e klasse I
DTSTART:20180207T200000
DTEND:20180207T230000
LOCATION:City Resort Helmond
ATTACH;FMTTYPE=text/plain:https://hbb.rivio.dev/senioren/2017/wedstrijd/187
 99
END:VEVENT
BEGIN:VEVENT
UID:https://hbb.rivio.dev/senioren/2017/wedstrijd/18831
DTSTAMP:20260420T203317Z
SUMMARY:BCAB 4 - Dommelen 1
DESCRIPTION:Baan 5\, Wedstrijdnummer 1127\, Afdeling 2e klasse I
DTSTART:20180222T200000
DTEND:20180222T230000
LOCATION:City Resort Helmond
ATTACH;FMTTYPE=text/plain:https://hbb.rivio.dev/senioren/2017/wedstrijd/188
 31
END:VEVENT
BEGIN:VEVENT
UID:https://hbb.rivio.dev/senioren/2017/wedstrijd/18888
DTSTAMP:20260420T203317Z
SUMMARY:Dommelen 1 - Hanevoet 2
DESCRIPTION:Baan 10\, Wedstrijdnummer 1135\, Afdeling 2e klasse I
DTSTART:20180322T200000
DTEND:20180322T230000
LOCATION:City Resort Helmond
ATTACH;FMTTYPE=text/plain:https://hbb.rivio.dev/senioren/2017/wedstrijd/188
 88
END:VEVENT
BEGIN:VEVENT
UID:https://hbb.rivio.dev/senioren/2017/wedstrijd/18894
DTSTAMP:20260420T203317Z
SUMMARY:Mixed 5 - Dommelen 1
DESCRIPTION:Baan 10\, Wedstrijdnummer 1139\, Afdeling 2e klasse I
DTSTART:20180328T200000
DTEND:20180328T230000
LOCATION:City Resort Helmond
ATTACH;FMTTYPE=text/plain:https://hbb.rivio.dev/senioren/2017/wedstrijd/188
 94
END:VEVENT
BEGIN:VEVENT
UID:https://hbb.rivio.dev/senioren/2017/wedstrijd/18924
DTSTAMP:20260420T203317Z
SUMMARY:Dommelen 1 - Mierlo 7
DESCRIPTION:Baan 4\, Wedstrijdnummer 1144\, Afdeling 2e klasse I
DTSTART:20180516T200000
DTEND:20180516T230000
LOCATION:City Resort Helmond
ATTACH;FMTTYPE=text/plain:https://hbb.rivio.dev/senioren/2017/wedstrijd/189
 24
END:VEVENT
BEGIN:VTIMEZONE
TZID:Europe/Amsterdam
BEGIN:STANDARD
DTSTART:20170101T000000
TZNAME:CET
TZOFFSETTO:+0100
TZOFFSETFROM:+0100
END:STANDARD
BEGIN:DAYLIGHT
DTSTART:20170326T030000
TZNAME:CEST
TZOFFSETTO:+0200
TZOFFSETFROM:+0100
END:DAYLIGHT
BEGIN:STANDARD
DTSTART:20171029T020000
TZNAME:CET
TZOFFSETTO:+0100
TZOFFSETFROM:+0200
END:STANDARD
BEGIN:DAYLIGHT
DTSTART:20180325T030000
TZNAME:CEST
TZOFFSETTO:+0200
TZOFFSETFROM:+0100
END:DAYLIGHT
BEGIN:STANDARD
DTSTART:20181028T020000
TZNAME:CET
TZOFFSETTO:+0100
TZOFFSETFROM:+0200
END:STANDARD
END:VTIMEZONE
END:VCALENDAR
