BEGIN:VCALENDAR
PRODID:-//eluceo/ical//2.0/EN
VERSION:2.0
CALSCALE:GREGORIAN
BEGIN:VEVENT
UID:https://hbb.rivio.dev/senioren/2017/wedstrijd/18544
DTSTAMP:20260420T184445Z
SUMMARY:Never Down 1 - Veldhoven 2
DESCRIPTION:Baan 4\, Wedstrijdnummer 150\, Afdeling 2e klasse II
DTSTART:20170928T200000
DTEND:20170928T230000
LOCATION:City Resort Helmond
ATTACH;FMTTYPE=text/plain:https://hbb.rivio.dev/senioren/2017/wedstrijd/185
 44
END:VEVENT
BEGIN:VEVENT
UID:https://hbb.rivio.dev/senioren/2017/wedstrijd/18571
DTSTAMP:20260420T184445Z
SUMMARY:Mixed 6 - Never Down 1
DESCRIPTION:Baan 13\, Wedstrijdnummer 153\, Afdeling 2e klasse II
DTSTART:20171005T200000
DTEND:20171005T230000
LOCATION:City Resort Helmond
ATTACH;FMTTYPE=text/plain:https://hbb.rivio.dev/senioren/2017/wedstrijd/185
 71
END:VEVENT
BEGIN:VEVENT
UID:https://hbb.rivio.dev/senioren/2017/wedstrijd/18615
DTSTAMP:20260420T184445Z
SUMMARY:Never Down 1 - Mierlo 6
DESCRIPTION:Baan 5\, Wedstrijdnummer 157\, Afdeling 2e klasse II
DTSTART:20171109T200000
DTEND:20171109T230000
LOCATION:City Resort Helmond
ATTACH;FMTTYPE=text/plain:https://hbb.rivio.dev/senioren/2017/wedstrijd/186
 15
END:VEVENT
BEGIN:VEVENT
UID:https://hbb.rivio.dev/senioren/2017/wedstrijd/18655
DTSTAMP:20260420T184445Z
SUMMARY:Dommelen 2 - Never Down 1
DESCRIPTION:Baan 2\, Wedstrijdnummer 160\, Afdeling 2e klasse II
DTSTART:20171123T200000
DTEND:20171123T230000
LOCATION:City Resort Helmond
ATTACH;FMTTYPE=text/plain:https://hbb.rivio.dev/senioren/2017/wedstrijd/186
 55
END:VEVENT
BEGIN:VEVENT
UID:https://hbb.rivio.dev/senioren/2017/wedstrijd/18686
DTSTAMP:20260420T184445Z
SUMMARY:Never Down 1 - BCAB 5
DESCRIPTION:Baan 1\, Wedstrijdnummer 164\, Afdeling 2e klasse II
DTSTART:20171207T200000
DTEND:20171207T230000
LOCATION:City Resort Helmond
ATTACH;FMTTYPE=text/plain:https://hbb.rivio.dev/senioren/2017/wedstrijd/186
 86
END:VEVENT
BEGIN:VEVENT
UID:https://hbb.rivio.dev/senioren/2017/wedstrijd/18714
DTSTAMP:20260420T184445Z
SUMMARY:RBC 2 - Never Down 1
DESCRIPTION:Baan 12\, Wedstrijdnummer 167\, Afdeling 2e klasse II
DTSTART:20171214T200000
DTEND:20171214T230000
LOCATION:City Resort Helmond
ATTACH;FMTTYPE=text/plain:https://hbb.rivio.dev/senioren/2017/wedstrijd/187
 14
END:VEVENT
BEGIN:VEVENT
UID:https://hbb.rivio.dev/senioren/2017/wedstrijd/18747
DTSTAMP:20260420T184445Z
SUMMARY:Never Down 1 - Brabantia 3
DESCRIPTION:Baan 4\, Wedstrijdnummer 171\, Afdeling 2e klasse II
DTSTART:20180118T200000
DTEND:20180118T230000
LOCATION:City Resort Helmond
ATTACH;FMTTYPE=text/plain:https://hbb.rivio.dev/senioren/2017/wedstrijd/187
 47
END:VEVENT
BEGIN:VEVENT
UID:https://hbb.rivio.dev/senioren/2017/wedstrijd/18791
DTSTAMP:20260420T184445Z
SUMMARY:Veldhoven 2 - Never Down 1
DESCRIPTION:Baan 10\, Wedstrijdnummer 1150\, Afdeling 2e klasse II
DTSTART:20180201T200000
DTEND:20180201T230000
LOCATION:City Resort Helmond
ATTACH;FMTTYPE=text/plain:https://hbb.rivio.dev/senioren/2017/wedstrijd/187
 91
END:VEVENT
BEGIN:VEVENT
UID:https://hbb.rivio.dev/senioren/2017/wedstrijd/18817
DTSTAMP:20260420T184445Z
SUMMARY:Never Down 1 - Mixed 6
DESCRIPTION:Baan 15\, Wedstrijdnummer 1153\, Afdeling 2e klasse II
DTSTART:20180208T200000
DTEND:20180208T230000
LOCATION:City Resort Helmond
ATTACH;FMTTYPE=text/plain:https://hbb.rivio.dev/senioren/2017/wedstrijd/188
 17
END:VEVENT
BEGIN:VEVENT
UID:https://hbb.rivio.dev/senioren/2017/wedstrijd/18851
DTSTAMP:20260420T184445Z
SUMMARY:Mierlo 6 - Never Down 1
DESCRIPTION:Baan 5\, Wedstrijdnummer 1157\, Afdeling 2e klasse II
DTSTART:20180301T200000
DTEND:20180301T230000
LOCATION:City Resort Helmond
ATTACH;FMTTYPE=text/plain:https://hbb.rivio.dev/senioren/2017/wedstrijd/188
 51
END:VEVENT
BEGIN:VEVENT
UID:https://hbb.rivio.dev/senioren/2017/wedstrijd/18877
DTSTAMP:20260420T184445Z
SUMMARY:Never Down 1 - Dommelen 2
DESCRIPTION:Baan 5\, Wedstrijdnummer 1160\, Afdeling 2e klasse II
DTSTART:20180315T200000
DTEND:20180315T230000
LOCATION:City Resort Helmond
ATTACH;FMTTYPE=text/plain:https://hbb.rivio.dev/senioren/2017/wedstrijd/188
 77
END:VEVENT
BEGIN:VEVENT
UID:https://hbb.rivio.dev/senioren/2017/wedstrijd/18897
DTSTAMP:20260420T184445Z
SUMMARY:BCAB 5 - Never Down 1
DESCRIPTION:Baan 2\, Wedstrijdnummer 1164\, Afdeling 2e klasse II
DTSTART:20180329T200000
DTEND:20180329T230000
LOCATION:City Resort Helmond
ATTACH;FMTTYPE=text/plain:https://hbb.rivio.dev/senioren/2017/wedstrijd/188
 97
END:VEVENT
BEGIN:VEVENT
UID:https://hbb.rivio.dev/senioren/2017/wedstrijd/18907
DTSTAMP:20260420T184445Z
SUMMARY:Never Down 1 - RBC 2
DESCRIPTION:Baan 5\, Wedstrijdnummer 1167\, Afdeling 2e klasse II
DTSTART:20180404T200000
DTEND:20180404T230000
LOCATION:City Resort Helmond
ATTACH;FMTTYPE=text/plain:https://hbb.rivio.dev/senioren/2017/wedstrijd/189
 07
END:VEVENT
BEGIN:VEVENT
UID:https://hbb.rivio.dev/senioren/2017/wedstrijd/18917
DTSTAMP:20260420T184445Z
SUMMARY:Brabantia 3 - Never Down 1
DESCRIPTION:Baan 5\, Wedstrijdnummer 1171\, Afdeling 2e klasse II
DTSTART:20180419T200000
DTEND:20180419T230000
LOCATION:City Resort Helmond
ATTACH;FMTTYPE=text/plain:https://hbb.rivio.dev/senioren/2017/wedstrijd/189
 17
END:VEVENT
BEGIN:VTIMEZONE
TZID:Europe/Amsterdam
BEGIN:STANDARD
DTSTART:20170101T000000
TZNAME:CET
TZOFFSETTO:+0100
TZOFFSETFROM:+0100
END:STANDARD
BEGIN:DAYLIGHT
DTSTART:20170326T030000
TZNAME:CEST
TZOFFSETTO:+0200
TZOFFSETFROM:+0100
END:DAYLIGHT
BEGIN:STANDARD
DTSTART:20171029T020000
TZNAME:CET
TZOFFSETTO:+0100
TZOFFSETFROM:+0200
END:STANDARD
BEGIN:DAYLIGHT
DTSTART:20180325T030000
TZNAME:CEST
TZOFFSETTO:+0200
TZOFFSETFROM:+0100
END:DAYLIGHT
BEGIN:STANDARD
DTSTART:20181028T020000
TZNAME:CET
TZOFFSETTO:+0100
TZOFFSETFROM:+0200
END:STANDARD
END:VTIMEZONE
END:VCALENDAR
