BEGIN:VCALENDAR
PRODID:-//eluceo/ical//2.0/EN
VERSION:2.0
CALSCALE:GREGORIAN
BEGIN:VEVENT
UID:https://hbb.rivio.dev/jeugd/2017/wedstrijd/19762
DTSTAMP:20260420T184515Z
SUMMARY:Phoenix 3 - Mixed 7
DESCRIPTION:Baan 10\, Afdeling H-klasse 
DTSTART:20170924T111500
DTEND:20170924T130000
LOCATION:City Resort Helmond
ATTACH;FMTTYPE=text/plain:https://hbb.rivio.dev/jeugd/2017/wedstrijd/19762
END:VEVENT
BEGIN:VEVENT
UID:https://hbb.rivio.dev/jeugd/2017/wedstrijd/19760
DTSTAMP:20260420T184515Z
SUMMARY:Hanevoet 2 - Phoenix 3
DESCRIPTION:Baan 10\, Afdeling H-klasse 
DTSTART:20170924T093000
DTEND:20170924T111500
LOCATION:City Resort Helmond
ATTACH;FMTTYPE=text/plain:https://hbb.rivio.dev/jeugd/2017/wedstrijd/19760
END:VEVENT
BEGIN:VEVENT
UID:https://hbb.rivio.dev/jeugd/2017/wedstrijd/19797
DTSTAMP:20260420T184515Z
SUMMARY:Phoenix 3 - BCV '73 5
DESCRIPTION:Baan 14\, Afdeling H-klasse 
DTSTART:20171008T093000
DTEND:20171008T111500
LOCATION:City Resort Helmond
ATTACH;FMTTYPE=text/plain:https://hbb.rivio.dev/jeugd/2017/wedstrijd/19797
END:VEVENT
BEGIN:VEVENT
UID:https://hbb.rivio.dev/jeugd/2017/wedstrijd/19800
DTSTAMP:20260420T184515Z
SUMMARY:Mixed 7 - Phoenix 3
DESCRIPTION:Baan 15\, Afdeling H-klasse 
DTSTART:20171008T111500
DTEND:20171008T130000
LOCATION:City Resort Helmond
ATTACH;FMTTYPE=text/plain:https://hbb.rivio.dev/jeugd/2017/wedstrijd/19800
END:VEVENT
BEGIN:VEVENT
UID:https://hbb.rivio.dev/jeugd/2017/wedstrijd/19848
DTSTAMP:20260420T184515Z
SUMMARY:Hanevoet 3 - Phoenix 3
DESCRIPTION:Baan 14\, Afdeling H-klasse 
DTSTART:20171126T093000
DTEND:20171126T111500
LOCATION:City Resort Helmond
ATTACH;FMTTYPE=text/plain:https://hbb.rivio.dev/jeugd/2017/wedstrijd/19848
END:VEVENT
BEGIN:VEVENT
UID:https://hbb.rivio.dev/jeugd/2017/wedstrijd/19851
DTSTAMP:20260420T184515Z
SUMMARY:BCV '73 5 - Phoenix 3
DESCRIPTION:Baan 15\, Afdeling H-klasse 
DTSTART:20171126T111500
DTEND:20171126T130000
LOCATION:City Resort Helmond
ATTACH;FMTTYPE=text/plain:https://hbb.rivio.dev/jeugd/2017/wedstrijd/19851
END:VEVENT
BEGIN:VEVENT
UID:https://hbb.rivio.dev/jeugd/2017/wedstrijd/19884
DTSTAMP:20260420T184515Z
SUMMARY:Phoenix 3 - Hanevoet 2
DESCRIPTION:Baan 15\, Afdeling H-klasse 
DTSTART:20171217T093000
DTEND:20171217T111500
LOCATION:City Resort Helmond
ATTACH;FMTTYPE=text/plain:https://hbb.rivio.dev/jeugd/2017/wedstrijd/19884
END:VEVENT
BEGIN:VEVENT
UID:https://hbb.rivio.dev/jeugd/2017/wedstrijd/19886
DTSTAMP:20260420T184515Z
SUMMARY:Phoenix 3 - Hanevoet 3
DESCRIPTION:Baan 15\, Afdeling H-klasse 
DTSTART:20171217T111500
DTEND:20171217T130000
LOCATION:City Resort Helmond
ATTACH;FMTTYPE=text/plain:https://hbb.rivio.dev/jeugd/2017/wedstrijd/19886
END:VEVENT
BEGIN:VEVENT
UID:https://hbb.rivio.dev/jeugd/2017/wedstrijd/19937
DTSTAMP:20260420T184515Z
SUMMARY:Phoenix 3 - Mixed 7
DESCRIPTION:Baan 5\, Afdeling H-klasse 
DTSTART:20180304T111500
DTEND:20180304T130000
LOCATION:City Resort Helmond
ATTACH;FMTTYPE=text/plain:https://hbb.rivio.dev/jeugd/2017/wedstrijd/19937
END:VEVENT
BEGIN:VEVENT
UID:https://hbb.rivio.dev/jeugd/2017/wedstrijd/19933
DTSTAMP:20260420T184515Z
SUMMARY:Hanevoet 2 - Phoenix 3
DESCRIPTION:Baan 5\, Afdeling H-klasse 
DTSTART:20180304T093000
DTEND:20180304T111500
LOCATION:City Resort Helmond
ATTACH;FMTTYPE=text/plain:https://hbb.rivio.dev/jeugd/2017/wedstrijd/19933
END:VEVENT
BEGIN:VEVENT
UID:https://hbb.rivio.dev/jeugd/2017/wedstrijd/19994
DTSTAMP:20260420T184515Z
SUMMARY:Phoenix 3 - BCV '73 5
DESCRIPTION:Baan 11\, Afdeling H-klasse 
DTSTART:20180318T093000
DTEND:20180318T111500
LOCATION:City Resort Helmond
ATTACH;FMTTYPE=text/plain:https://hbb.rivio.dev/jeugd/2017/wedstrijd/19994
END:VEVENT
BEGIN:VEVENT
UID:https://hbb.rivio.dev/jeugd/2017/wedstrijd/20000
DTSTAMP:20260420T184515Z
SUMMARY:Mixed 7 - Phoenix 3
DESCRIPTION:Baan 12\, Afdeling H-klasse 
DTSTART:20180318T111500
DTEND:20180318T130000
LOCATION:City Resort Helmond
ATTACH;FMTTYPE=text/plain:https://hbb.rivio.dev/jeugd/2017/wedstrijd/20000
END:VEVENT
BEGIN:VEVENT
UID:https://hbb.rivio.dev/jeugd/2017/wedstrijd/20079
DTSTAMP:20260420T184515Z
SUMMARY:Hanevoet 3 - Phoenix 3
DESCRIPTION:Baan 10\, Afdeling H-klasse 
DTSTART:20180415T093000
DTEND:20180415T111500
LOCATION:City Resort Helmond
ATTACH;FMTTYPE=text/plain:https://hbb.rivio.dev/jeugd/2017/wedstrijd/20079
END:VEVENT
BEGIN:VEVENT
UID:https://hbb.rivio.dev/jeugd/2017/wedstrijd/20085
DTSTAMP:20260420T184515Z
SUMMARY:BCV '73 5 - Phoenix 3
DESCRIPTION:Baan 15\, Afdeling H-klasse 
DTSTART:20180415T111500
DTEND:20180415T130000
LOCATION:City Resort Helmond
ATTACH;FMTTYPE=text/plain:https://hbb.rivio.dev/jeugd/2017/wedstrijd/20085
END:VEVENT
BEGIN:VEVENT
UID:https://hbb.rivio.dev/jeugd/2017/wedstrijd/20110
DTSTAMP:20260420T184515Z
SUMMARY:Phoenix 3 - Hanevoet 2
DESCRIPTION:Baan 15\, Afdeling H-klasse 
DTSTART:20180422T093000
DTEND:20180422T111500
LOCATION:City Resort Helmond
ATTACH;FMTTYPE=text/plain:https://hbb.rivio.dev/jeugd/2017/wedstrijd/20110
END:VEVENT
BEGIN:VEVENT
UID:https://hbb.rivio.dev/jeugd/2017/wedstrijd/20114
DTSTAMP:20260420T184515Z
SUMMARY:Phoenix 3 - Hanevoet 3
DESCRIPTION:Baan 15\, Afdeling H-klasse 
DTSTART:20180422T111500
DTEND:20180422T130000
LOCATION:City Resort Helmond
ATTACH;FMTTYPE=text/plain:https://hbb.rivio.dev/jeugd/2017/wedstrijd/20114
END:VEVENT
BEGIN:VTIMEZONE
TZID:Europe/Amsterdam
BEGIN:STANDARD
DTSTART:20170101T000000
TZNAME:CET
TZOFFSETTO:+0100
TZOFFSETFROM:+0100
END:STANDARD
BEGIN:DAYLIGHT
DTSTART:20170326T030000
TZNAME:CEST
TZOFFSETTO:+0200
TZOFFSETFROM:+0100
END:DAYLIGHT
BEGIN:STANDARD
DTSTART:20171029T020000
TZNAME:CET
TZOFFSETTO:+0100
TZOFFSETFROM:+0200
END:STANDARD
BEGIN:DAYLIGHT
DTSTART:20180325T030000
TZNAME:CEST
TZOFFSETTO:+0200
TZOFFSETFROM:+0100
END:DAYLIGHT
BEGIN:STANDARD
DTSTART:20181028T020000
TZNAME:CET
TZOFFSETTO:+0100
TZOFFSETFROM:+0200
END:STANDARD
END:VTIMEZONE
END:VCALENDAR
