BEGIN:VCALENDAR
PRODID:-//eluceo/ical//2.0/EN
VERSION:2.0
CALSCALE:GREGORIAN
BEGIN:VEVENT
UID:https://hbb.rivio.dev/senioren/2017/wedstrijd/18530
DTSTAMP:20260420T133811Z
SUMMARY:Never Down 2 - RBC 3
DESCRIPTION:Baan 15\, Wedstrijdnummer 207\, Afdeling 4e klasse I
DTSTART:20170921T200000
DTEND:20170921T230000
LOCATION:City Resort Helmond
ATTACH;FMTTYPE=text/plain:https://hbb.rivio.dev/senioren/2017/wedstrijd/185
 30
END:VEVENT
BEGIN:VEVENT
UID:https://hbb.rivio.dev/senioren/2017/wedstrijd/18568
DTSTAMP:20260420T133811Z
SUMMARY:RBC 3 - Someren 3
DESCRIPTION:Baan 15\, Wedstrijdnummer 210\, Afdeling 4e klasse I
DTSTART:20171116T200000
DTEND:20171116T230000
LOCATION:City Resort Helmond
ATTACH;FMTTYPE=text/plain:https://hbb.rivio.dev/senioren/2017/wedstrijd/185
 68
END:VEVENT
BEGIN:VEVENT
UID:https://hbb.rivio.dev/senioren/2017/wedstrijd/18660
DTSTAMP:20260420T133811Z
SUMMARY:Mixed 7 - RBC 3
DESCRIPTION:Baan 11\, Wedstrijdnummer 216\, Afdeling 4e klasse I
DTSTART:20171123T200000
DTEND:20171123T230000
LOCATION:City Resort Helmond
ATTACH;FMTTYPE=text/plain:https://hbb.rivio.dev/senioren/2017/wedstrijd/186
 60
END:VEVENT
BEGIN:VEVENT
UID:https://hbb.rivio.dev/senioren/2017/wedstrijd/18684
DTSTAMP:20260420T133811Z
SUMMARY:RBC 3 - Dommelen 4
DESCRIPTION:Baan 14\, Wedstrijdnummer 219\, Afdeling 4e klasse I
DTSTART:20171130T200000
DTEND:20171130T230000
LOCATION:City Resort Helmond
ATTACH;FMTTYPE=text/plain:https://hbb.rivio.dev/senioren/2017/wedstrijd/186
 84
END:VEVENT
BEGIN:VEVENT
UID:https://hbb.rivio.dev/senioren/2017/wedstrijd/18712
DTSTAMP:20260420T133811Z
SUMMARY:Con Brio 8 - RBC 3
DESCRIPTION:Baan 10\, Wedstrijdnummer 221\, Afdeling 4e klasse I
DTSTART:20171214T200000
DTEND:20171214T230000
LOCATION:City Resort Helmond
ATTACH;FMTTYPE=text/plain:https://hbb.rivio.dev/senioren/2017/wedstrijd/187
 12
END:VEVENT
BEGIN:VEVENT
UID:https://hbb.rivio.dev/senioren/2017/wedstrijd/18721
DTSTAMP:20260420T133811Z
SUMMARY:RBC 3 - Mierlo 9
DESCRIPTION:Baan 4\, Wedstrijdnummer 224\, Afdeling 4e klasse I
DTSTART:20171221T200000
DTEND:20171221T230000
LOCATION:City Resort Helmond
ATTACH;FMTTYPE=text/plain:https://hbb.rivio.dev/senioren/2017/wedstrijd/187
 21
END:VEVENT
BEGIN:VEVENT
UID:https://hbb.rivio.dev/senioren/2017/wedstrijd/18775
DTSTAMP:20260420T133811Z
SUMMARY:RBC 3 - Never Down 2
DESCRIPTION:Baan 15\, Wedstrijdnummer 1207\, Afdeling 4e klasse I
DTSTART:20180125T200000
DTEND:20180125T230000
LOCATION:City Resort Helmond
ATTACH;FMTTYPE=text/plain:https://hbb.rivio.dev/senioren/2017/wedstrijd/187
 75
END:VEVENT
BEGIN:VEVENT
UID:https://hbb.rivio.dev/senioren/2017/wedstrijd/18828
DTSTAMP:20260420T133811Z
SUMMARY:Someren 3 - RBC 3
DESCRIPTION:Baan 2\, Wedstrijdnummer 1210\, Afdeling 4e klasse I
DTSTART:20180222T200000
DTEND:20180222T230000
LOCATION:City Resort Helmond
ATTACH;FMTTYPE=text/plain:https://hbb.rivio.dev/senioren/2017/wedstrijd/188
 28
END:VEVENT
BEGIN:VEVENT
UID:https://hbb.rivio.dev/senioren/2017/wedstrijd/18881
DTSTAMP:20260420T133811Z
SUMMARY:RBC 3 - Mixed 7
DESCRIPTION:Baan 13\, Wedstrijdnummer 1216\, Afdeling 4e klasse I
DTSTART:20180315T200000
DTEND:20180315T230000
LOCATION:City Resort Helmond
ATTACH;FMTTYPE=text/plain:https://hbb.rivio.dev/senioren/2017/wedstrijd/188
 81
END:VEVENT
BEGIN:VEVENT
UID:https://hbb.rivio.dev/senioren/2017/wedstrijd/18892
DTSTAMP:20260420T133811Z
SUMMARY:Dommelen 4 - RBC 3
DESCRIPTION:Baan 14\, Wedstrijdnummer 1219\, Afdeling 4e klasse I
DTSTART:20180322T200000
DTEND:20180322T230000
LOCATION:City Resort Helmond
ATTACH;FMTTYPE=text/plain:https://hbb.rivio.dev/senioren/2017/wedstrijd/188
 92
END:VEVENT
BEGIN:VEVENT
UID:https://hbb.rivio.dev/senioren/2017/wedstrijd/18905
DTSTAMP:20260420T133811Z
SUMMARY:RBC 3 - Con Brio 8
DESCRIPTION:Baan 14\, Wedstrijdnummer 1221\, Afdeling 4e klasse I
DTSTART:20180329T200000
DTEND:20180329T230000
LOCATION:City Resort Helmond
ATTACH;FMTTYPE=text/plain:https://hbb.rivio.dev/senioren/2017/wedstrijd/189
 05
END:VEVENT
BEGIN:VEVENT
UID:https://hbb.rivio.dev/senioren/2017/wedstrijd/18920
DTSTAMP:20260420T133811Z
SUMMARY:Mierlo 9 - RBC 3
DESCRIPTION:Baan 12\, Wedstrijdnummer 1224\, Afdeling 4e klasse I
DTSTART:20180419T200000
DTEND:20180419T230000
LOCATION:City Resort Helmond
ATTACH;FMTTYPE=text/plain:https://hbb.rivio.dev/senioren/2017/wedstrijd/189
 20
END:VEVENT
BEGIN:VTIMEZONE
TZID:Europe/Amsterdam
BEGIN:STANDARD
DTSTART:20170101T000000
TZNAME:CET
TZOFFSETTO:+0100
TZOFFSETFROM:+0100
END:STANDARD
BEGIN:DAYLIGHT
DTSTART:20170326T030000
TZNAME:CEST
TZOFFSETTO:+0200
TZOFFSETFROM:+0100
END:DAYLIGHT
BEGIN:STANDARD
DTSTART:20171029T020000
TZNAME:CET
TZOFFSETTO:+0100
TZOFFSETFROM:+0200
END:STANDARD
BEGIN:DAYLIGHT
DTSTART:20180325T030000
TZNAME:CEST
TZOFFSETTO:+0200
TZOFFSETFROM:+0100
END:DAYLIGHT
BEGIN:STANDARD
DTSTART:20181028T020000
TZNAME:CET
TZOFFSETTO:+0100
TZOFFSETFROM:+0200
END:STANDARD
END:VTIMEZONE
END:VCALENDAR
