BEGIN:VCALENDAR
PRODID:-//eluceo/ical//2.0/EN
VERSION:2.0
CALSCALE:GREGORIAN
BEGIN:VEVENT
UID:https://hbb.rivio.dev/senioren/2017/wedstrijd/18546
DTSTAMP:20260420T134027Z
SUMMARY:Bakel 2 - Eindhoven 1
DESCRIPTION:Baan 10\, Wedstrijdnummer 92\, Afdeling 1e klasse 
DTSTART:20170928T200000
DTEND:20170928T230000
LOCATION:City Resort Helmond
ATTACH;FMTTYPE=text/plain:https://hbb.rivio.dev/senioren/2017/wedstrijd/185
 46
END:VEVENT
BEGIN:VEVENT
UID:https://hbb.rivio.dev/senioren/2017/wedstrijd/18570
DTSTAMP:20260420T134027Z
SUMMARY:Eindhoven 1 - Heeze 1
DESCRIPTION:Baan 10\, Wedstrijdnummer 96\, Afdeling 1e klasse 
DTSTART:20171012T200000
DTEND:20171012T230000
LOCATION:City Resort Helmond
ATTACH;FMTTYPE=text/plain:https://hbb.rivio.dev/senioren/2017/wedstrijd/185
 70
END:VEVENT
BEGIN:VEVENT
UID:https://hbb.rivio.dev/senioren/2017/wedstrijd/18620
DTSTAMP:20260420T134027Z
SUMMARY:Mixed 4 - Eindhoven 1
DESCRIPTION:Baan 14\, Wedstrijdnummer 101\, Afdeling 1e klasse 
DTSTART:20171109T200000
DTEND:20171109T230000
LOCATION:City Resort Helmond
ATTACH;FMTTYPE=text/plain:https://hbb.rivio.dev/senioren/2017/wedstrijd/186
 20
END:VEVENT
BEGIN:VEVENT
UID:https://hbb.rivio.dev/senioren/2017/wedstrijd/18662
DTSTAMP:20260420T134027Z
SUMMARY:Eindhoven 1 - Mierlo 5
DESCRIPTION:Baan 13\, Wedstrijdnummer 105\, Afdeling 1e klasse 
DTSTART:20171123T200000
DTEND:20171123T230000
LOCATION:City Resort Helmond
ATTACH;FMTTYPE=text/plain:https://hbb.rivio.dev/senioren/2017/wedstrijd/186
 62
END:VEVENT
BEGIN:VEVENT
UID:https://hbb.rivio.dev/senioren/2017/wedstrijd/18902
DTSTAMP:20260420T134027Z
SUMMARY:Eindhoven 1 - Smashing Bruang 2
DESCRIPTION:Baan 15\, Wedstrijdnummer 1110\, Afdeling 1e klasse 
DTSTART:20171130T200000
DTEND:20171130T230000
LOCATION:City Resort Helmond
ATTACH;FMTTYPE=text/plain:https://hbb.rivio.dev/senioren/2017/wedstrijd/189
 02
END:VEVENT
BEGIN:VEVENT
UID:https://hbb.rivio.dev/senioren/2017/wedstrijd/18731
DTSTAMP:20260420T134027Z
SUMMARY:Con Brio 6 - Eindhoven 1
DESCRIPTION:Baan 3\, Wedstrijdnummer 113\, Afdeling 1e klasse 
DTSTART:20180111T200000
DTEND:20180111T230000
LOCATION:City Resort Helmond
ATTACH;FMTTYPE=text/plain:https://hbb.rivio.dev/senioren/2017/wedstrijd/187
 31
END:VEVENT
BEGIN:VEVENT
UID:https://hbb.rivio.dev/senioren/2017/wedstrijd/18753
DTSTAMP:20260420T134027Z
SUMMARY:Eindhoven 1 - Con Brio 5
DESCRIPTION:Baan 14\, Wedstrijdnummer 117\, Afdeling 1e klasse 
DTSTART:20180118T200000
DTEND:20180118T230000
LOCATION:City Resort Helmond
ATTACH;FMTTYPE=text/plain:https://hbb.rivio.dev/senioren/2017/wedstrijd/187
 53
END:VEVENT
BEGIN:VEVENT
UID:https://hbb.rivio.dev/senioren/2017/wedstrijd/18793
DTSTAMP:20260420T134027Z
SUMMARY:Eindhoven 1 - Bakel 2
DESCRIPTION:Baan 12\, Wedstrijdnummer 1092\, Afdeling 1e klasse 
DTSTART:20180201T200000
DTEND:20180201T230000
LOCATION:City Resort Helmond
ATTACH;FMTTYPE=text/plain:https://hbb.rivio.dev/senioren/2017/wedstrijd/187
 93
END:VEVENT
BEGIN:VEVENT
UID:https://hbb.rivio.dev/senioren/2017/wedstrijd/18834
DTSTAMP:20260420T134027Z
SUMMARY:Heeze 1 - Eindhoven 1
DESCRIPTION:Baan 12\, Wedstrijdnummer 1096\, Afdeling 1e klasse 
DTSTART:20180222T200000
DTEND:20180222T230000
LOCATION:City Resort Helmond
ATTACH;FMTTYPE=text/plain:https://hbb.rivio.dev/senioren/2017/wedstrijd/188
 34
END:VEVENT
BEGIN:VEVENT
UID:https://hbb.rivio.dev/senioren/2017/wedstrijd/18860
DTSTAMP:20260420T134027Z
SUMMARY:Eindhoven 1 - Mixed 4
DESCRIPTION:Baan 3\, Wedstrijdnummer 1101\, Afdeling 1e klasse 
DTSTART:20180308T200000
DTEND:20180308T230000
LOCATION:City Resort Helmond
ATTACH;FMTTYPE=text/plain:https://hbb.rivio.dev/senioren/2017/wedstrijd/188
 60
END:VEVENT
BEGIN:VEVENT
UID:https://hbb.rivio.dev/senioren/2017/wedstrijd/18883
DTSTAMP:20260420T134027Z
SUMMARY:Mierlo 5 - Eindhoven 1
DESCRIPTION:Baan 15\, Wedstrijdnummer 1105\, Afdeling 1e klasse 
DTSTART:20180315T200000
DTEND:20180315T230000
LOCATION:City Resort Helmond
ATTACH;FMTTYPE=text/plain:https://hbb.rivio.dev/senioren/2017/wedstrijd/188
 83
END:VEVENT
BEGIN:VEVENT
UID:https://hbb.rivio.dev/senioren/2017/wedstrijd/18685
DTSTAMP:20260420T134027Z
SUMMARY:Smashing Bruang 2 - Eindhoven 1
DESCRIPTION:Baan 11\, Wedstrijdnummer 110\, Afdeling 1e klasse 
DTSTART:20180329T200000
DTEND:20180329T230000
LOCATION:City Resort Helmond
ATTACH;FMTTYPE=text/plain:https://hbb.rivio.dev/senioren/2017/wedstrijd/186
 85
END:VEVENT
BEGIN:VEVENT
UID:https://hbb.rivio.dev/senioren/2017/wedstrijd/18914
DTSTAMP:20260420T134027Z
SUMMARY:Eindhoven 1 - Con Brio 6
DESCRIPTION:Baan 2\, Wedstrijdnummer 1113\, Afdeling 1e klasse 
DTSTART:20180419T200000
DTEND:20180419T230000
LOCATION:City Resort Helmond
ATTACH;FMTTYPE=text/plain:https://hbb.rivio.dev/senioren/2017/wedstrijd/189
 14
END:VEVENT
BEGIN:VEVENT
UID:https://hbb.rivio.dev/senioren/2017/wedstrijd/18927
DTSTAMP:20260420T134027Z
SUMMARY:Con Brio 5 - Eindhoven 1
DESCRIPTION:Baan 14\, Wedstrijdnummer 1117\, Afdeling 1e klasse 
DTSTART:20180516T200000
DTEND:20180516T230000
LOCATION:City Resort Helmond
ATTACH;FMTTYPE=text/plain:https://hbb.rivio.dev/senioren/2017/wedstrijd/189
 27
END:VEVENT
BEGIN:VTIMEZONE
TZID:Europe/Amsterdam
BEGIN:STANDARD
DTSTART:20170101T000000
TZNAME:CET
TZOFFSETTO:+0100
TZOFFSETFROM:+0100
END:STANDARD
BEGIN:DAYLIGHT
DTSTART:20170326T030000
TZNAME:CEST
TZOFFSETTO:+0200
TZOFFSETFROM:+0100
END:DAYLIGHT
BEGIN:STANDARD
DTSTART:20171029T020000
TZNAME:CET
TZOFFSETTO:+0100
TZOFFSETFROM:+0200
END:STANDARD
BEGIN:DAYLIGHT
DTSTART:20180325T030000
TZNAME:CEST
TZOFFSETTO:+0200
TZOFFSETFROM:+0100
END:DAYLIGHT
BEGIN:STANDARD
DTSTART:20181028T020000
TZNAME:CET
TZOFFSETTO:+0100
TZOFFSETFROM:+0200
END:STANDARD
END:VTIMEZONE
END:VCALENDAR
