BEGIN:VCALENDAR
PRODID:-//eluceo/ical//2.0/EN
VERSION:2.0
CALSCALE:GREGORIAN
BEGIN:VEVENT
UID:https://hbb.rivio.dev/senioren/2017/wedstrijd/18535
DTSTAMP:20260420T133851Z
SUMMARY:Brabantia 2 - Mixed 3
DESCRIPTION:Baan 5\, Wedstrijdnummer 78\, Afdeling Overgangsklasse II K
DTSTART:20170927T200000
DTEND:20170927T230000
LOCATION:City Resort Helmond
ATTACH;FMTTYPE=text/plain:https://hbb.rivio.dev/senioren/2017/wedstrijd/185
 35
END:VEVENT
BEGIN:VEVENT
UID:https://hbb.rivio.dev/senioren/2017/wedstrijd/18593
DTSTAMP:20260420T133851Z
SUMMARY:Brabantia 2 - RBC 1
DESCRIPTION:Baan 13\, Wedstrijdnummer 79\, Afdeling Overgangsklasse II K
DTSTART:20171012T200000
DTEND:20171012T230000
LOCATION:City Resort Helmond
ATTACH;FMTTYPE=text/plain:https://hbb.rivio.dev/senioren/2017/wedstrijd/185
 93
END:VEVENT
BEGIN:VEVENT
UID:https://hbb.rivio.dev/senioren/2017/wedstrijd/18602
DTSTAMP:20260420T133851Z
SUMMARY:Mierlo 3 - Brabantia 2
DESCRIPTION:Baan 3\, Wedstrijdnummer 83\, Afdeling Overgangsklasse II K
DTSTART:20171108T200000
DTEND:20171108T230000
LOCATION:City Resort Helmond
ATTACH;FMTTYPE=text/plain:https://hbb.rivio.dev/senioren/2017/wedstrijd/186
 02
END:VEVENT
BEGIN:VEVENT
UID:https://hbb.rivio.dev/senioren/2017/wedstrijd/18637
DTSTAMP:20260420T133851Z
SUMMARY:Brabantia 2 - Veldhoven 1
DESCRIPTION:Baan 5\, Wedstrijdnummer 87\, Afdeling Overgangsklasse II K
DTSTART:20171116T200000
DTEND:20171116T230000
LOCATION:City Resort Helmond
ATTACH;FMTTYPE=text/plain:https://hbb.rivio.dev/senioren/2017/wedstrijd/186
 37
END:VEVENT
BEGIN:VEVENT
UID:https://hbb.rivio.dev/senioren/2017/wedstrijd/18674
DTSTAMP:20260420T133851Z
SUMMARY:Mixed 3 - Brabantia 2
DESCRIPTION:Baan 15\, Wedstrijdnummer 1078\, Afdeling Overgangsklasse II K
DTSTART:20171129T200000
DTEND:20171129T230000
LOCATION:City Resort Helmond
ATTACH;FMTTYPE=text/plain:https://hbb.rivio.dev/senioren/2017/wedstrijd/186
 74
END:VEVENT
BEGIN:VEVENT
UID:https://hbb.rivio.dev/senioren/2017/wedstrijd/18694
DTSTAMP:20260420T133851Z
SUMMARY:BCAB 3 - Brabantia 2
DESCRIPTION:Baan 13\, Wedstrijdnummer 90\, Afdeling Overgangsklasse II D
DTSTART:20171207T200000
DTEND:20171207T230000
LOCATION:City Resort Helmond
ATTACH;FMTTYPE=text/plain:https://hbb.rivio.dev/senioren/2017/wedstrijd/186
 94
END:VEVENT
BEGIN:VEVENT
UID:https://hbb.rivio.dev/senioren/2017/wedstrijd/18768
DTSTAMP:20260420T133851Z
SUMMARY:RBC 1 - Brabantia 2
DESCRIPTION:Baan 4\, Wedstrijdnummer 1079\, Afdeling Overgangsklasse II D
DTSTART:20180125T200000
DTEND:20180125T230000
LOCATION:City Resort Helmond
ATTACH;FMTTYPE=text/plain:https://hbb.rivio.dev/senioren/2017/wedstrijd/187
 68
END:VEVENT
BEGIN:VEVENT
UID:https://hbb.rivio.dev/senioren/2017/wedstrijd/18802
DTSTAMP:20260420T133851Z
SUMMARY:Brabantia 2 - Mierlo 3
DESCRIPTION:Baan 11\, Wedstrijdnummer 1083\, Afdeling Overgangsklasse II K
DTSTART:20180207T200000
DTEND:20180207T230000
LOCATION:City Resort Helmond
ATTACH;FMTTYPE=text/plain:https://hbb.rivio.dev/senioren/2017/wedstrijd/188
 02
END:VEVENT
BEGIN:VEVENT
UID:https://hbb.rivio.dev/senioren/2017/wedstrijd/18852
DTSTAMP:20260420T133851Z
SUMMARY:Veldhoven 1 - Brabantia 2
DESCRIPTION:Baan 10\, Wedstrijdnummer 1087\, Afdeling Overgangsklasse II D
DTSTART:20180301T200000
DTEND:20180301T230000
LOCATION:City Resort Helmond
ATTACH;FMTTYPE=text/plain:https://hbb.rivio.dev/senioren/2017/wedstrijd/188
 52
END:VEVENT
BEGIN:VEVENT
UID:https://hbb.rivio.dev/senioren/2017/wedstrijd/18873
DTSTAMP:20260420T133851Z
SUMMARY:Brabantia 2 - BCAB 3
DESCRIPTION:Baan 1\, Wedstrijdnummer 1090\, Afdeling Overgangsklasse II K
DTSTART:20180315T200000
DTEND:20180315T230000
LOCATION:City Resort Helmond
ATTACH;FMTTYPE=text/plain:https://hbb.rivio.dev/senioren/2017/wedstrijd/188
 73
END:VEVENT
BEGIN:VEVENT
UID:https://hbb.rivio.dev/senioren/2017/wedstrijd/20162
DTSTAMP:20260420T133851Z
SUMMARY:Brabantia 2 - Mierlo 3
DESCRIPTION:Baan 4\, Wedstrijdnummer 1332\, Afdeling Overgangsklasse II K
DTSTART:20180322T200000
DTEND:20180322T230000
LOCATION:City Resort Helmond
ATTACH;FMTTYPE=text/plain:https://hbb.rivio.dev/senioren/2017/wedstrijd/201
 62
END:VEVENT
BEGIN:VEVENT
UID:https://hbb.rivio.dev/senioren/2017/wedstrijd/20163
DTSTAMP:20260420T133851Z
SUMMARY:Mixed 3 - Brabantia 2
DESCRIPTION:Baan 14\, Wedstrijdnummer 1334\, Afdeling Overgangsklasse II K
DTSTART:20180404T200000
DTEND:20180404T230000
LOCATION:City Resort Helmond
ATTACH;FMTTYPE=text/plain:https://hbb.rivio.dev/senioren/2017/wedstrijd/201
 63
END:VEVENT
BEGIN:VTIMEZONE
TZID:Europe/Amsterdam
BEGIN:STANDARD
DTSTART:20170101T000000
TZNAME:CET
TZOFFSETTO:+0100
TZOFFSETFROM:+0100
END:STANDARD
BEGIN:DAYLIGHT
DTSTART:20170326T030000
TZNAME:CEST
TZOFFSETTO:+0200
TZOFFSETFROM:+0100
END:DAYLIGHT
BEGIN:STANDARD
DTSTART:20171029T020000
TZNAME:CET
TZOFFSETTO:+0100
TZOFFSETFROM:+0200
END:STANDARD
BEGIN:DAYLIGHT
DTSTART:20180325T030000
TZNAME:CEST
TZOFFSETTO:+0200
TZOFFSETFROM:+0100
END:DAYLIGHT
BEGIN:STANDARD
DTSTART:20181028T020000
TZNAME:CET
TZOFFSETTO:+0100
TZOFFSETFROM:+0200
END:STANDARD
END:VTIMEZONE
END:VCALENDAR
