BEGIN:VCALENDAR
PRODID:-//eluceo/ical//2.0/EN
VERSION:2.0
CALSCALE:GREGORIAN
BEGIN:VEVENT
UID:https://hbb.rivio.dev/senioren/2017/wedstrijd/18521
DTSTAMP:20260420T090318Z
SUMMARY:Heeze 2 - Hanevoet 4
DESCRIPTION:Baan 2\, Wedstrijdnummer 191\, Afdeling 3e klasse II D
DTSTART:20170921T200000
DTEND:20170921T230000
LOCATION:City Resort Helmond
ATTACH;FMTTYPE=text/plain:https://hbb.rivio.dev/senioren/2017/wedstrijd/185
 21
END:VEVENT
BEGIN:VEVENT
UID:https://hbb.rivio.dev/senioren/2017/wedstrijd/18583
DTSTAMP:20260420T090318Z
SUMMARY:Heeze 2 - Ganzeveer 3
DESCRIPTION:Baan 14\, Wedstrijdnummer 196\, Afdeling 3e klasse II D
DTSTART:20171011T200000
DTEND:20171011T230000
LOCATION:City Resort Helmond
ATTACH;FMTTYPE=text/plain:https://hbb.rivio.dev/senioren/2017/wedstrijd/185
 83
END:VEVENT
BEGIN:VEVENT
UID:https://hbb.rivio.dev/senioren/2017/wedstrijd/18603
DTSTAMP:20260420T090318Z
SUMMARY:Mierlo 8 - Heeze 2
DESCRIPTION:Baan 4\, Wedstrijdnummer 195\, Afdeling 3e klasse II D
DTSTART:20171108T200000
DTEND:20171108T230000
LOCATION:City Resort Helmond
ATTACH;FMTTYPE=text/plain:https://hbb.rivio.dev/senioren/2017/wedstrijd/186
 03
END:VEVENT
BEGIN:VEVENT
UID:https://hbb.rivio.dev/senioren/2017/wedstrijd/18653
DTSTAMP:20260420T090318Z
SUMMARY:Heeze 2 - Dommelen 3
DESCRIPTION:Baan 15\, Wedstrijdnummer 204\, Afdeling 3e klasse II D
DTSTART:20171122T200000
DTEND:20171122T230000
LOCATION:City Resort Helmond
ATTACH;FMTTYPE=text/plain:https://hbb.rivio.dev/senioren/2017/wedstrijd/186
 53
END:VEVENT
BEGIN:VEVENT
UID:https://hbb.rivio.dev/senioren/2017/wedstrijd/18675
DTSTAMP:20260420T090318Z
SUMMARY:Someren 2 - Heeze 2
DESCRIPTION:Baan 1\, Wedstrijdnummer 200\, Afdeling 3e klasse II K
DTSTART:20171130T200000
DTEND:20171130T230000
LOCATION:City Resort Helmond
ATTACH;FMTTYPE=text/plain:https://hbb.rivio.dev/senioren/2017/wedstrijd/186
 75
END:VEVENT
BEGIN:VEVENT
UID:https://hbb.rivio.dev/senioren/2017/wedstrijd/18727
DTSTAMP:20260420T090318Z
SUMMARY:Hanevoet 4 - Heeze 2
DESCRIPTION:Baan 14\, Wedstrijdnummer 1191\, Afdeling 3e klasse II K
DTSTART:20171221T200000
DTEND:20171221T230000
LOCATION:City Resort Helmond
ATTACH;FMTTYPE=text/plain:https://hbb.rivio.dev/senioren/2017/wedstrijd/187
 27
END:VEVENT
BEGIN:VEVENT
UID:https://hbb.rivio.dev/senioren/2017/wedstrijd/18772
DTSTAMP:20260420T090318Z
SUMMARY:Heeze 2 - Mierlo 8
DESCRIPTION:Baan 12\, Wedstrijdnummer 1195\, Afdeling 3e klasse II D
DTSTART:20180125T200000
DTEND:20180125T230000
LOCATION:City Resort Helmond
ATTACH;FMTTYPE=text/plain:https://hbb.rivio.dev/senioren/2017/wedstrijd/187
 72
END:VEVENT
BEGIN:VEVENT
UID:https://hbb.rivio.dev/senioren/2017/wedstrijd/18784
DTSTAMP:20260420T090318Z
SUMMARY:Ganzeveer 3 - Heeze 2
DESCRIPTION:Baan 14\, Wedstrijdnummer 1196\, Afdeling 3e klasse II D
DTSTART:20180131T200000
DTEND:20180131T230000
LOCATION:City Resort Helmond
ATTACH;FMTTYPE=text/plain:https://hbb.rivio.dev/senioren/2017/wedstrijd/187
 84
END:VEVENT
BEGIN:VEVENT
UID:https://hbb.rivio.dev/senioren/2017/wedstrijd/18853
DTSTAMP:20260420T090318Z
SUMMARY:Heeze 2 - Someren 2
DESCRIPTION:Baan 11\, Wedstrijdnummer 1200\, Afdeling 3e klasse II D
DTSTART:20180301T200000
DTEND:20180301T230000
LOCATION:City Resort Helmond
ATTACH;FMTTYPE=text/plain:https://hbb.rivio.dev/senioren/2017/wedstrijd/188
 53
END:VEVENT
BEGIN:VEVENT
UID:https://hbb.rivio.dev/senioren/2017/wedstrijd/18869
DTSTAMP:20260420T090318Z
SUMMARY:Dommelen 3 - Heeze 2
DESCRIPTION:Baan 1\, Wedstrijdnummer 1204\, Afdeling 3e klasse II K
DTSTART:20180314T200000
DTEND:20180314T230000
LOCATION:City Resort Helmond
ATTACH;FMTTYPE=text/plain:https://hbb.rivio.dev/senioren/2017/wedstrijd/188
 69
END:VEVENT
BEGIN:VEVENT
UID:https://hbb.rivio.dev/senioren/2017/wedstrijd/20169
DTSTAMP:20260420T090318Z
SUMMARY:Heeze 2 - Ganzeveer 3
DESCRIPTION:Baan 15\, Wedstrijdnummer 1347\, Afdeling 3e klasse II D
DTSTART:20180328T200000
DTEND:20180328T230000
LOCATION:City Resort Helmond
ATTACH;FMTTYPE=text/plain:https://hbb.rivio.dev/senioren/2017/wedstrijd/201
 69
END:VEVENT
BEGIN:VEVENT
UID:https://hbb.rivio.dev/senioren/2017/wedstrijd/20170
DTSTAMP:20260420T090318Z
SUMMARY:Mierlo 8 - Heeze 2
DESCRIPTION:Baan 13\, Wedstrijdnummer 1349\, Afdeling 3e klasse II D
DTSTART:20180418T200000
DTEND:20180418T230000
LOCATION:City Resort Helmond
ATTACH;FMTTYPE=text/plain:https://hbb.rivio.dev/senioren/2017/wedstrijd/201
 70
END:VEVENT
BEGIN:VTIMEZONE
TZID:Europe/Amsterdam
BEGIN:STANDARD
DTSTART:20170101T000000
TZNAME:CET
TZOFFSETTO:+0100
TZOFFSETFROM:+0100
END:STANDARD
BEGIN:DAYLIGHT
DTSTART:20170326T030000
TZNAME:CEST
TZOFFSETTO:+0200
TZOFFSETFROM:+0100
END:DAYLIGHT
BEGIN:STANDARD
DTSTART:20171029T020000
TZNAME:CET
TZOFFSETTO:+0100
TZOFFSETFROM:+0200
END:STANDARD
BEGIN:DAYLIGHT
DTSTART:20180325T030000
TZNAME:CEST
TZOFFSETTO:+0200
TZOFFSETFROM:+0100
END:DAYLIGHT
BEGIN:STANDARD
DTSTART:20181028T020000
TZNAME:CET
TZOFFSETTO:+0100
TZOFFSETFROM:+0200
END:STANDARD
END:VTIMEZONE
END:VCALENDAR
