BEGIN:VCALENDAR
PRODID:-//eluceo/ical//2.0/EN
VERSION:2.0
CALSCALE:GREGORIAN
BEGIN:VEVENT
UID:https://hbb.rivio.dev/jeugd/2017/wedstrijd/19745
DTSTAMP:20260420T234201Z
SUMMARY:Bakel 2 - BCAB 1
DESCRIPTION:Baan 2\, Afdeling B-klasse 
DTSTART:20170924T093000
DTEND:20170924T111500
LOCATION:City Resort Helmond
ATTACH;FMTTYPE=text/plain:https://hbb.rivio.dev/jeugd/2017/wedstrijd/19745
END:VEVENT
BEGIN:VEVENT
UID:https://hbb.rivio.dev/jeugd/2017/wedstrijd/19784
DTSTAMP:20260420T234201Z
SUMMARY:Mixed 3 - BCAB 1
DESCRIPTION:Baan 2\, Afdeling B-klasse 
DTSTART:20171008T093000
DTEND:20171008T111500
LOCATION:City Resort Helmond
ATTACH;FMTTYPE=text/plain:https://hbb.rivio.dev/jeugd/2017/wedstrijd/19784
END:VEVENT
BEGIN:VEVENT
UID:https://hbb.rivio.dev/jeugd/2017/wedstrijd/19801
DTSTAMP:20260420T234201Z
SUMMARY:BCAB 1 - Mixed 2
DESCRIPTION:Baan 1\, Afdeling B-klasse 
DTSTART:20171029T093000
DTEND:20171029T111500
LOCATION:City Resort Helmond
ATTACH;FMTTYPE=text/plain:https://hbb.rivio.dev/jeugd/2017/wedstrijd/19801
END:VEVENT
BEGIN:VEVENT
UID:https://hbb.rivio.dev/jeugd/2017/wedstrijd/19819
DTSTAMP:20260420T234201Z
SUMMARY:Mierlo 3 - BCAB 1
DESCRIPTION:Baan 3\, Afdeling B-klasse 
DTSTART:20171112T093000
DTEND:20171112T111500
LOCATION:City Resort Helmond
ATTACH;FMTTYPE=text/plain:https://hbb.rivio.dev/jeugd/2017/wedstrijd/19819
END:VEVENT
BEGIN:VEVENT
UID:https://hbb.rivio.dev/jeugd/2017/wedstrijd/19854
DTSTAMP:20260420T234201Z
SUMMARY:BCAB 1 - BCV '73 2
DESCRIPTION:Baan 3\, Afdeling B-klasse 
DTSTART:20171210T093000
DTEND:20171210T111500
LOCATION:City Resort Helmond
ATTACH;FMTTYPE=text/plain:https://hbb.rivio.dev/jeugd/2017/wedstrijd/19854
END:VEVENT
BEGIN:VEVENT
UID:https://hbb.rivio.dev/jeugd/2017/wedstrijd/19887
DTSTAMP:20260420T234201Z
SUMMARY:BCAB 1 - Bakel 2
DESCRIPTION:Baan 1\, Afdeling B-klasse 
DTSTART:20180114T093000
DTEND:20180114T111500
LOCATION:City Resort Helmond
ATTACH;FMTTYPE=text/plain:https://hbb.rivio.dev/jeugd/2017/wedstrijd/19887
END:VEVENT
BEGIN:VEVENT
UID:https://hbb.rivio.dev/jeugd/2017/wedstrijd/19908
DTSTAMP:20260420T234201Z
SUMMARY:BCAB 1 - Mixed 3
DESCRIPTION:Baan 3\, Afdeling B-klasse 
DTSTART:20180121T093000
DTEND:20180121T111500
LOCATION:City Resort Helmond
ATTACH;FMTTYPE=text/plain:https://hbb.rivio.dev/jeugd/2017/wedstrijd/19908
END:VEVENT
BEGIN:VEVENT
UID:https://hbb.rivio.dev/jeugd/2017/wedstrijd/19977
DTSTAMP:20260420T234201Z
SUMMARY:Mixed 2 - BCAB 1
DESCRIPTION:Baan 2\, Afdeling B-klasse 
DTSTART:20180318T093000
DTEND:20180318T111500
LOCATION:City Resort Helmond
ATTACH;FMTTYPE=text/plain:https://hbb.rivio.dev/jeugd/2017/wedstrijd/19977
END:VEVENT
BEGIN:VEVENT
UID:https://hbb.rivio.dev/jeugd/2017/wedstrijd/20031
DTSTAMP:20260420T234201Z
SUMMARY:BCAB 1 - Mierlo 3
DESCRIPTION:Baan 1\, Afdeling B-klasse 
DTSTART:20180408T093000
DTEND:20180408T111500
LOCATION:City Resort Helmond
ATTACH;FMTTYPE=text/plain:https://hbb.rivio.dev/jeugd/2017/wedstrijd/20031
END:VEVENT
BEGIN:VEVENT
UID:https://hbb.rivio.dev/jeugd/2017/wedstrijd/20061
DTSTAMP:20260420T234201Z
SUMMARY:BCV '73 2 - BCAB 1
DESCRIPTION:Baan 3\, Afdeling B-klasse 
DTSTART:20180415T093000
DTEND:20180415T111500
LOCATION:City Resort Helmond
ATTACH;FMTTYPE=text/plain:https://hbb.rivio.dev/jeugd/2017/wedstrijd/20061
END:VEVENT
BEGIN:VTIMEZONE
TZID:Europe/Amsterdam
BEGIN:STANDARD
DTSTART:20170101T000000
TZNAME:CET
TZOFFSETTO:+0100
TZOFFSETFROM:+0100
END:STANDARD
BEGIN:DAYLIGHT
DTSTART:20170326T030000
TZNAME:CEST
TZOFFSETTO:+0200
TZOFFSETFROM:+0100
END:DAYLIGHT
BEGIN:STANDARD
DTSTART:20171029T020000
TZNAME:CET
TZOFFSETTO:+0100
TZOFFSETFROM:+0200
END:STANDARD
BEGIN:DAYLIGHT
DTSTART:20180325T030000
TZNAME:CEST
TZOFFSETTO:+0200
TZOFFSETFROM:+0100
END:DAYLIGHT
BEGIN:STANDARD
DTSTART:20181028T020000
TZNAME:CET
TZOFFSETTO:+0100
TZOFFSETFROM:+0200
END:STANDARD
END:VTIMEZONE
END:VCALENDAR
