BEGIN:VCALENDAR
PRODID:-//eluceo/ical//2.0/EN
VERSION:2.0
CALSCALE:GREGORIAN
BEGIN:VEVENT
UID:https://hbb.rivio.dev/jeugd/2017/wedstrijd/19725
DTSTAMP:20260420T133710Z
SUMMARY:BCV '73 3 - Mixed 4
DESCRIPTION:Baan 3\, Afdeling C-klasse 
DTSTART:20170917T093000
DTEND:20170917T111500
LOCATION:City Resort Helmond
ATTACH;FMTTYPE=text/plain:https://hbb.rivio.dev/jeugd/2017/wedstrijd/19725
END:VEVENT
BEGIN:VEVENT
UID:https://hbb.rivio.dev/jeugd/2017/wedstrijd/19728
DTSTAMP:20260420T133710Z
SUMMARY:BCV '73 3 - Phoenix 1
DESCRIPTION:Baan 3\, Afdeling C-klasse 
DTSTART:20170917T111500
DTEND:20170917T130000
LOCATION:City Resort Helmond
ATTACH;FMTTYPE=text/plain:https://hbb.rivio.dev/jeugd/2017/wedstrijd/19728
END:VEVENT
BEGIN:VEVENT
UID:https://hbb.rivio.dev/jeugd/2017/wedstrijd/19772
DTSTAMP:20260420T133710Z
SUMMARY:BCV '73 3 - Mierlo 4
DESCRIPTION:Baan 5\, Afdeling C-klasse 
DTSTART:20171001T111500
DTEND:20171001T130000
LOCATION:City Resort Helmond
ATTACH;FMTTYPE=text/plain:https://hbb.rivio.dev/jeugd/2017/wedstrijd/19772
END:VEVENT
BEGIN:VEVENT
UID:https://hbb.rivio.dev/jeugd/2017/wedstrijd/19808
DTSTAMP:20260420T133710Z
SUMMARY:Mierlo 5 - BCV '73 3
DESCRIPTION:Baan 12\, Afdeling C-klasse 
DTSTART:20171029T093000
DTEND:20171029T111500
LOCATION:City Resort Helmond
ATTACH;FMTTYPE=text/plain:https://hbb.rivio.dev/jeugd/2017/wedstrijd/19808
END:VEVENT
BEGIN:VEVENT
UID:https://hbb.rivio.dev/jeugd/2017/wedstrijd/19811
DTSTAMP:20260420T133710Z
SUMMARY:Mixed 4 - BCV '73 3
DESCRIPTION:Baan 12\, Afdeling C-klasse 
DTSTART:20171029T111500
DTEND:20171029T130000
LOCATION:City Resort Helmond
ATTACH;FMTTYPE=text/plain:https://hbb.rivio.dev/jeugd/2017/wedstrijd/19811
END:VEVENT
BEGIN:VEVENT
UID:https://hbb.rivio.dev/jeugd/2017/wedstrijd/19835
DTSTAMP:20260420T133710Z
SUMMARY:Phoenix 1 - BCV '73 3
DESCRIPTION:Baan 12\, Afdeling C-klasse 
DTSTART:20171126T093000
DTEND:20171126T111500
LOCATION:City Resort Helmond
ATTACH;FMTTYPE=text/plain:https://hbb.rivio.dev/jeugd/2017/wedstrijd/19835
END:VEVENT
BEGIN:VEVENT
UID:https://hbb.rivio.dev/jeugd/2017/wedstrijd/19897
DTSTAMP:20260420T133710Z
SUMMARY:BCV '73 3 - Mierlo 5
DESCRIPTION:Baan 12\, Afdeling C-klasse 
DTSTART:20180114T111500
DTEND:20180114T130000
LOCATION:City Resort Helmond
ATTACH;FMTTYPE=text/plain:https://hbb.rivio.dev/jeugd/2017/wedstrijd/19897
END:VEVENT
BEGIN:VEVENT
UID:https://hbb.rivio.dev/jeugd/2017/wedstrijd/19893
DTSTAMP:20260420T133710Z
SUMMARY:Mierlo 4 - BCV '73 3
DESCRIPTION:Baan 11\, Afdeling C-klasse 
DTSTART:20180114T093000
DTEND:20180114T111500
LOCATION:City Resort Helmond
ATTACH;FMTTYPE=text/plain:https://hbb.rivio.dev/jeugd/2017/wedstrijd/19893
END:VEVENT
BEGIN:VEVENT
UID:https://hbb.rivio.dev/jeugd/2017/wedstrijd/19955
DTSTAMP:20260420T133710Z
SUMMARY:BCV '73 3 - Mixed 4
DESCRIPTION:Baan 14\, Afdeling C-klasse 
DTSTART:20180311T093000
DTEND:20180311T111500
LOCATION:City Resort Helmond
ATTACH;FMTTYPE=text/plain:https://hbb.rivio.dev/jeugd/2017/wedstrijd/19955
END:VEVENT
BEGIN:VEVENT
UID:https://hbb.rivio.dev/jeugd/2017/wedstrijd/19961
DTSTAMP:20260420T133710Z
SUMMARY:BCV '73 3 - Phoenix 1
DESCRIPTION:Baan 14\, Afdeling C-klasse 
DTSTART:20180311T111500
DTEND:20180311T130000
LOCATION:City Resort Helmond
ATTACH;FMTTYPE=text/plain:https://hbb.rivio.dev/jeugd/2017/wedstrijd/19961
END:VEVENT
BEGIN:VEVENT
UID:https://hbb.rivio.dev/jeugd/2017/wedstrijd/20010
DTSTAMP:20260420T133710Z
SUMMARY:BCV '73 3 - Mierlo 4
DESCRIPTION:Baan 3\, Afdeling C-klasse 
DTSTART:20180325T111500
DTEND:20180325T130000
LOCATION:City Resort Helmond
ATTACH;FMTTYPE=text/plain:https://hbb.rivio.dev/jeugd/2017/wedstrijd/20010
END:VEVENT
BEGIN:VEVENT
UID:https://hbb.rivio.dev/jeugd/2017/wedstrijd/20092
DTSTAMP:20260420T133710Z
SUMMARY:Mierlo 5 - BCV '73 3
DESCRIPTION:Baan 5\, Afdeling C-klasse 
DTSTART:20180422T093000
DTEND:20180422T111500
LOCATION:City Resort Helmond
ATTACH;FMTTYPE=text/plain:https://hbb.rivio.dev/jeugd/2017/wedstrijd/20092
END:VEVENT
BEGIN:VTIMEZONE
TZID:Europe/Amsterdam
BEGIN:STANDARD
DTSTART:20170101T000000
TZNAME:CET
TZOFFSETTO:+0100
TZOFFSETFROM:+0100
END:STANDARD
BEGIN:DAYLIGHT
DTSTART:20170326T030000
TZNAME:CEST
TZOFFSETTO:+0200
TZOFFSETFROM:+0100
END:DAYLIGHT
BEGIN:STANDARD
DTSTART:20171029T020000
TZNAME:CET
TZOFFSETTO:+0100
TZOFFSETFROM:+0200
END:STANDARD
BEGIN:DAYLIGHT
DTSTART:20180325T030000
TZNAME:CEST
TZOFFSETTO:+0200
TZOFFSETFROM:+0100
END:DAYLIGHT
BEGIN:STANDARD
DTSTART:20181028T020000
TZNAME:CET
TZOFFSETTO:+0100
TZOFFSETFROM:+0200
END:STANDARD
END:VTIMEZONE
END:VCALENDAR
