BEGIN:VCALENDAR
PRODID:-//eluceo/ical//2.0/EN
VERSION:2.0
CALSCALE:GREGORIAN
BEGIN:VEVENT
UID:https://hbb.rivio.dev/senioren/2017/wedstrijd/18533
DTSTAMP:20260420T151246Z
SUMMARY:RBC 1 - Mierlo 3
DESCRIPTION:Baan 3\, Wedstrijdnummer 76\, Afdeling Overgangsklasse II D
DTSTART:20170927T200000
DTEND:20170927T230000
LOCATION:City Resort Helmond
ATTACH;FMTTYPE=text/plain:https://hbb.rivio.dev/senioren/2017/wedstrijd/185
 33
END:VEVENT
BEGIN:VEVENT
UID:https://hbb.rivio.dev/senioren/2017/wedstrijd/18593
DTSTAMP:20260420T151246Z
SUMMARY:Brabantia 2 - RBC 1
DESCRIPTION:Baan 13\, Wedstrijdnummer 79\, Afdeling Overgangsklasse II K
DTSTART:20171012T200000
DTEND:20171012T230000
LOCATION:City Resort Helmond
ATTACH;FMTTYPE=text/plain:https://hbb.rivio.dev/senioren/2017/wedstrijd/185
 93
END:VEVENT
BEGIN:VEVENT
UID:https://hbb.rivio.dev/senioren/2017/wedstrijd/18617
DTSTAMP:20260420T151246Z
SUMMARY:BCAB 3 - RBC 1
DESCRIPTION:Baan 11\, Wedstrijdnummer 82\, Afdeling Overgangsklasse II D
DTSTART:20171109T200000
DTEND:20171109T230000
LOCATION:City Resort Helmond
ATTACH;FMTTYPE=text/plain:https://hbb.rivio.dev/senioren/2017/wedstrijd/186
 17
END:VEVENT
BEGIN:VEVENT
UID:https://hbb.rivio.dev/senioren/2017/wedstrijd/18635
DTSTAMP:20260420T151246Z
SUMMARY:Mixed 3 - RBC 1
DESCRIPTION:Baan 3\, Wedstrijdnummer 85\, Afdeling Overgangsklasse II K
DTSTART:20171116T200000
DTEND:20171116T230000
LOCATION:City Resort Helmond
ATTACH;FMTTYPE=text/plain:https://hbb.rivio.dev/senioren/2017/wedstrijd/186
 35
END:VEVENT
BEGIN:VEVENT
UID:https://hbb.rivio.dev/senioren/2017/wedstrijd/18673
DTSTAMP:20260420T151247Z
SUMMARY:Mierlo 3 - RBC 1
DESCRIPTION:Baan 14\, Wedstrijdnummer 1076\, Afdeling Overgangsklasse II K
DTSTART:20171129T200000
DTEND:20171129T230000
LOCATION:City Resort Helmond
ATTACH;FMTTYPE=text/plain:https://hbb.rivio.dev/senioren/2017/wedstrijd/186
 73
END:VEVENT
BEGIN:VEVENT
UID:https://hbb.rivio.dev/senioren/2017/wedstrijd/18693
DTSTAMP:20260420T151247Z
SUMMARY:RBC 1 - Veldhoven 1
DESCRIPTION:Baan 12\, Wedstrijdnummer 88\, Afdeling Overgangsklasse II D
DTSTART:20171207T200000
DTEND:20171207T230000
LOCATION:City Resort Helmond
ATTACH;FMTTYPE=text/plain:https://hbb.rivio.dev/senioren/2017/wedstrijd/186
 93
END:VEVENT
BEGIN:VEVENT
UID:https://hbb.rivio.dev/senioren/2017/wedstrijd/18768
DTSTAMP:20260420T151247Z
SUMMARY:RBC 1 - Brabantia 2
DESCRIPTION:Baan 4\, Wedstrijdnummer 1079\, Afdeling Overgangsklasse II D
DTSTART:20180125T200000
DTEND:20180125T230000
LOCATION:City Resort Helmond
ATTACH;FMTTYPE=text/plain:https://hbb.rivio.dev/senioren/2017/wedstrijd/187
 68
END:VEVENT
BEGIN:VEVENT
UID:https://hbb.rivio.dev/senioren/2017/wedstrijd/18808
DTSTAMP:20260420T151247Z
SUMMARY:RBC 1 - BCAB 3
DESCRIPTION:Baan 2\, Wedstrijdnummer 1082\, Afdeling Overgangsklasse II D
DTSTART:20180208T200000
DTEND:20180208T230000
LOCATION:City Resort Helmond
ATTACH;FMTTYPE=text/plain:https://hbb.rivio.dev/senioren/2017/wedstrijd/188
 08
END:VEVENT
BEGIN:VEVENT
UID:https://hbb.rivio.dev/senioren/2017/wedstrijd/18844
DTSTAMP:20260420T151247Z
SUMMARY:RBC 1 - Mixed 3
DESCRIPTION:Baan 13\, Wedstrijdnummer 1085\, Afdeling Overgangsklasse II D
DTSTART:20180228T200000
DTEND:20180228T230000
LOCATION:City Resort Helmond
ATTACH;FMTTYPE=text/plain:https://hbb.rivio.dev/senioren/2017/wedstrijd/188
 44
END:VEVENT
BEGIN:VEVENT
UID:https://hbb.rivio.dev/senioren/2017/wedstrijd/18874
DTSTAMP:20260420T151247Z
SUMMARY:Veldhoven 1 - RBC 1
DESCRIPTION:Baan 2\, Wedstrijdnummer 1088\, Afdeling Overgangsklasse II D
DTSTART:20180315T200000
DTEND:20180315T230000
LOCATION:City Resort Helmond
ATTACH;FMTTYPE=text/plain:https://hbb.rivio.dev/senioren/2017/wedstrijd/188
 74
END:VEVENT
BEGIN:VEVENT
UID:https://hbb.rivio.dev/senioren/2017/wedstrijd/20165
DTSTAMP:20260420T151247Z
SUMMARY:BCAB 3 - RBC 1
DESCRIPTION:Baan 5\, Wedstrijdnummer 1333\, Afdeling Overgangsklasse II D
DTSTART:20180322T200000
DTEND:20180322T230000
LOCATION:City Resort Helmond
ATTACH;FMTTYPE=text/plain:https://hbb.rivio.dev/senioren/2017/wedstrijd/201
 65
END:VEVENT
BEGIN:VEVENT
UID:https://hbb.rivio.dev/senioren/2017/wedstrijd/20167
DTSTAMP:20260420T151247Z
SUMMARY:RBC 1 - Veldhoven 1
DESCRIPTION:Baan 11\, Wedstrijdnummer 1337\, Afdeling Overgangsklasse II D
DTSTART:20180418T200000
DTEND:20180418T230000
LOCATION:City Resort Helmond
ATTACH;FMTTYPE=text/plain:https://hbb.rivio.dev/senioren/2017/wedstrijd/201
 67
END:VEVENT
BEGIN:VTIMEZONE
TZID:Europe/Amsterdam
BEGIN:STANDARD
DTSTART:20170101T000000
TZNAME:CET
TZOFFSETTO:+0100
TZOFFSETFROM:+0100
END:STANDARD
BEGIN:DAYLIGHT
DTSTART:20170326T030000
TZNAME:CEST
TZOFFSETTO:+0200
TZOFFSETFROM:+0100
END:DAYLIGHT
BEGIN:STANDARD
DTSTART:20171029T020000
TZNAME:CET
TZOFFSETTO:+0100
TZOFFSETFROM:+0200
END:STANDARD
BEGIN:DAYLIGHT
DTSTART:20180325T030000
TZNAME:CEST
TZOFFSETTO:+0200
TZOFFSETFROM:+0100
END:DAYLIGHT
BEGIN:STANDARD
DTSTART:20181028T020000
TZNAME:CET
TZOFFSETTO:+0100
TZOFFSETFROM:+0200
END:STANDARD
END:VTIMEZONE
END:VCALENDAR
